BEGIN:VCALENDAR
VERSION:2.0
PRODID:IEEE vTools.Events//EN
CALSCALE:GREGORIAN
BEGIN:VTIMEZONE
TZID:America/Argentina/Buenos_Aires
BEGIN:DAYLIGHT
DTSTART:20380119T001407
TZOFFSETFROM:-0300
TZOFFSETTO:-0300
RRULE:FREQ=YEARLY;BYDAY=3TU;BYMONTH=1
TZNAME:-03
END:DAYLIGHT
BEGIN:STANDARD
DTSTART:20090314T230000
TZOFFSETFROM:-0200
TZOFFSETTO:-0300
RRULE:FREQ=YEARLY;BYDAY=2SA;BYMONTH=3
TZNAME:-03
END:STANDARD
END:VTIMEZONE
BEGIN:VEVENT
DTSTAMP:20211201T200926Z
UID:FC1EBA6E-B2EC-44A6-A98F-7F3B24D2883F
DTSTART;TZID=America/Argentina/Buenos_Aires:20211101T200000
DTEND;TZID=America/Argentina/Buenos_Aires:20211101T210000
DESCRIPTION:Seminarios mensuales sobre comunicaciones\, en esta oportunidad
  con la presencia de un miembro del Distinguished Lecturer Program de ComS
 oc. En esta oportunidad será en Inglés.\n\nCo-sponsored by: University o
 f Oslo\, Norway\n\nSpeaker(s): Dr. Yan Zhang\, \n\nAgenda: \n20:00 Present
 ación a cargo de José Ignacio Alvarez-Hamelin (ComSoc Argentina Chair)\n
 \n20:05 Digital Twin for 6G and Internet of Things (Dr. Yan Zhang)\n\n20:5
 0 Preguntas y comentarios\n\nBuenos Aires\, Distrito Federal\, Argentina\,
  Virtual: https://events.vtools.ieee.org/m/286718
LOCATION:Buenos Aires\, Distrito Federal\, Argentina\, Virtual: https://eve
 nts.vtools.ieee.org/m/286718
ORGANIZER:ihameli@ieee.org
SEQUENCE:4
SUMMARY:IEEE ComSoc Argentina Open Webinar
URL;VALUE=URI:https://events.vtools.ieee.org/m/286718
X-ALT-DESC:Description: &lt;br /&gt;&lt;p&gt;Seminarios mensuales sobre comunicaciones\
 , en esta oportunidad con la presencia de un miembro del Distinguished Lec
 turer Program de ComSoc. En esta oportunidad ser&amp;aacute\; en Ingl&amp;eacute\;
 s.&lt;/p&gt;&lt;br /&gt;&lt;br /&gt;Agenda: &lt;br /&gt;&lt;p&gt;20:00 Presentaci&amp;oacute\;n a cargo de&amp;n
 bsp\;Jos&amp;eacute\; Ignacio Alvarez-Hamelin (ComSoc Argentina Chair)&lt;/p&gt;\n&lt;p
 &gt;20:05&lt;strong&gt; Digital Twin for 6G and Internet of Things (&lt;/strong&gt;Dr. Ya
 n Zhang&lt;strong&gt;)&lt;br /&gt;&lt;/strong&gt;&lt;/p&gt;\n&lt;p&gt;20:50 Preguntas y comentarios&lt;/p&gt;
END:VEVENT
END:VCALENDAR

