BEGIN:VCALENDAR
VERSION:2.0
PRODID:IEEE vTools.Events//EN
CALSCALE:GREGORIAN
BEGIN:VTIMEZONE
TZID:America/Lima
BEGIN:DAYLIGHT
DTSTART:20380118T221407
TZOFFSETFROM:-0500
TZOFFSETTO:-0500
RRULE:FREQ=YEARLY;BYDAY=3MO;BYMONTH=1
TZNAME:-05
END:DAYLIGHT
BEGIN:STANDARD
DTSTART:19940331T230000
TZOFFSETFROM:-0400
TZOFFSETTO:-0500
RRULE:FREQ=YEARLY;BYDAY=-1TH;BYMONTH=3
TZNAME:-05
END:STANDARD
END:VTIMEZONE
BEGIN:VEVENT
DTSTAMP:20220224T005702Z
UID:DDF1C69F-9FAE-42B0-B40F-0F329949A92B
DTSTART;TZID=America/Lima:20211101T111500
DTEND;TZID=America/Lima:20211105T111500
DESCRIPTION:Celebramos el 75º Aniversario del IEEE Computer Society con nu
 estro II CONFE TECH 2021 . Evento insignia de nuestro capitulo estudiantil
 . Donde se realizaron una serie de seminarios web con destacados ponentes 
 que nos compartirán sus conocimientos y experiencias acerca de los difere
 ntes temas en tecnologías que actualmente son tendencia para la competiti
 vidad global.\n\n¡Además de esto\, habrán premios sorpresa\, actividade
 s lúdicas y Networking!\n⁣\nAsí que\, date prisa\, registrate\, agenda
  las fechas y mantente atento a nuestras redes sociales para saber más de
  lo que se viene.\n\n[Inscríbete aquí.](https://zoom.us/meeting/register
 /tJUlc-6pqDouGdXKjYZLOnxNtBFlUpW2XuwU)\n\nCo-sponsored by: DataHack\, Levo
  Learning Center\, Geslab\, Leinn\n\nLa Molina\, Lima\, Peru\, Virtual: ht
 tps://events.vtools.ieee.org/m/287308
LOCATION:La Molina\, Lima\, Peru\, Virtual: https://events.vtools.ieee.org/
 m/287308
ORGANIZER:billy.julca@ieee.org
SEQUENCE:5
SUMMARY:II CONFE TECH 2021 
URL;VALUE=URI:https://events.vtools.ieee.org/m/287308
X-ALT-DESC:Description: &lt;br /&gt;&lt;p&gt;&lt;span style=&quot;vertical-align: inherit\;&quot;&gt;&lt;s
 pan style=&quot;vertical-align: inherit\;&quot;&gt;Celebramos el 75&amp;ordm\; Aniversario 
 del IEEE Computer Society con nuestro &lt;/span&gt;&lt;/span&gt;&lt;strong&gt;&lt;span style=&quot;v
 ertical-align: inherit\;&quot;&gt;&lt;span style=&quot;vertical-align: inherit\;&quot;&gt;II CONFE
  TECH 2021&lt;/span&gt;&lt;/span&gt;&lt;/strong&gt;&lt;span style=&quot;vertical-align: inherit\;&quot;&gt;&lt;
 span style=&quot;vertical-align: inherit\;&quot;&gt; . &lt;/span&gt;&lt;span style=&quot;vertical-ali
 gn: inherit\;&quot;&gt;Evento insignia de nuestro capitulo estudiantil. &lt;/span&gt;&lt;sp
 an style=&quot;vertical-align: inherit\;&quot;&gt;Donde se realizaron una serie de semi
 narios web con destacados ponentes que nos compartir&amp;aacute\;n sus conocim
 ientos y experiencias acerca de los diferentes temas en tecnolog&amp;iacute\;a
 s que actualmente son tendencia para la competitividad global. &lt;/span&gt;&lt;/sp
 an&gt;&lt;br /&gt;&lt;br /&gt;&lt;span style=&quot;vertical-align: inherit\;&quot;&gt;&lt;span style=&quot;vertic
 al-align: inherit\;&quot;&gt;&amp;iexcl\;Adem&amp;aacute\;s de esto\, habr&amp;aacute\;n premi
 os sorpresa\, actividades l&amp;uacute\;dicas y Networking! &lt;/span&gt;&lt;/span&gt;&lt;br 
 /&gt;&lt;span style=&quot;vertical-align: inherit\;&quot;&gt;&lt;span style=&quot;vertical-align: inh
 erit\;&quot;&gt;⁣ &lt;/span&gt;&lt;/span&gt;&lt;br /&gt;&lt;span style=&quot;vertical-align: inherit\;&quot;&gt;&lt;s
 pan style=&quot;vertical-align: inherit\;&quot;&gt;As&amp;iacute\; que\, date prisa\, regis
 trate\, agenda las fechas y mantente atento a nuestras redes sociales para
  saber m&amp;aacute\;s de lo que se viene.&lt;/span&gt;&lt;/span&gt;&lt;/p&gt;\n&lt;p&gt;&lt;a href=&quot;http
 s://zoom.us/meeting/register/tJUlc-6pqDouGdXKjYZLOnxNtBFlUpW2XuwU&quot; target=
 &quot;_blank&quot; rel=&quot;noopener&quot;&gt;&lt;strong&gt;Inscr&amp;iacute\;bete aqu&amp;iacute\;.&lt;/strong&gt;&lt;
 /a&gt;&lt;/p&gt;
END:VEVENT
END:VCALENDAR

