BEGIN:VCALENDAR
VERSION:2.0
PRODID:IEEE vTools.Events//EN
CALSCALE:GREGORIAN
BEGIN:VTIMEZONE
TZID:US/Pacific
BEGIN:DAYLIGHT
DTSTART:20220313T030000
TZOFFSETFROM:-0800
TZOFFSETTO:-0700
RRULE:FREQ=YEARLY;BYDAY=2SU;BYMONTH=3
TZNAME:PDT
END:DAYLIGHT
BEGIN:STANDARD
DTSTART:20211107T010000
TZOFFSETFROM:-0700
TZOFFSETTO:-0800
RRULE:FREQ=YEARLY;BYDAY=1SU;BYMONTH=11
TZNAME:PST
END:STANDARD
END:VTIMEZONE
BEGIN:VEVENT
DTSTAMP:20230401T045719Z
UID:9E8E8C2C-2565-414A-918C-26C16DD56BC8
DTSTART;TZID=US/Pacific:20211206T173000
DTEND;TZID=US/Pacific:20211206T180000
DESCRIPTION:Technical skills for using LaTeX for document writing.\n\nMosco
 w\, Idaho\, United States\, Virtual: https://events.vtools.ieee.org/m/2876
 30
LOCATION:Moscow\, Idaho\, United States\, Virtual: https://events.vtools.ie
 ee.org/m/287630
ORGANIZER:good0206@vandals.uidaho.edu
SEQUENCE:1
SUMMARY:LaTeX Workshop
URL;VALUE=URI:https://events.vtools.ieee.org/m/287630
X-ALT-DESC:Description: &lt;br /&gt;&lt;p&gt;Technical skills for using LaTeX for docum
 ent writing.&lt;/p&gt;
END:VEVENT
END:VCALENDAR

