BEGIN:VCALENDAR
VERSION:2.0
PRODID:IEEE vTools.Events//EN
CALSCALE:GREGORIAN
BEGIN:VTIMEZONE
TZID:America/Chicago
BEGIN:DAYLIGHT
DTSTART:20220313T030000
TZOFFSETFROM:-0600
TZOFFSETTO:-0500
RRULE:FREQ=YEARLY;BYDAY=2SU;BYMONTH=3
TZNAME:CDT
END:DAYLIGHT
BEGIN:STANDARD
DTSTART:20211107T010000
TZOFFSETFROM:-0500
TZOFFSETTO:-0600
RRULE:FREQ=YEARLY;BYDAY=1SU;BYMONTH=11
TZNAME:CST
END:STANDARD
END:VTIMEZONE
BEGIN:VEVENT
DTSTAMP:20211122T224235Z
UID:09CE05F7-8FC0-413A-AD6B-20D31C44D886
DTSTART;TZID=America/Chicago:20211120T220000
DTEND;TZID=America/Chicago:20211120T230000
DESCRIPTION:The Hour of Code is a global movement introducing tens of milli
 ons of students worldwide to computer science\, inspiring kids to learn mo
 re\, breaking stereotypes\, and leaving them feeling empowered.\n\nPartici
 pate in the Hour of Code at Lewis University on Saturday\, November 20\, 2
 021 at 10:00 AM by having your kid(s) ages 8 and up join us for one hour o
 f fun Computer Science tutorials and activities! No experience required.\n
 \nLewis University&#39;s Hour of Code is organized and run by computer enginee
 ring\, electrical engineering and computer science student members of the 
 university&#39;s IEEE Student Branch. For more information about engineering p
 rograms at Lewis University\, visit [cs.lewisu.edu/ece](https://www.cs.lew
 isu.edu/ece/) .\n\nStudent organizers and mentors:\n\nKarolina Krzak - Sen
 ior Computer Engineering Major\n\nLewis IEEE Student Branch Chair\n\nBrind
 yn Schultz - Sophomore Computer Engineering and Computer Science double ma
 jor\n\nLewis IEEE Student Branch Vice Chair\n\nKeshawn Williams - Junior C
 omputer Engineering major\n\nLewis IEEE Student Branch Secretary\n\nRoom: 
 AS-104A\, Bldg: Academic Sciences\, Lewis University\, One University Park
 way\, Romeoville\, Illinois\, United States\, 60446
LOCATION:Room: AS-104A\, Bldg: Academic Sciences\, Lewis University\, One U
 niversity Parkway\, Romeoville\, Illinois\, United States\, 60446
ORGANIZER:gina.martinez.us@ieee.org
SEQUENCE:10
SUMMARY:Hour of Code - Presented by Lewis University IEEE Student Branch
URL;VALUE=URI:https://events.vtools.ieee.org/m/287844
X-ALT-DESC:Description: &lt;br /&gt;&lt;p&gt;The Hour of Code is a global movement intr
 oducing tens of millions of&amp;nbsp\;students worldwide to computer science\,
  inspiring kids to learn more\,&amp;nbsp\;breaking stereotypes\, and leaving t
 hem feeling empowered.&lt;/p&gt;\n&lt;p&gt;Participate in the Hour of Code at Lewis Un
 iversity on Saturday\, November 20\, 2021 at 10:00 AM by having your kid(s
 ) ages 8 and up join us for one hour of fun Computer Science tutorials and
  activities! No experience required.&amp;nbsp\;&lt;/p&gt;\n&lt;p&gt;Lewis University&#39;s Hou
 r of Code is organized and run by computer engineering\, electrical engine
 ering and computer science student members of the university&#39;s IEEE Studen
 t Branch. For more information about engineering programs at Lewis Univers
 ity\, visit &lt;a href=&quot;https://www.cs.lewisu.edu/ece/&quot;&gt;cs.lewisu.edu/ece&lt;/a&gt;
  .&lt;/p&gt;\n&lt;p&gt;&lt;strong&gt;Student organizers and mentors:&lt;/strong&gt;&lt;/p&gt;\n&lt;p&gt;&lt;stron
 g&gt;&lt;em&gt;Karolina Krzak - &lt;/em&gt;&lt;/strong&gt;Senior Computer Engineering Major&amp;nbs
 p\;&amp;nbsp\;&amp;nbsp\;&lt;/p&gt;\n&lt;p&gt;&lt;strong&gt;&lt;em&gt;&amp;nbsp\; &amp;nbsp\; &amp;nbsp\; &amp;nbsp\; &amp;nbs
 p\; &amp;nbsp\; &amp;nbsp\; &amp;nbsp\; &amp;nbsp\; &amp;nbsp\; &amp;nbsp\; &amp;nbsp\; &amp;nbsp\; &amp;nbsp\
 ; &amp;nbsp\;&lt;/em&gt;&lt;/strong&gt;Lewis IEEE Student Branch Chair&lt;/p&gt;\n&lt;p&gt;&lt;strong&gt;&lt;em
 &gt;Brindyn Schultz&lt;/em&gt;&lt;/strong&gt; - Sophomore Computer Engineering and Comput
 er Science double major&lt;/p&gt;\n&lt;p&gt;&amp;nbsp\; &amp;nbsp\; &amp;nbsp\; &amp;nbsp\; &amp;nbsp\; &amp;n
 bsp\; &amp;nbsp\; &amp;nbsp\; &amp;nbsp\; &amp;nbsp\; &amp;nbsp\; &amp;nbsp\; &amp;nbsp\; &amp;nbsp\; &amp;nbs
 p\; Lewis IEEE Student Branch Vice Chair&lt;/p&gt;\n&lt;p&gt;&lt;strong&gt;&lt;em&gt;Keshawn Willi
 ams&lt;/em&gt;&lt;/strong&gt; - Junior Computer Engineering major&lt;/p&gt;\n&lt;p&gt;&amp;nbsp\; &amp;nbs
 p\; &amp;nbsp\; &amp;nbsp\; &amp;nbsp\; &amp;nbsp\; &amp;nbsp\; &amp;nbsp\; &amp;nbsp\; &amp;nbsp\; &amp;nbsp\
 ; &amp;nbsp\; &amp;nbsp\; &amp;nbsp\; &amp;nbsp\; Lewis IEEE Student Branch Secretary&lt;/p&gt;
END:VEVENT
END:VCALENDAR

