BEGIN:VCALENDAR
VERSION:2.0
PRODID:IEEE vTools.Events//EN
CALSCALE:GREGORIAN
BEGIN:VTIMEZONE
TZID:Canada/Eastern
BEGIN:DAYLIGHT
DTSTART:20210314T030000
TZOFFSETFROM:-0500
TZOFFSETTO:-0400
RRULE:FREQ=YEARLY;BYDAY=2SU;BYMONTH=3
TZNAME:EDT
END:DAYLIGHT
BEGIN:STANDARD
DTSTART:20211107T010000
TZOFFSETFROM:-0400
TZOFFSETTO:-0500
RRULE:FREQ=YEARLY;BYDAY=1SU;BYMONTH=11
TZNAME:EST
END:STANDARD
END:VTIMEZONE
BEGIN:VEVENT
DTSTAMP:20220110T154103Z
UID:30FDD9E2-3FE9-4A56-A7AC-213189052D4E
DTSTART;TZID=Canada/Eastern:20211105T150000
DTEND;TZID=Canada/Eastern:20211105T160000
DESCRIPTION:IEEE NTC Montreal section and Saskatoon section are co-organizi
 ng a joint event----a webinar on Advances in Photonics and Optoelectronics
 .\n\nBoth NTC section executive boards will have a discussion about the pr
 ogress of the event organizations and further cooperation in the future.\n
 \nIf you have any suggestion for our webinars or other activities\, you ar
 e will be highly welcomed!\n\n1650\, Boulevard Lionel-Boulet\, Varennes (Q
 uebec)\, Varennes\, Quebec\, Canada\, J3X 1P7\, Virtual: https://events.vt
 ools.ieee.org/m/288470
LOCATION:1650\, Boulevard Lionel-Boulet\, Varennes (Quebec)\, Varennes\, Qu
 ebec\, Canada\, J3X 1P7\, Virtual: https://events.vtools.ieee.org/m/288470
ORGANIZER:xin.liu@inrs.ca
SEQUENCE:4
SUMMARY:joint event meeting between NTC Montreal section and NTC North Sask
 atchewan section
URL;VALUE=URI:https://events.vtools.ieee.org/m/288470
X-ALT-DESC:Description: &lt;br /&gt;&lt;p&gt;IEEE NTC Montreal section and Saskatoon se
 ction are co-organizing a joint event----a webinar on &lt;em&gt;Advances in Phot
 onics and Optoelectronics.&amp;nbsp\;&lt;/em&gt;&lt;/p&gt;\n&lt;p&gt;Both NTC section executive 
 boards will have a discussion about the progress of the event organization
 s and further cooperation in the future.&lt;/p&gt;\n&lt;p&gt;If you have any suggestio
 n for our webinars or other activities\, you are will be highly welcomed!&lt;
 /p&gt;
END:VEVENT
END:VCALENDAR

