BEGIN:VCALENDAR
VERSION:2.0
PRODID:IEEE vTools.Events//EN
CALSCALE:GREGORIAN
BEGIN:VTIMEZONE
TZID:Asia/Kolkata
BEGIN:STANDARD
DTSTART:19451014T230000
TZOFFSETFROM:+0630
TZOFFSETTO:+0530
TZNAME:IST
END:STANDARD
END:VTIMEZONE
BEGIN:VEVENT
DTSTAMP:20211103T162341Z
UID:6BC91BAB-20E9-412D-9783-0C100BA41D50
DTSTART;TZID=Asia/Kolkata:20211022T100000
DTEND;TZID=Asia/Kolkata:20211022T160000
DESCRIPTION:The Student Branch in collaboration with the college management
  has successfully organized a blood donation camp on 22nd October 2021. We
  have volunteered for the blood requirement in the blood bank of Dr. Ram M
 anohar Lohia Hospital (RMLH)\, Lucknow. With the theme of “Every blood d
 onor is a lifesaver”\, the drive commenced at 10:15 AM and continued til
 l 4:00 PM in the evening. Students\, staff\, and faculty voluntarily parti
 cipated in the blood donation camp. The blood donation process was carried
  out under the supervision of experienced doctors. The college in the past
  has been awarded by His Excellency\, Governor\, and the Health Minister o
 f Uttar Pradesh for proactive participation in blood donation. The camp wa
 s open for all\, any person can walk in voluntarily any time round the clo
 ck at their own convenience to donate in a licensed blood bank. The gist o
 f the initiative was to motivate the youth towards social responsibilities
  and the contributions that they can make to help society. After the drive
 \, the management and officers of the Student branch congratulated and exp
 ressed their gratitude to the entire team of Dr. Ram Manohar Lohia Hospita
 l\, Lucknow.\n\nShri Ramswaroop Memorial Group of Professional Colleges\, 
 Tiwariganj\, Faizabad Road\, Lucknow\, Uttar Pradesh\, India\, 226028
LOCATION:Shri Ramswaroop Memorial Group of Professional Colleges\, Tiwariga
 nj\, Faizabad Road\, Lucknow\, Uttar Pradesh\, India\, 226028
ORGANIZER:tslistener@gmail.com
SEQUENCE:1
SUMMARY:BLOOD DONATION CAMP
URL;VALUE=URI:https://events.vtools.ieee.org/m/288589
X-ALT-DESC:Description: &lt;br /&gt;&lt;p&gt;The Student Branch in collaboration with t
 he college management has successfully organized a blood donation camp on 
 22nd October 2021. We have volunteered for the blood requirement in the bl
 ood bank of Dr. Ram Manohar Lohia Hospital (RMLH)\, Lucknow. With the them
 e of &amp;ldquo\;Every blood donor is a lifesaver&amp;rdquo\;\, the drive commence
 d at 10:15 AM and continued till 4:00 PM in the evening. Students\, staff\
 , and faculty voluntarily participated in the blood donation camp. The blo
 od donation process was carried out under the supervision of experienced d
 octors. The college in the past has been awarded by His Excellency\, Gover
 nor\, and the Health Minister of Uttar Pradesh for proactive participation
  in blood donation. The camp was open for all\, any person can walk in vol
 untarily any time round the clock at their own convenience to donate in a 
 licensed blood bank. The gist of the initiative was to motivate the youth 
 towards social responsibilities and the contributions that they can make t
 o help society. After the drive\, the management and officers of the Stude
 nt branch congratulated and expressed their gratitude to the entire team o
 f Dr. Ram Manohar Lohia Hospital\, Lucknow.&amp;nbsp\;&lt;/p&gt;
END:VEVENT
END:VCALENDAR

