BEGIN:VCALENDAR
VERSION:2.0
PRODID:IEEE vTools.Events//EN
CALSCALE:GREGORIAN
BEGIN:VTIMEZONE
TZID:Japan
BEGIN:STANDARD
DTSTART:19510909T000000
TZOFFSETFROM:+1000
TZOFFSETTO:+0900
TZNAME:JST
END:STANDARD
END:VTIMEZONE
BEGIN:VEVENT
DTSTAMP:20220317T065000Z
UID:6F0A7A57-E6C8-43A5-A255-5D7C27FDFB39
DTSTART;TZID=Japan:20211114T133000
DTEND;TZID=Japan:20211114T163000
DESCRIPTION:The symposium will hold with hybrid. there are two lectures fro
 m university and international company. the discussion will be seperated i
 nto two groups. The theme will include the how to make the professional ca
 rrier\, how to live and have a life balance in the foreign countries.\n\nI
 EEE WIE Shikoku-Hiroshima-Fukuoka Section is pleased to announce that we w
 ill co-host a symposium with Kochi University of Technology Society of Wom
 en Engineers(KSWE) on the following schedule.\nThose who are interested in
  internationalization\, career development and life balance are welcome to
  attend. Both men and women are welcome. Participation is free of charge.\
 nParticipation is free of charge.\n\nBoth men and women are encouraged to 
 attend.***Outline of the symposium***.\nA researcher from Kyushu Universit
 y will introduce her re-advanced research. In addition\, an engineer from 
 Micron Technology\, a global company\, will talk about her experience of w
 orking in a global company. After those lectures\, there will be a table d
 iscussion on two globalization themes.\n\nCo-sponsored by: Chaoyang Li\n\n
 Agenda: \nDate &amp; Time:\nSunday\, November 14th\, 2021\, 13:30-16:30\nVenue
 : Hybrid session\nClassroom 102\, Building C\, Kochi University of Technol
 ogy (on-site\, for students and faculty only) and online\n\nLecture 1: 13:
 40-14:10\nLecturer: Naho Itagaki (Kyushu University)\nTitle: Working in ac
 ademia and industry after PhD: Perspectives of a mother scientist in the f
 ield of electronics\n\nLecture 2: 14:15-14:45\nLecturer: Yuko Watanabe (Mi
 cron Memory Japan\, LLC)\nTitle: Engineering Career - challenges\, opportu
 nities and value of being an engineer\n\nNetworking Session: 15:00-16:00\n
 Theme 1: &quot;Research and Life in Japan by a Foreigner&quot; (in English)\nTheme 2
 : &quot;Research and Life in Foreign Countries by Japanese&quot; (in Japanese)\n\nVi
 rtual: https://events.vtools.ieee.org/m/288647
LOCATION:Virtual: https://events.vtools.ieee.org/m/288647
ORGANIZER:li.chaoyang@kochi-tech.ac.jp
SEQUENCE:3
SUMMARY:Youth research and international students symposium-Globalized view
  and performance
URL;VALUE=URI:https://events.vtools.ieee.org/m/288647
X-ALT-DESC:Description: &lt;br /&gt;&lt;p&gt;The symposium will hold with hybrid. there
  are two lectures from university and international company. the discussio
 n will be seperated into two groups. The theme will include the how to mak
 e the professional carrier\, how to live and have a life balance in the fo
 reign countries.&lt;/p&gt;\n&lt;p&gt;IEEE WIE Shikoku-Hiroshima-Fukuoka Section is ple
 ased to announce that we will co-host a symposium with Kochi University of
  Technology Society of Women Engineers(KSWE) on the following schedule.&lt;br
  /&gt;Those who are interested in internationalization\, career development a
 nd life balance are welcome to attend. Both men and women are welcome. Par
 ticipation is free of charge.&lt;br /&gt;Participation is free of charge.&lt;/p&gt;\n&lt;
 p&gt;Both men and women are encouraged to attend.***Outline of the symposium*
 **.&lt;br /&gt;A researcher from Kyushu University will introduce her re-advance
 d research. In addition\, an engineer from Micron Technology\, a global co
 mpany\, will talk about her experience of working in a global company. Aft
 er those lectures\, there will be a table discussion on two globalization 
 themes.&lt;br /&gt;&lt;br /&gt;&lt;br /&gt;&lt;/p&gt;\n&lt;p&gt;&amp;nbsp\;&lt;/p&gt;&lt;br /&gt;&lt;br /&gt;Agenda: &lt;br /&gt;&lt;p&gt;
 Date &amp;amp\; Time:&lt;br /&gt;Sunday\, November 14th\, 2021\, 13:30-16:30&lt;br /&gt;Ve
 nue: Hybrid session&lt;br /&gt;Classroom 102\, Building C\, Kochi University of 
 Technology (on-site\, for students and faculty only) and online&lt;br /&gt;&lt;br /
 &gt;Lecture 1: 13:40-14:10&lt;br /&gt;Lecturer: Naho Itagaki (Kyushu University)&lt;br
  /&gt;Title: Working in academia and industry after PhD: Perspectives of a mo
 ther scientist in the field of electronics&lt;br /&gt;&lt;br /&gt;Lecture 2: 14:15-14:
 45&lt;br /&gt;Lecturer: Yuko Watanabe (Micron Memory Japan\, LLC)&lt;br /&gt;Title: En
 gineering Career - challenges\, opportunities and value of being an engine
 er&lt;br /&gt;&lt;br /&gt;Networking Session: 15:00-16:00&lt;br /&gt;Theme 1: &quot;Research and 
 Life in Japan by a Foreigner&quot; (in English)&lt;br /&gt;Theme 2: &quot;Research and Lif
 e in Foreign Countries by Japanese&quot; (in Japanese)&lt;/p&gt;\n&lt;p&gt;&amp;nbsp\;&lt;/p&gt;
END:VEVENT
END:VCALENDAR

