BEGIN:VCALENDAR
VERSION:2.0
PRODID:IEEE vTools.Events//EN
CALSCALE:GREGORIAN
BEGIN:VTIMEZONE
TZID:America/Argentina/Buenos_Aires
BEGIN:DAYLIGHT
DTSTART:20380119T001407
TZOFFSETFROM:-0300
TZOFFSETTO:-0300
RRULE:FREQ=YEARLY;BYDAY=3TU;BYMONTH=1
TZNAME:-03
END:DAYLIGHT
BEGIN:STANDARD
DTSTART:20090314T230000
TZOFFSETFROM:-0200
TZOFFSETTO:-0300
RRULE:FREQ=YEARLY;BYDAY=2SA;BYMONTH=3
TZNAME:-03
END:STANDARD
END:VTIMEZONE
BEGIN:VEVENT
DTSTAMP:20211105T025355Z
UID:97F23D68-AF62-473C-94F5-1D14A448B0E9
DTSTART;TZID=America/Argentina/Buenos_Aires:20211113T200000
DTEND;TZID=America/Argentina/Buenos_Aires:20211114T180000
DESCRIPTION:Primer congreso de tecnología\, programación e innovación im
 pulsado por Girls Code y patrocinado con fondos del YLAI Impact Grant.\nUn
  evento totalmente gratuito y dirigido a todo público para promover el tr
 abajo de paraguayos/as\, conocer a líderes internacionales de estos secto
 res y hacer networking.\n\nLas disertantes son mujeres y mayoritariamente 
 paraguayas. Promoviendo así el talento femenino para inspirar a otras muj
 eres a incursionar en el\námbito de la tecnología y contribuir a la redu
 cción de la brecha de género en carreras STEM.\n\nEl evento fue desarrol
 lado en conjunto con OpnX Paraguay\, la Universidad Comunera de Paraguay e
  IEEE WIE Sección Paraguay.\n\nVirtual: https://events.vtools.ieee.org/m/
 288754
LOCATION:Virtual: https://events.vtools.ieee.org/m/288754
ORGANIZER:ieeewiepy@gmail.com
SEQUENCE:0
SUMMARY:KuñaFest Tech 2021
URL;VALUE=URI:https://events.vtools.ieee.org/m/288754
X-ALT-DESC:Description: &lt;br /&gt;&lt;p&gt;Primer congreso de tecnolog&amp;iacute\;a\, pr
 ogramaci&amp;oacute\;n e innovaci&amp;oacute\;n impulsado por Girls Code y patroci
 nado con fondos del YLAI Impact Grant.&lt;br /&gt;Un evento totalmente gratuito 
 y dirigido a todo p&amp;uacute\;blico para promover el trabajo de paraguayos/a
 s\, conocer a l&amp;iacute\;deres internacionales de estos sectores y hacer ne
 tworking.&amp;nbsp\;&lt;/p&gt;\n&lt;p&gt;Las disertantes son mujeres y mayoritariamente pa
 raguayas. Promoviendo as&amp;iacute\; el talento femenino para inspirar a otra
 s mujeres a incursionar en el&lt;br /&gt;&amp;aacute\;mbito de la tecnolog&amp;iacute\;a
  y contribuir a la reducci&amp;oacute\;n de la brecha de g&amp;eacute\;nero en car
 reras STEM.&lt;/p&gt;\n&lt;p&gt;El evento fue desarrollado en conjunto con OpnX Paragu
 ay\, la Universidad Comunera de Paraguay e IEEE WIE Secci&amp;oacute\;n Paragu
 ay.&lt;/p&gt;
END:VEVENT
END:VCALENDAR

