BEGIN:VCALENDAR
VERSION:2.0
PRODID:IEEE vTools.Events//EN
CALSCALE:GREGORIAN
BEGIN:VTIMEZONE
TZID:US/Mountain
BEGIN:DAYLIGHT
DTSTART:20210314T030000
TZOFFSETFROM:-0700
TZOFFSETTO:-0600
RRULE:FREQ=YEARLY;BYDAY=2SU;BYMONTH=3
TZNAME:MDT
END:DAYLIGHT
BEGIN:STANDARD
DTSTART:20211107T010000
TZOFFSETFROM:-0600
TZOFFSETTO:-0700
RRULE:FREQ=YEARLY;BYDAY=1SU;BYMONTH=11
TZNAME:MST
END:STANDARD
END:VTIMEZONE
BEGIN:VEVENT
DTSTAMP:20211105T191107Z
UID:9A26F5A2-4E9C-4CBF-A408-D3427768E157
DTSTART;TZID=US/Mountain:20211028T180000
DTEND;TZID=US/Mountain:20211028T193000
DESCRIPTION:This event has already taken place and this message is for admi
 nistrative purposes.\n\nHere is the webex link for the IEEE Pikes Peak Sec
 tion EXCOM meeting\, 28 Oct (Thursday)\, 6:00 pm - 7:30 pm.\nhttps://ieeem
 eetings.webex.com/ieeemeetings/j.php?MTID=mfebede2abdd99018c29db4d62c19182
 0 Meeting number: 2538 773 8882 Meeting password: PaMAsUeF784 *Join by pho
 ne* +1-415-655-0002 United States Toll 1-855-282-6330 United States Toll F
 ree\nAgenda\n\nElection Guidelines\nBudget / Finances (John Reinert)\nRegi
 on 5 Membership Engagement Presentation/Student Contests (David Bondurant)
 \nDiscussion / Questions on Future Projects from Section&#39;s Chapters/ Socie
 ties\n\nSpeaker(s): John Santiago\, \n\nAgenda: \nHere is the webex link f
 or the IEEE Pikes Peak Section EXCOM meeting\, 28 Oct (Thursday)\, 6:00 pm
  - 7:30 pm.\nhttps://ieeemeetings.webex.com/ieeemeetings/j.php?MTID=mfebed
 e2abdd99018c29db4d62c191820 Meeting number: 2538 773 8882 Meeting password
 : PaMAsUeF784 *Join by phone* +1-415-655-0002 United States Toll 1-855-282
 -6330 United States Toll Free\nAgenda\n\nElection Guidelines\nBudget / Fin
 ances (John Reinert)\nRegion 5 Membership Engagement Presentation/Student 
 Contests (David Bondurant)\nDiscussion / Questions on Future Projects from
  Section&#39;s Chapters/ Societies\n\nVirtual: https://events.vtools.ieee.org/
 m/288850
LOCATION:Virtual: https://events.vtools.ieee.org/m/288850
ORGANIZER:john@e-liteworks.com
SEQUENCE:0
SUMMARY:IEEE Pikes Peak Section EXCOM Meeting (Virtual)
URL;VALUE=URI:https://events.vtools.ieee.org/m/288850
X-ALT-DESC:Description: &lt;br /&gt;&lt;blockquote&gt;\n&lt;div class=&quot;adL&quot;&gt;\n&lt;div class=&quot;
 im&quot;&gt;\n&lt;div&gt;\n&lt;div dir=&quot;ltr&quot;&gt;\n&lt;pre&gt;This event has already taken place and 
 this message is for administrative purposes.&lt;br /&gt;&lt;br /&gt;Here is the webex 
 link for the IEEE Pikes Peak Section EXCOM meeting\, 28 Oct (Thursday)\, 6
 :00 pm - 7:30 pm.&lt;/pre&gt;\n&lt;pre&gt;&lt;br /&gt;&lt;a href=&quot;https://ieeemeetings.webex.co
 m/ieeemeetings/j.php?MTID=mfebede2abdd99018c29db4d62c191820&quot; target=&quot;_blan
 k&quot; rel=&quot;noopener&quot; data-saferedirecturl=&quot;https://www.google.com/url?q=https
 ://ieeemeetings.webex.com/ieeemeetings/j.php?MTID%3Dmfebede2abdd99018c29db
 4d62c191820&amp;amp\;source=gmail&amp;amp\;ust=1636224840550000&amp;amp\;usg=AFQjCNEB4
 XZ8-xKBQntzDZiTQbArXvWLnw&quot;&gt;https://ieeemeetings.webex.&lt;wbr /&gt;com/ieeemeeti
 ngs/j.php?MTID=&lt;wbr /&gt;mfebede2abdd99018c29db4d62c191&lt;wbr /&gt;820&lt;/a&gt;\n\nMeet
 ing number: 2538 773 8882\nMeeting password: PaMAsUeF784\n\n*Join by phone
 *\n+1-415-655-0002 United States Toll\n1-855-282-6330 United States Toll F
 ree&lt;/pre&gt;\n&lt;div&gt;Agenda&lt;/div&gt;\n&lt;div&gt;&amp;nbsp\;&lt;/div&gt;\n&lt;div&gt;Election Guidelines
 &lt;/div&gt;\n&lt;div&gt;Budget / Finances (John Reinert)&lt;/div&gt;\n&lt;div&gt;Region 5 Members
 hip Engagement Presentation/Student Contests (David Bondurant)&lt;/div&gt;\n&lt;div
 &gt;Discussion / Questions on Future Projects from Section&#39;s Chapters/ Societ
 ies&lt;/div&gt;\n&lt;/div&gt;\n&lt;/div&gt;\n&lt;/div&gt;\n&lt;/div&gt;\n&lt;/blockquote&gt;&lt;br /&gt;&lt;br /&gt;Agenda
 : &lt;br /&gt;&lt;blockquote&gt;\n&lt;div class=&quot;adL&quot;&gt;\n&lt;div class=&quot;im&quot;&gt;\n&lt;div&gt;\n&lt;div dir
 =&quot;ltr&quot;&gt;\n&lt;pre&gt;Here is the webex link for the IEEE Pikes Peak Section EXCOM
  meeting\, 28 Oct (Thursday)\, 6:00 pm - 7:30 pm.&lt;/pre&gt;\n&lt;pre&gt;&lt;br /&gt;&lt;a hre
 f=&quot;https://ieeemeetings.webex.com/ieeemeetings/j.php?MTID=mfebede2abdd9901
 8c29db4d62c191820&quot; target=&quot;_blank&quot; rel=&quot;noopener&quot; data-saferedirecturl=&quot;ht
 tps://www.google.com/url?q=https://ieeemeetings.webex.com/ieeemeetings/j.p
 hp?MTID%3Dmfebede2abdd99018c29db4d62c191820&amp;amp\;source=gmail&amp;amp\;ust=163
 6224840550000&amp;amp\;usg=AFQjCNEB4XZ8-xKBQntzDZiTQbArXvWLnw&quot;&gt;https://ieeemee
 tings.webex.&lt;wbr /&gt;com/ieeemeetings/j.php?MTID=&lt;wbr /&gt;mfebede2abdd99018c29
 db4d62c191&lt;wbr /&gt;820&lt;/a&gt;\n\nMeeting number: 2538 773 8882\nMeeting passwor
 d: PaMAsUeF784\n\n*Join by phone*\n+1-415-655-0002 United States Toll\n1-8
 55-282-6330 United States Toll Free&lt;/pre&gt;\n&lt;div&gt;Agenda&lt;/div&gt;\n&lt;div&gt;&amp;nbsp\;
 &lt;/div&gt;\n&lt;div&gt;Election Guidelines&lt;/div&gt;\n&lt;div&gt;Budget / Finances (John Reine
 rt)&lt;/div&gt;\n&lt;div&gt;Region 5 Membership Engagement Presentation/Student Contes
 ts (David Bondurant)&lt;/div&gt;\n&lt;div&gt;Discussion / Questions on Future Projects
  from Section&#39;s Chapters/ Societies&lt;/div&gt;\n&lt;/div&gt;\n&lt;/div&gt;\n&lt;/div&gt;\n&lt;/div&gt;\
 n&lt;/blockquote&gt;
END:VEVENT
END:VCALENDAR

