BEGIN:VCALENDAR
VERSION:2.0
PRODID:IEEE vTools.Events//EN
CALSCALE:GREGORIAN
BEGIN:VTIMEZONE
TZID:EST5EDT
BEGIN:DAYLIGHT
DTSTART:20220313T030000
TZOFFSETFROM:-0500
TZOFFSETTO:-0400
RRULE:FREQ=YEARLY;BYDAY=2SU;BYMONTH=3
TZNAME:EDT
END:DAYLIGHT
BEGIN:STANDARD
DTSTART:20211107T010000
TZOFFSETFROM:-0400
TZOFFSETTO:-0500
RRULE:FREQ=YEARLY;BYDAY=1SU;BYMONTH=11
TZNAME:EST
END:STANDARD
END:VTIMEZONE
BEGIN:VEVENT
DTSTAMP:20211210T161846Z
UID:987AD4E9-D6BA-4EF9-85E5-8C91790E536E
DTSTART;TZID=EST5EDT:20211209T160000
DTEND;TZID=EST5EDT:20211209T170000
DESCRIPTION:The design of advanced integrated circuits and microsystems fro
 m zero to terahertz frequencies calls for fast and accurate electromagneti
 cs-based modeling and simulation. The sheer complexity and high design cos
 t associated with the integrated circuits and microsystems prevent one fro
 m designing them based on hand calculation\, approximation\, intuition\, o
 r trial and error. The move towards higher frequencies and heterogeneous t
 echnologies stresses the need even more. However\, the analysis and design
  of integrated circuits and microsystems impose many unique challenges on 
 electromagnetic analysis such as exponentially increased problem size and 
 extremely multiscaled system spanning from nano- to centi-meter scales. In
  her DML talk\, Prof. Jiao will present recent advances in fast solvers to
  tackle these challenges.\n\nSpeaker(s): Prof. Dan Jiao\, \n\nVirtual: htt
 ps://events.vtools.ieee.org/m/289235
LOCATION:Virtual: https://events.vtools.ieee.org/m/289235
ORGANIZER:kenle.chen@ucf.edu
SEQUENCE:5
SUMMARY:Fast Solvers for Electromagnetics-Based Analysis and Design of Inte
 grated Circuits and Systems
URL;VALUE=URI:https://events.vtools.ieee.org/m/289235
X-ALT-DESC:Description: &lt;br /&gt;&lt;p&gt;The design of advanced integrated circuits
  and microsystems from zero to terahertz frequencies calls for fast and ac
 curate electromagnetics-based modeling and simulation. The sheer complexit
 y and high design cost associated with the integrated circuits and microsy
 stems prevent one from designing them based on hand calculation\, approxim
 ation\, intuition\, or trial and error. The move towards higher frequencie
 s and heterogeneous technologies stresses the need even more. However\, th
 e analysis and design of integrated circuits and microsystems impose many 
 unique challenges on electromagnetic analysis such as exponentially increa
 sed problem size and extremely multiscaled system spanning from nano- to c
 enti-meter scales. In her DML talk\, Prof. Jiao will present recent advanc
 es in fast solvers to tackle these challenges.&lt;/p&gt;
END:VEVENT
END:VCALENDAR

