BEGIN:VCALENDAR
VERSION:2.0
PRODID:IEEE vTools.Events//EN
CALSCALE:GREGORIAN
BEGIN:VTIMEZONE
TZID:Canada/Eastern
BEGIN:DAYLIGHT
DTSTART:20220313T030000
TZOFFSETFROM:-0500
TZOFFSETTO:-0400
RRULE:FREQ=YEARLY;BYDAY=2SU;BYMONTH=3
TZNAME:EDT
END:DAYLIGHT
BEGIN:STANDARD
DTSTART:20211107T010000
TZOFFSETFROM:-0400
TZOFFSETTO:-0500
RRULE:FREQ=YEARLY;BYDAY=1SU;BYMONTH=11
TZNAME:EST
END:STANDARD
END:VTIMEZONE
BEGIN:VEVENT
DTSTAMP:20220328T183323Z
UID:C3EC5DA2-BD77-4177-8ED5-4F9AC72804DE
DTSTART;TZID=Canada/Eastern:20211214T170000
DTEND;TZID=Canada/Eastern:20211214T183000
DESCRIPTION:How might the machine learning make the world a better place?\n
 How might it make the world worse?\nI have some thoughts. Likely you do to
 o.\n\nVirtual: https://events.vtools.ieee.org/m/289243
LOCATION:Virtual: https://events.vtools.ieee.org/m/289243
ORGANIZER:ayda.naserialiabadi@ryerson.ca
SEQUENCE:1
SUMMARY:Ethics: How might the machine learning make the world a better plac
 e? How might it make the world worse?
URL;VALUE=URI:https://events.vtools.ieee.org/m/289243
X-ALT-DESC:Description: &lt;br /&gt;&lt;p&gt;How might the machine learning make the wo
 rld a better place?&lt;br /&gt;How might it make the world worse?&lt;br /&gt;I have so
 me thoughts. Likely you do too.&lt;/p&gt;
END:VEVENT
END:VCALENDAR

