BEGIN:VCALENDAR
VERSION:2.0
PRODID:IEEE vTools.Events//EN
CALSCALE:GREGORIAN
BEGIN:VTIMEZONE
TZID:Asia/Riyadh
BEGIN:DAYLIGHT
DTSTART:20380119T061407
TZOFFSETFROM:+0300
TZOFFSETTO:+0300
RRULE:FREQ=YEARLY;BYDAY=3TU;BYMONTH=1
TZNAME:+03
END:DAYLIGHT
BEGIN:STANDARD
DTSTART:19470313T235308
TZOFFSETFROM:+0306
TZOFFSETTO:+0300
RRULE:FREQ=YEARLY;BYDAY=2TH;BYMONTH=3
TZNAME:+03
END:STANDARD
END:VTIMEZONE
BEGIN:VEVENT
DTSTAMP:20220111T114328Z
UID:8DB42EE5-06DC-468D-8501-0F439771FDC4
DTSTART;TZID=Asia/Riyadh:20211213T141500
DTEND;TZID=Asia/Riyadh:20211213T151500
DESCRIPTION:IEEE Middle East Students &amp; Young Professionals Congress (MESYP
  2021)\n\n############ Session 04 #############\n\nTitle: Unmanned Aerial 
 Vehicles (UAVs)\n\nSpeaker: Haitham Aljahdali\, King Abdullah University o
 f Science and Technology\n\nTime: 02:15 PM - 03:15 PM (GMT+3)\n\nDate: 13t
 h December 2021\n\nZoom-Link: https://zoom.us/meeting/register/tJUqf-2sqzI
 vHNHXzR3B_HFaVm5QDDzbCY-p\n\nRegistration Link (VTools Events):https://eve
 nts.vtools.ieee.org/m/289298\n\nVirtual: https://events.vtools.ieee.org/m/
 289298
LOCATION:Virtual: https://events.vtools.ieee.org/m/289298
ORGANIZER:ibrahim.nasar@ieee.org
SEQUENCE:2
SUMMARY:IEEE MESYP 2021 - Session 04
URL;VALUE=URI:https://events.vtools.ieee.org/m/289298
X-ALT-DESC:Description: &lt;br /&gt;&lt;p&gt;IEEE Middle East Students &amp;amp\; Young Pro
 fessionals Congress (MESYP 2021)&lt;/p&gt;\n&lt;p&gt;&lt;span style=&quot;font-weight: 400\;&quot;&gt;
 ############ Session 04 #############&lt;/span&gt;&lt;/p&gt;\n&lt;p&gt;&lt;span style=&quot;font-wei
 ght: 400\;&quot;&gt;Title: Unmanned Aerial Vehicles (UAVs)&lt;/span&gt;&lt;/p&gt;\n&lt;p&gt;&lt;span st
 yle=&quot;font-weight: 400\;&quot;&gt;Speaker: Haitham Aljahdali\, King Abdullah Univer
 sity of Science and Technology&lt;/span&gt;&lt;/p&gt;\n&lt;p&gt;&lt;span style=&quot;font-weight: 40
 0\;&quot;&gt;Time: 02:15 PM - 03:15 PM (GMT+3)&lt;/span&gt;&lt;/p&gt;\n&lt;p&gt;&lt;span style=&quot;font-we
 ight: 400\;&quot;&gt;Date: 13th December 2021&lt;/span&gt;&lt;/p&gt;\n&lt;p&gt;&lt;span style=&quot;font-wei
 ght: 400\;&quot;&gt;Zoom-Link: &lt;/span&gt;&lt;a href=&quot;https://zoom.us/meeting/register/tJ
 Uqf-2sqzIvHNHXzR3B_HFaVm5QDDzbCY-p&quot;&gt;&lt;span style=&quot;font-weight: 400\;&quot;&gt;https
 ://zoom.us/meeting/register/tJUqf-2sqzIvHNHXzR3B_HFaVm5QDDzbCY-p&lt;/span&gt;&lt;/a
 &gt;&lt;/p&gt;\n&lt;p&gt;&lt;span style=&quot;font-weight: 400\;&quot;&gt;Registration Link (VTools Event
 s):&lt;/span&gt;&lt;a href=&quot;https://events.vtools.ieee.org/m/289298&quot;&gt;&lt;span style=&quot;f
 ont-weight: 400\;&quot;&gt; &lt;/span&gt;&lt;span style=&quot;font-weight: 400\;&quot;&gt;https://events
 .vtools.ieee.org/m/289298&lt;/span&gt;&lt;/a&gt;&lt;/p&gt;
END:VEVENT
END:VCALENDAR

