BEGIN:VCALENDAR
VERSION:2.0
PRODID:IEEE vTools.Events//EN
CALSCALE:GREGORIAN
BEGIN:VTIMEZONE
TZID:Asia/Riyadh
BEGIN:DAYLIGHT
DTSTART:20380119T061407
TZOFFSETFROM:+0300
TZOFFSETTO:+0300
RRULE:FREQ=YEARLY;BYDAY=3TU;BYMONTH=1
TZNAME:+03
END:DAYLIGHT
BEGIN:STANDARD
DTSTART:19470313T235308
TZOFFSETFROM:+0306
TZOFFSETTO:+0300
RRULE:FREQ=YEARLY;BYDAY=2TH;BYMONTH=3
TZNAME:+03
END:STANDARD
END:VTIMEZONE
BEGIN:VEVENT
DTSTAMP:20220111T114945Z
UID:42E182A2-97E3-4EFD-8C49-7144E5274E35
DTSTART;TZID=Asia/Riyadh:20211213T171500
DTEND;TZID=Asia/Riyadh:20211213T181500
DESCRIPTION:IEEE Middle East Students &amp; Young Professionals Congress (MESYP
  2021)\n\n############ Session 06 #############\n\nTitle: Don&#39;t Wait till 
 the End: Software Security\n\nSpeaker: Dr. Fatimah AlAkeel\, King Saud Uni
 versity\, KSA\n\nTime: 05:15 PM - 06:15 PM (GMT+3)\n\nDate: 13th December 
 2021\n\nZoom-Link: https://zoom.us/meeting/register/tJUqf-2sqzIvHNHXzR3B_H
 FaVm5QDDzbCY-p\n\nRegistration Link (VTools Events):https://events.vtools.
 ieee.org/m/289300\n\nVirtual: https://events.vtools.ieee.org/m/289300
LOCATION:Virtual: https://events.vtools.ieee.org/m/289300
ORGANIZER:ibrahim.nasar@ieee.org
SEQUENCE:2
SUMMARY:IEEE MESYP 2021 - Session 06
URL;VALUE=URI:https://events.vtools.ieee.org/m/289300
X-ALT-DESC:Description: &lt;br /&gt;&lt;p&gt;IEEE Middle East Students &amp;amp\; Young Pro
 fessionals Congress (MESYP 2021)&lt;/p&gt;\n&lt;p&gt;&lt;span style=&quot;font-weight: 400\;&quot;&gt;
 ############ Session 06 #############&lt;/span&gt;&lt;/p&gt;\n&lt;p&gt;&lt;span style=&quot;font-wei
 ght: 400\;&quot;&gt;Title: Don&#39;t Wait till the End: Software Security&lt;/span&gt;&lt;/p&gt;\n
 &lt;p&gt;&lt;span style=&quot;font-weight: 400\;&quot;&gt;Speaker: Dr. Fatimah AlAkeel\, King Sa
 ud University\, KSA&lt;/span&gt;&lt;/p&gt;\n&lt;p&gt;&lt;span style=&quot;font-weight: 400\;&quot;&gt;Time: 
 05:15 PM - 06:15 PM (GMT+3)&lt;/span&gt;&lt;/p&gt;\n&lt;p&gt;&lt;span style=&quot;font-weight: 400\;
 &quot;&gt;Date: 13th December 2021&lt;/span&gt;&lt;/p&gt;\n&lt;p&gt;&lt;span style=&quot;font-weight: 400\;&quot;
 &gt;Zoom-Link: &lt;/span&gt;&lt;a href=&quot;https://zoom.us/meeting/register/tJUqf-2sqzIvH
 NHXzR3B_HFaVm5QDDzbCY-p&quot;&gt;&lt;span style=&quot;font-weight: 400\;&quot;&gt;https://zoom.us/
 meeting/register/tJUqf-2sqzIvHNHXzR3B_HFaVm5QDDzbCY-p&lt;/span&gt;&lt;/a&gt;&lt;/p&gt;\n&lt;p&gt;&lt;
 span style=&quot;font-weight: 400\;&quot;&gt;Registration Link (VTools Events):&lt;/span&gt;&lt;
 a href=&quot;https://events.vtools.ieee.org/m/289300&quot;&gt;&lt;span style=&quot;font-weight:
  400\;&quot;&gt; &lt;/span&gt;&lt;span style=&quot;font-weight: 400\;&quot;&gt;https://events.vtools.iee
 e.org/m/289300&lt;/span&gt;&lt;/a&gt;&lt;/p&gt;
END:VEVENT
END:VCALENDAR

