BEGIN:VCALENDAR
VERSION:2.0
PRODID:IEEE vTools.Events//EN
CALSCALE:GREGORIAN
BEGIN:VTIMEZONE
TZID:America/Lima
BEGIN:DAYLIGHT
DTSTART:20380118T221407
TZOFFSETFROM:-0500
TZOFFSETTO:-0500
RRULE:FREQ=YEARLY;BYDAY=3MO;BYMONTH=1
TZNAME:-05
END:DAYLIGHT
BEGIN:STANDARD
DTSTART:19940331T230000
TZOFFSETFROM:-0400
TZOFFSETTO:-0500
RRULE:FREQ=YEARLY;BYDAY=-1TH;BYMONTH=3
TZNAME:-05
END:STANDARD
END:VTIMEZONE
BEGIN:VEVENT
DTSTAMP:20220419T205025Z
UID:8B4D84DD-6023-4459-A5E9-B954465D95FC
DTSTART;TZID=America/Lima:20211113T170000
DTEND;TZID=America/Lima:20211113T190000
DESCRIPTION:Hablaremos sobre los diferentes tipos de energías alternativas
  y la posición de las celdas solares dentro de ellas. Se mostrarán las e
 ficiencias alcanzadas con diferentes tipos de celdas solares\, las ventaja
 s y desventajas de cada una. Conoce sobre investigación en tecnología so
 lar!!!\n\nSpeaker(s): Magaly Estrada del Cueto\, \n\nVirtual: https://even
 ts.vtools.ieee.org/m/289399
LOCATION:Virtual: https://events.vtools.ieee.org/m/289399
ORGANIZER:priscila.portocarrer@utec.edu.pe
SEQUENCE:2
SUMMARY:Tecnología en Celdas Solares
URL;VALUE=URI:https://events.vtools.ieee.org/m/289399
X-ALT-DESC:Description: &lt;br /&gt;&lt;p&gt;Hablaremos sobre los diferentes tipos de e
 nerg&amp;iacute\;as alternativas y la posici&amp;oacute\;n de las celdas solares d
 entro de ellas. Se mostrar&amp;aacute\;n las eficiencias alcanzadas con difere
 ntes tipos de celdas solares\, las ventajas y desventajas de cada una. Con
 oce sobre investigaci&amp;oacute\;n en tecnolog&amp;iacute\;a solar!!!&lt;/p&gt;
END:VEVENT
END:VCALENDAR

