BEGIN:VCALENDAR
VERSION:2.0
PRODID:IEEE vTools.Events//EN
CALSCALE:GREGORIAN
BEGIN:VTIMEZONE
TZID:Europe/Lisbon
BEGIN:DAYLIGHT
DTSTART:20220327T020000
TZOFFSETFROM:+0000
TZOFFSETTO:+0100
RRULE:FREQ=YEARLY;BYDAY=-1SU;BYMONTH=3
TZNAME:WEST
END:DAYLIGHT
BEGIN:STANDARD
DTSTART:20211031T010000
TZOFFSETFROM:+0100
TZOFFSETTO:+0000
RRULE:FREQ=YEARLY;BYDAY=-1SU;BYMONTH=10
TZNAME:WET
END:STANDARD
END:VTIMEZONE
BEGIN:VEVENT
DTSTAMP:20220112T150728Z
UID:B4E91ECF-F564-4280-B72C-C3D2C61AEB96
DTSTART;TZID=Europe/Lisbon:20211126T090000
DTEND;TZID=Europe/Lisbon:20211126T200000
DESCRIPTION:IEEE Engineering Day is a yearly event promoted by IEEE Portuga
 l aiming to join Academia and Industry to present and discuss relevant top
 ics for the technological community. This year in a hybrid format\, we wil
 l meet at Porto (ISEP) and/or online with the topics Blockchain\, Federate
 d Learning and IoT (https://engineeringday.ieee-pt.org).\n\nAgenda: \nAgen
 da: https://engineeringday.ieee-pt.org/2021/#schedule\n\nConference Link: 
 [https://engineeringday.ieee-pt.org/](https://engineeringday.ieee-pt.org/2
 021/index.html)\n\n ISEP -   Instituto Superior de Engenharia do Porto\, R
 ua Dr. António Bernardino de Almeida\, 431\, Porto\, Norte\, Portugal\, 4
 249-015\, Virtual: https://events.vtools.ieee.org/m/289661
LOCATION: ISEP -   Instituto Superior de Engenharia do Porto\, Rua Dr. Ant
 ónio Bernardino de Almeida\, 431\, Porto\, Norte\, Portugal\, 4249-015\, 
 Virtual: https://events.vtools.ieee.org/m/289661
ORGANIZER:blockchain@ieee-pt.org
SEQUENCE:21
SUMMARY:ED&#39;21 | Engineering Day 2021 | IEEE Portugal Section
URL;VALUE=URI:https://events.vtools.ieee.org/m/289661
X-ALT-DESC:Description: &lt;br /&gt;&lt;p&gt;IEEE Engineering Day is a yearly event pro
 moted by IEEE Portugal aiming to join Academia and Industry to present and
  discuss relevant topics for the technological community. This year in a h
 ybrid format\, we will meet at Porto (ISEP) and/or online with the topics 
 Blockchain\, Federated Learning and IoT (&lt;a title=&quot;IEEE - PT Engineering D
 ay 2021&quot; href=&quot;https://engineeringday.ieee-pt.org&quot; target=&quot;_blank&quot; rel=&quot;no
 opener&quot;&gt;https://engineeringday.ieee-pt.org&lt;/a&gt;).&lt;/p&gt;\n&lt;p&gt;&amp;nbsp\;&lt;/p&gt;&lt;br /&gt;
 &lt;br /&gt;Agenda: &lt;br /&gt;&lt;p&gt;Agenda: &lt;a title=&quot;Agenda - schedule&quot; href=&quot;https://
 engineeringday.ieee-pt.org/2021/#schedule&quot; target=&quot;_blank&quot; rel=&quot;noopener&quot;&gt;
 https://engineeringday.ieee-pt.org/2021/#schedule&lt;/a&gt;&lt;/p&gt;\n&lt;p&gt;Conference L
 ink: &lt;a title=&quot;ED&#39;21 | IEEE-PT Engineering Day 2021&quot; href=&quot;https://enginee
 ringday.ieee-pt.org/2021/index.html&quot; target=&quot;_blank&quot; rel=&quot;noopener&quot;&gt;https:
 //engineeringday.ieee-pt.org/&lt;/a&gt;&lt;/p&gt;\n&lt;p&gt;&amp;nbsp\;&lt;/p&gt;\n&lt;p&gt;&amp;nbsp\;&lt;/p&gt;
END:VEVENT
END:VCALENDAR

