BEGIN:VCALENDAR
VERSION:2.0
PRODID:IEEE vTools.Events//EN
CALSCALE:GREGORIAN
BEGIN:VTIMEZONE
TZID:America/Chicago
BEGIN:DAYLIGHT
DTSTART:20220313T030000
TZOFFSETFROM:-0600
TZOFFSETTO:-0500
RRULE:FREQ=YEARLY;BYDAY=2SU;BYMONTH=3
TZNAME:CDT
END:DAYLIGHT
BEGIN:STANDARD
DTSTART:20221106T010000
TZOFFSETFROM:-0500
TZOFFSETTO:-0600
RRULE:FREQ=YEARLY;BYDAY=1SU;BYMONTH=11
TZNAME:CST
END:STANDARD
END:VTIMEZONE
BEGIN:VEVENT
DTSTAMP:20220507T185549Z
UID:599ADE80-C725-47A2-A60E-0B8BF0A7C7F2
DTSTART;TZID=America/Chicago:20220330T090000
DTEND;TZID=America/Chicago:20220402T163000
DESCRIPTION:[GreenTech 2022:](https://ieeegreentech.org/)The IEEE Houston S
 ection has partnered with Three T Institute to offer the Project Managemen
 t Institute (PMI) Project Management Professional (PMP) &amp; Certified Associ
 ate in Project Management (CAPM) training program for IEEE GreenTech 2022.
 \n\nThank you to our sponsor\, [IEEE-USA&#39;s Career and Professional Develop
 ment Committee](https://ieeeusa.org/careers/)\, for partnering with us to 
 bring this service to our membership.\n\nIn an increasingly projectized wo
 rld\, [PMI](https://www.pmi.org/certifications) professional certification
 s ensure that you’re ready to meet the demands of projects and employers
  across the globe. With a PMI certification behind your name\, you can wor
 k in virtually any industry\, anywhere in the world\, and with any project
  management methodology.\n\nThis is a Limited Registration program at a Sp
 ecial Price for all attendees. Once these seats are full\, no additional s
 eats will be available.\n\nOnline Project Management Certification Trainin
 g Program (PMP)\n\n- 6 weeks of structured online learned with live coachi
 ng calls twice a week\n- Access to Training Portal until exam completion\n
 - PMBOK 6th edition and Agile practice guide\n- Access to mock exam portal
  with over 1500 practice questions\n- Over 6 study resources and guides\n-
  Access to the private Student community\n- PMI PMP Application Support an
 d successful completion\n\nOnline Certified Associates Project Management 
 Training Program\n\n- 6 weeks of structured online learning with live coac
 hing sessions twice a week.\n- PMBOK 6th edition and Agile Book\n- Access 
 to top 2 Exam Portals with over 1400 practice questions\n- Over 6 study re
 sources and guides\n- Access to the private student community\n- PMI CAPM 
 Application Support and project hours calculation spreadsheet\n\nPOST LIVE
  TRAINING COACHING AND STRUCTURED LEARNING SUPPORT:\n6 Weeks of structured
  learning with 100% accountability and success with a certified project ma
 nagement coach to help students pass the PMP® exam on the first try. The 
 course is outlined to understand the three process domains: People\, Proce
 ss\, and Business environment. Week 6 of the course is reserved for exam p
 reparation and completing the Project Management Institutes (PMI) applicat
 ion for the certification.\n\n- Coaching Sessions (Twice a week):\n- Monda
 ys/Wednesdays 8:00 PM – 9:30 PM\n\nSUPPLIED MATERIAL\nThe following cour
 se materials are supplied by Three T Institute to registered attendees in 
 meeting your training goals for your resources to obtain the PMP Certifica
 tion\no Lifetime Access to the PMP® Online Training Class\no Lifetime Acc
 ess to Live-Online Student Coaching\no Lifetime Access to Student Communit
 y of Prospective PMP® certificates\no “PMP Exam Study Guide” Exam eBo
 ok\no PMBOK Guide 6th Edition/Agile Methodology eBook*\no 4000 Exam Questi
 on Bank\n\nCo-sponsored by: IEEE-USA\n\nAgenda: \nThis is now an Online 6 
 Weeks Training Program\n\nBldg: Hilton Houston North\, 12400 Greenspoint D
 r\, Houston\, Texas\, United States\, Virtual: https://events.vtools.ieee.
 org/m/289786
LOCATION:Bldg: Hilton Houston North\, 12400 Greenspoint Dr\, Houston\, Texa
 s\, United States\, Virtual: https://events.vtools.ieee.org/m/289786
ORGANIZER:christopher.b.sanderson@ieee.org
SEQUENCE:17
SUMMARY:GreenTech: Project Management Professional (PMP) &amp; Cert. Associate 
 Project Management (CAPM) Online Training
URL;VALUE=URI:https://events.vtools.ieee.org/m/289786
X-ALT-DESC:Description: &lt;br /&gt;&lt;p&gt;&lt;a href=&quot;https://ieeegreentech.org/&quot;&gt;&lt;stro
 ng&gt;GreenTech 2022: &lt;/strong&gt;&lt;/a&gt;The IEEE Houston Section has partnered wit
 h Three T Institute to offer the Project Management Institute (&lt;strong&gt;PMI
 &lt;/strong&gt;) Project Management Professional (&lt;strong&gt;PMP&lt;/strong&gt;) &amp;amp\; C
 ertified Associate in Project Management (&lt;strong&gt;CAPM&lt;/strong&gt;) training 
 program for &lt;strong&gt;IEEE GreenTech 2022&lt;/strong&gt;.&lt;/p&gt;\n&lt;p&gt;&lt;strong&gt;&lt;em&gt;Than
 k you to our sponsor\, &lt;a href=&quot;https://ieeeusa.org/careers/&quot; target=&quot;_bla
 nk&quot; rel=&quot;noopener&quot;&gt;IEEE-USA&#39;s Career and Professional Development Committe
 e&lt;/a&gt;\, for partnering with us to bring this service to our membership.&amp;nb
 sp\;&lt;/em&gt;&lt;/strong&gt;&lt;/p&gt;\n&lt;p&gt;In an increasingly projectized world\, &lt;a href=
 &quot;https://www.pmi.org/certifications&quot;&gt;PMI&lt;/a&gt; professional certifications e
 nsure that you&amp;rsquo\;re ready to meet the demands of projects and employe
 rs across the globe. With a PMI certification behind your name\, you can w
 ork in virtually any industry\, anywhere in the world\, and with any proje
 ct management methodology.&amp;nbsp\;&lt;/p&gt;\n&lt;p&gt;&lt;span style=&quot;background-color: #
 e2f77a\;&quot;&gt;&lt;strong&gt;&lt;em&gt;This is a Limited Registration program at a Special 
 Price for all attendees.&lt;/em&gt;&lt;/strong&gt;&lt;/span&gt;&amp;nbsp\; Once these seats are 
 full\, no additional seats will be available.&lt;/p&gt;\n&lt;p&gt;&lt;strong&gt;Online Proje
 ct Management Certification Training Program (PMP)&lt;/strong&gt;&lt;/p&gt;\n&lt;ul&gt;\n&lt;li
 &gt;6 weeks of structured online learned with live coaching calls twice a wee
 k&lt;/li&gt;\n&lt;li&gt;Access to Training Portal until exam completion&lt;/li&gt;\n&lt;li&gt;PMBO
 K 6th edition and Agile practice guide&lt;/li&gt;\n&lt;li&gt;Access to mock exam porta
 l with over 1500 practice questions&lt;/li&gt;\n&lt;li&gt;Over&amp;nbsp\;6 study resources
  and guides&lt;/li&gt;\n&lt;li&gt;Access to the private Student community&lt;/li&gt;\n&lt;li&gt;PM
 I PMP Application Support and successful completion&lt;/li&gt;\n&lt;/ul&gt;\n&lt;p&gt;&lt;stron
 g&gt;Online Certified Associates Project Management Training Program&lt;/strong&gt;
 &lt;/p&gt;\n&lt;ul&gt;\n&lt;li&gt;6 weeks of structured online learning with live coaching s
 essions twice a week.&lt;/li&gt;\n&lt;li&gt;PMBOK 6th edition and Agile Book&lt;/li&gt;\n&lt;li
 &gt;Access to top 2 Exam Portals with over 1400 practice questions&lt;/li&gt;\n&lt;li&gt;
 Over 6 study resources and guides&lt;/li&gt;\n&lt;li&gt;Access to the private student 
 community&lt;/li&gt;\n&lt;li&gt;PMI CAPM Application Support and project hours calcula
 tion spreadsheet&lt;/li&gt;\n&lt;/ul&gt;\n&lt;p&gt;&lt;strong&gt;POST LIVE TRAINING COACHING AND S
 TRUCTURED LEARNING SUPPORT:&lt;/strong&gt;&lt;br /&gt;6 Weeks of structured learning w
 ith 100% accountability and success with a certified project management co
 ach to help students pass the PMP&amp;reg\; exam on the first try. The course 
 is outlined to understand the three &lt;strong&gt;process domains: People\, Proc
 ess\, and Business environment.&lt;/strong&gt; Week 6 of the course is reserved 
 for exam preparation and completing the Project Management Institutes (PMI
 ) application for the certification.&lt;/p&gt;\n&lt;ul&gt;\n&lt;li&gt;Coaching Sessions (Twi
 ce a week):\n&lt;ul&gt;\n&lt;li&gt;Mondays/Wednesdays 8:00 PM &amp;ndash\; 9:30 PM&lt;/li&gt;\n&lt;
 /ul&gt;\n&lt;/li&gt;\n&lt;/ul&gt;\n&lt;p&gt;&lt;strong&gt;SUPPLIED MATERIAL&lt;/strong&gt;&lt;br /&gt;&lt;strong&gt;&lt;em
 &gt;The following course materials are supplied by Three T Institute to regis
 tered attendees in meeting your training goals for your resources to obtai
 n the PMP Certification&lt;/em&gt;&lt;/strong&gt;&lt;br /&gt;&amp;nbsp\; &amp;nbsp\;&amp;nbsp\;o&amp;nbsp\; 
 &amp;nbsp\;Lifetime Access to the PMP&amp;reg\; Online Training Class&lt;br /&gt;&amp;nbsp\;
  &amp;nbsp\; o&amp;nbsp\; &amp;nbsp\;Lifetime Access to Live-Online Student Coaching&lt;b
 r /&gt;&amp;nbsp\; &amp;nbsp\; o&amp;nbsp\; &amp;nbsp\;Lifetime Access to Student Community o
 f Prospective PMP&amp;reg\; certificates&lt;br /&gt;&amp;nbsp\; &amp;nbsp\; o&amp;nbsp\; &amp;nbsp\;
 &amp;ldquo\;PMP Exam Study Guide&amp;rdquo\; Exam eBook&lt;br /&gt;&amp;nbsp\; &amp;nbsp\; o&amp;nbs
 p\; &amp;nbsp\;PMBOK Guide 6th Edition/Agile Methodology eBook*&lt;br /&gt;&amp;nbsp\; &amp;
 nbsp\; o&amp;nbsp\; &amp;nbsp\;4000 Exam Question Bank&lt;/p&gt;&lt;br /&gt;&lt;br /&gt;Agenda: &lt;br 
 /&gt;&lt;p&gt;&lt;span style=&quot;font-family: Arial\, sans-serif\; color: #000000\;&quot;&gt;This
  is now an Online 6 Weeks Training Program&lt;/span&gt;&lt;/p&gt;
END:VEVENT
END:VCALENDAR

