BEGIN:VCALENDAR
VERSION:2.0
PRODID:IEEE vTools.Events//EN
CALSCALE:GREGORIAN
BEGIN:VTIMEZONE
TZID:MST
BEGIN:STANDARD
DTSTART:19671029T010000
TZOFFSETFROM:-0600
TZOFFSETTO:-0700
TZNAME:MST
END:STANDARD
END:VTIMEZONE
BEGIN:VEVENT
DTSTAMP:20220309T210120Z
UID:4E803DF1-EF95-4F2B-9E25-618A88353CBA
DTSTART;TZID=MST:20211209T164500
DTEND;TZID=MST:20211209T190000
DESCRIPTION:Thank you for choosing to be a part of this year&#39;s IEEE Student
  Branch Networking Event!\n\nWe are so excited to have you join our event 
 and share your expertise with students\n\nEach professional will be given 
 a &quot;table&quot; within our virtual conference room where we welcome you to intro
 duce students to your company and industry experience\n\nAgenda: \nOur Nig
 ht will begin with brief introductions the IEEE Student Branch and all the
  awesome professionals joining us followed by an interactive online space 
 allowing you to share your expertise and network with students!\n\nCalgary
 \, Alberta\, Canada\, Virtual: https://events.vtools.ieee.org/m/290878
LOCATION:Calgary\, Alberta\, Canada\, Virtual: https://events.vtools.ieee.o
 rg/m/290878
ORGANIZER:ieeeuofcsb@gmail.com
SEQUENCE:4
SUMMARY:IEEE NETWORKING NIGHT-Professionals Sign Up
URL;VALUE=URI:https://events.vtools.ieee.org/m/290878
X-ALT-DESC:Description: &lt;br /&gt;&lt;p&gt;Thank you for choosing to be a part of thi
 s year&#39;s IEEE Student Branch Networking Event!&lt;/p&gt;\n&lt;p&gt;We are so excited t
 o have you join our event and share your expertise with students&lt;/p&gt;\n&lt;p&gt;E
 ach professional will be given a &quot;table&quot; within our virtual conference roo
 m where we welcome you to introduce students to your company and industry 
 experience&lt;/p&gt;\n&lt;p&gt;&amp;nbsp\;&lt;/p&gt;&lt;br /&gt;&lt;br /&gt;Agenda: &lt;br /&gt;&lt;p&gt;Our Night will 
 begin with brief introductions the IEEE Student Branch and all the awesome
  professionals joining us followed by an interactive online space allowing
  you to share your expertise and network with students!&lt;/p&gt;\n&lt;p&gt;&amp;nbsp\;&lt;/p
 &gt;
END:VEVENT
END:VCALENDAR

