BEGIN:VCALENDAR
VERSION:2.0
PRODID:IEEE vTools.Events//EN
CALSCALE:GREGORIAN
BEGIN:VTIMEZONE
TZID:US/Eastern
BEGIN:DAYLIGHT
DTSTART:20220313T030000
TZOFFSETFROM:-0500
TZOFFSETTO:-0400
RRULE:FREQ=YEARLY;BYDAY=2SU;BYMONTH=3
TZNAME:EDT
END:DAYLIGHT
BEGIN:STANDARD
DTSTART:20211107T010000
TZOFFSETFROM:-0400
TZOFFSETTO:-0500
RRULE:FREQ=YEARLY;BYDAY=1SU;BYMONTH=11
TZNAME:EST
END:STANDARD
END:VTIMEZONE
BEGIN:VEVENT
DTSTAMP:20220510T214859Z
UID:8CFD7B42-82A8-4682-A010-3FB9D5C5D2D5
DTSTART;TZID=US/Eastern:20211216T120000
DTEND;TZID=US/Eastern:20211216T130000
DESCRIPTION:Founded in 1948\, CPI is a global manufacturer of electronic co
 mponents and subsystems focused primarily on communications and defense ma
 rkets. The company develops\, manufactures\, and globally distributes inno
 vative and reliable technology solutions used in the generation\, amplific
 ation\, transmission\, and reception of microwave signals for commercial a
 nd military applications. CPI serves customers in the communications\, def
 ense\, medical\, industrial\, and scientific markets.\n\nThe Satcom &amp; Medi
 cal Products Division of CPI is located in Georgetown\, Ontario. This pres
 entation introduces some of the CPI products\, basic technical background\
 , and the application of High Voltage for such medical and Satcom products
 .\n\nSpeaker(s): Mahdi Khanali\, \n\nAgenda: \nRegistration is mandatory. 
 Please use this link to join the meeting\n\n[Click here to join the meetin
 g](https://teams.microsoft.com/l/meetup-join/19%3ameeting_OWJiYjlhOWUtYWRk
 ZS00NDE5LTg5M2YtZWE1ZDJiMjM1Yzlm%40thread.v2/0?context=%7b%22Tid%22%3a%22a
 40c5c1a-c3a0-4d58-9133-6a85a1355893%22%2c%22Oid%22%3a%225808b2ac-8155-4423
 -8296-d6e7bd09000c%22%7d)\n\n_____________________________________________
 ___________________________________\n\nhttps://teams.microsoft.com/l/meetu
 p-join/19%3ameeting_OWJiYjlhOWUtYWRkZS00NDE5LTg5M2YtZWE1ZDJiMjM1Yzlm%40thr
 ead.v2/0?context=%7b%22Tid%22%3a%22a40c5c1a-c3a0-4d58-9133-6a85a1355893%22
 %2c%22Oid%22%3a%225808b2ac-8155-4423-8296-d6e7bd09000c%22%7d\n\nToronto\, 
 Ontario\, Canada
LOCATION:Toronto\, Ontario\, Canada
ORGANIZER:ali.naderian@ieee.org
SEQUENCE:7
SUMMARY:Introduction to CPI’s Satcom &amp; Medical Products 
URL;VALUE=URI:https://events.vtools.ieee.org/m/291432
X-ALT-DESC:Description: &lt;br /&gt;&lt;h4&gt;&lt;span style=&quot;font-size: 12pt\;&quot;&gt;Founded i
 n 1948\, CPI is a global manufacturer of electronic components and subsyst
 ems focused primarily on communications and defense markets. The company d
 evelops\, manufactures\, and globally distributes innovative and reliable 
 technology solutions used in the generation\, amplification\, transmission
 \, and reception of microwave signals for commercial and military applicat
 ions. CPI serves customers in the communications\, defense\, medical\, ind
 ustrial\, and scientific markets.&lt;br /&gt;&lt;/span&gt;&lt;/h4&gt;\n&lt;h4&gt;&lt;span style=&quot;font
 -size: 12pt\;&quot;&gt;The Satcom &amp;amp\; Medical Products Division of CPI is locat
 ed in Georgetown\, Ontario. This presentation introduces some of the CPI p
 roducts\, basic technical background\, and the application of High Voltage
  for such medical and Satcom products.&amp;nbsp\; &amp;nbsp\;&amp;nbsp\;&lt;/span&gt;&lt;/h4&gt;&lt;b
 r /&gt;&lt;br /&gt;Agenda: &lt;br /&gt;&lt;p&gt;Registration is mandatory.&amp;nbsp\; Please use th
 is link to join the meeting&lt;/p&gt;\n&lt;p&gt;&lt;a href=&quot;https://teams.microsoft.com/l
 /meetup-join/19%3ameeting_OWJiYjlhOWUtYWRkZS00NDE5LTg5M2YtZWE1ZDJiMjM1Yzlm
 %40thread.v2/0?context=%7b%22Tid%22%3a%22a40c5c1a-c3a0-4d58-9133-6a85a1355
 893%22%2c%22Oid%22%3a%225808b2ac-8155-4423-8296-d6e7bd09000c%22%7d&quot;&gt;Click 
 here to join the meeting&lt;/a&gt;&lt;/p&gt;\n&lt;p&gt;_____________________________________
 ___________________________________________&lt;/p&gt;\n&lt;p&gt;&lt;a href=&quot;https://teams
 .microsoft.com/l/meetup-join/19%3ameeting_OWJiYjlhOWUtYWRkZS00NDE5LTg5M2Yt
 ZWE1ZDJiMjM1Yzlm%40thread.v2/0?context=%7b%22Tid%22%3a%22a40c5c1a-c3a0-4d5
 8-9133-6a85a1355893%22%2c%22Oid%22%3a%225808b2ac-8155-4423-8296-d6e7bd0900
 0c%22%7d&quot;&gt;https://teams.microsoft.com/l/meetup-join/19%3ameeting_OWJiYjlhO
 WUtYWRkZS00NDE5LTg5M2YtZWE1ZDJiMjM1Yzlm%40thread.v2/0?context=%7b%22Tid%22
 %3a%22a40c5c1a-c3a0-4d58-9133-6a85a1355893%22%2c%22Oid%22%3a%225808b2ac-81
 55-4423-8296-d6e7bd09000c%22%7d&lt;/a&gt;&lt;/p&gt;\n&lt;p&gt;&amp;nbsp\;&lt;/p&gt;\n&lt;p&gt;&amp;nbsp\;&lt;/p&gt;
END:VEVENT
END:VCALENDAR

