BEGIN:VCALENDAR
VERSION:2.0
PRODID:IEEE vTools.Events//EN
CALSCALE:GREGORIAN
BEGIN:VTIMEZONE
TZID:Asia/Beirut
BEGIN:DAYLIGHT
DTSTART:20220327T010000
TZOFFSETFROM:+0200
TZOFFSETTO:+0300
RRULE:FREQ=YEARLY;BYDAY=-1SU;BYMONTH=3
TZNAME:EEST
END:DAYLIGHT
BEGIN:STANDARD
DTSTART:20211030T230000
TZOFFSETFROM:+0300
TZOFFSETTO:+0200
RRULE:FREQ=YEARLY;BYDAY=-1SA;BYMONTH=10
TZNAME:EET
END:STANDARD
END:VTIMEZONE
BEGIN:VEVENT
DTSTAMP:20211210T192817Z
UID:360B688D-534D-4BFA-A8C5-58301BC2DE4A
DTSTART;TZID=Asia/Beirut:20211208T210000
DTEND;TZID=Asia/Beirut:20211210T170000
DESCRIPTION:The Joint Chapter Chair\, Naseem Daher\, and Vice-Chair\, Flavi
 a Khatounian\, will chair the Control Systems\, Instrumentation and Roboti
 cs track at the 3rd IEEE International Multidisciplinary Conference on Eng
 ineering Technology (IMCET) to be held on 8-10 December 2021 in Beirut\, L
 ebanon.\n\nVirtual: https://events.vtools.ieee.org/m/291698
LOCATION:Virtual: https://events.vtools.ieee.org/m/291698
ORGANIZER:bachar.a.elhassan@ieee.org
SEQUENCE:2
SUMMARY:Chairing the &quot;Control Systems\, Instrumentation and Robotics&quot; Track
  at the 3rd IEEE IMCET
URL;VALUE=URI:https://events.vtools.ieee.org/m/291698
X-ALT-DESC:Description: &lt;br /&gt;&lt;p&gt;The Joint Chapter Chair\, Naseem Daher\, a
 nd Vice-Chair\, Flavia Khatounian\, will chair the Control Systems\, Instr
 umentation and Robotics track at the 3rd IEEE International Multidisciplin
 ary Conference on Engineering Technology (IMCET) to be held on 8-10 Decemb
 er 2021 in Beirut\, Lebanon.&lt;/p&gt;
END:VEVENT
END:VCALENDAR

