BEGIN:VCALENDAR
VERSION:2.0
PRODID:IEEE vTools.Events//EN
CALSCALE:GREGORIAN
BEGIN:VTIMEZONE
TZID:Africa/Tunis
BEGIN:STANDARD
DTSTART:20081026T020000
TZOFFSETFROM:+0200
TZOFFSETTO:+0100
TZNAME:CET
END:STANDARD
END:VTIMEZONE
BEGIN:VEVENT
DTSTAMP:20211130T192439Z
UID:780B4529-5930-4772-9154-9BBAA727A85B
DTSTART;TZID=Africa/Tunis:20211116T080000
DTEND;TZID=Africa/Tunis:20211116T170000
DESCRIPTION:The integration day was organized at the HWITA restaurant\, it 
 is a quiet place near the sea.\n\nIn this day the members meet and they do
  different activities which facilitate the communication between them.\n\n
 Virtual: https://events.vtools.ieee.org/m/292452
LOCATION:Virtual: https://events.vtools.ieee.org/m/292452
ORGANIZER:Iskandar.ghorbel@ieee.org
SEQUENCE:0
SUMMARY:SB integration Day
URL;VALUE=URI:https://events.vtools.ieee.org/m/292452
X-ALT-DESC:Description: &lt;br /&gt;&lt;p&gt;The integration day was organized at the H
 WITA restaurant\, it is a quiet place near the sea.&lt;/p&gt;\n&lt;p&gt;In this day th
 e members meet and they do different activities which facilitate the commu
 nication between them.&lt;/p&gt;
END:VEVENT
END:VCALENDAR

