BEGIN:VCALENDAR
VERSION:2.0
PRODID:IEEE vTools.Events//EN
CALSCALE:GREGORIAN
BEGIN:VTIMEZONE
TZID:America/Montreal
BEGIN:DAYLIGHT
DTSTART:20220313T030000
TZOFFSETFROM:-0500
TZOFFSETTO:-0400
RRULE:FREQ=YEARLY;BYDAY=2SU;BYMONTH=3
TZNAME:EDT
END:DAYLIGHT
BEGIN:STANDARD
DTSTART:20211107T010000
TZOFFSETFROM:-0400
TZOFFSETTO:-0500
RRULE:FREQ=YEARLY;BYDAY=1SU;BYMONTH=11
TZNAME:EST
END:STANDARD
END:VTIMEZONE
BEGIN:VEVENT
DTSTAMP:20211214T025920Z
UID:DE949847-D42D-47A3-BFA9-166C7FAFF85E
DTSTART;TZID=America/Montreal:20211213T160000
DTEND;TZID=America/Montreal:20211213T180000
DESCRIPTION:IEEE Montréal Systems Council Chapter	[]	In collaboration with
  IEEE Montréal Sensors Council Chapter	[]\n\nThe newly formed Montreal IE
 EE Systems Council Chapter is inviting you to its inaugural event\, featur
 ing two IEEE Distinguished Lecturers\, including the currnet President of 
 the [IEEE Systems Council](https://ieeesystemscouncil.org/)\, and the Edit
 or-in-Chief of the [IEEE Systems Journal.](https://ieeexplore.ieee.org/xpl
 /RecentIssue.jsp?punumber=4267003)\n\nTopcis will include discussions of t
 he use of artificial Intelligence in biometric systems\, and of data aggre
 gation for usenosr networks.\n\nSpeaker(s): Vincenzo Piuri\, Amir Aghdam\n
 \nVirtual: https://events.vtools.ieee.org/m/292990
LOCATION:Virtual: https://events.vtools.ieee.org/m/292990
ORGANIZER:fabrice.labeau@ieee.org
SEQUENCE:19
SUMMARY:AI\, Sensors and Biometrics: a Systems Perspective
URL;VALUE=URI:https://events.vtools.ieee.org/m/292990
X-ALT-DESC:Description: &lt;br /&gt;&lt;center&gt;\n&lt;table width=&quot;70%&quot;&gt;\n&lt;tbody&gt;\n&lt;tr&gt;\
 n&lt;td style=&quot;padding-right: 10px\;&quot; align=&quot;right&quot; valign=&quot;center&quot; width=&quot;35
 %&quot;&gt;&lt;span style=&quot;font-size: 14pt\;&quot;&gt;IEEE Montr&amp;eacute\;al Systems Council C
 hapter&lt;/span&gt;&lt;/td&gt;\n&lt;td&gt;&lt;img src=&quot;https://ieeesystemscouncil.org/sites/iee
 esyscouncil/files/syscon_logo_0.png&quot; alt=&quot;&quot; height=&quot;70&quot; /&gt;&lt;/td&gt;\n&lt;td style
 =&quot;padding-right: 10px\;&quot; align=&quot;right&quot; valign=&quot;center&quot; width=&quot;35%&quot;&gt;&lt;span s
 tyle=&quot;font-size: 14pt\;&quot;&gt;In collaboration with IEEE Montr&amp;eacute\;al Senso
 rs Council Chapter&lt;/span&gt;&lt;/td&gt;\n&lt;td&gt;&lt;img src=&quot;https://montreal.ieee.ca/fil
 es/2021/08/sensors-council.png&quot; alt=&quot;&quot; height=&quot;70&quot; /&gt;&lt;/td&gt;\n&lt;/tr&gt;\n&lt;/tbody
 &gt;\n&lt;/table&gt;\n&lt;/center&gt;\n&lt;p&gt;&amp;nbsp\;&lt;/p&gt;\n&lt;p&gt;The newly formed Montreal IEEE 
 Systems Council Chapter is inviting you to its inaugural event\, featuring
  two IEEE Distinguished Lecturers\, including the currnet President of the
  &lt;a href=&quot;https://ieeesystemscouncil.org/&quot;&gt;IEEE Systems Council&lt;/a&gt;\, and 
 the Editor-in-Chief of the &lt;a href=&quot;https://ieeexplore.ieee.org/xpl/Recent
 Issue.jsp?punumber=4267003&quot;&gt;IEEE Systems Journal.&lt;/a&gt;&lt;/p&gt;\n&lt;p&gt;Topcis will 
 include discussions of the use of artificial Intelligence in biometric sys
 tems\, and of data aggregation for usenosr networks.&lt;/p&gt;
END:VEVENT
END:VCALENDAR

