BEGIN:VCALENDAR
VERSION:2.0
PRODID:IEEE vTools.Events//EN
CALSCALE:GREGORIAN
BEGIN:VTIMEZONE
TZID:America/Denver
BEGIN:DAYLIGHT
DTSTART:20220313T030000
TZOFFSETFROM:-0700
TZOFFSETTO:-0600
RRULE:FREQ=YEARLY;BYDAY=2SU;BYMONTH=3
TZNAME:MDT
END:DAYLIGHT
BEGIN:STANDARD
DTSTART:20211107T010000
TZOFFSETFROM:-0600
TZOFFSETTO:-0700
RRULE:FREQ=YEARLY;BYDAY=1SU;BYMONTH=11
TZNAME:MST
END:STANDARD
END:VTIMEZONE
BEGIN:VEVENT
DTSTAMP:20220311T215440Z
UID:45433861-8B8D-4356-AA6D-7471A67D358D
DTSTART;TZID=America/Denver:20220224T183000
DTEND;TZID=America/Denver:20220224T193000
DESCRIPTION:COVID-19 Notice:\n\nWe ask that standard social distancing prac
 tices are employed by all attendees. This means staying more than 6 feet a
 way from other attendees. Avoid shaking hands or other means of contact. T
 he University of Utah has a MASK guidlines in effect. Masks will be STRONG
 LY ENCOURAGED in order to attend the event and we ask that you observe wea
 ring them\, even if properly social distanced. You will find more about CO
 VID-19 and CDC guidelines at https://www.cdc.gov/coronavirus/2019-ncov/you
 r-health/about-covid-19.html . You will find the current university COVID-
 19 Guidelines at: https://coronavirus.utah.edu/ . The State of Utah also p
 rovides its own guidance at: https://coronavirus.utah.gov/ . Thank you for
  observing these guidances!\n\nSpeaker(s): Paul Wesling\, Hewlett-Packard 
 (retired)\, \n\nAgenda: \nIntroductions\n\nMain Talk\n\nQ&amp;A\n\nNetworking\
 n\nRoom: Auditorium - 1st Floor\, 36 S Wasatch Dr #3100\, Salt Lake City\,
  Utah\, United States\, 84112\, Virtual: https://events.vtools.ieee.org/m/
 295592
LOCATION:Room: Auditorium - 1st Floor\, 36 S Wasatch Dr #3100\, Salt Lake C
 ity\, Utah\, United States\, 84112\, Virtual: https://events.vtools.ieee.o
 rg/m/295592
ORGANIZER:eric.ayers@ieee.org
SEQUENCE:23
SUMMARY:Characteristics of Successful Tech Hubs and Start-ups
URL;VALUE=URI:https://events.vtools.ieee.org/m/295592
X-ALT-DESC:Description: &lt;br /&gt;&lt;p&gt;&lt;span style=&quot;text-decoration: underline\; 
 color: #e03e2d\;&quot;&gt;&lt;strong&gt;COVID-19 Notice:&lt;/strong&gt;&lt;/span&gt;&lt;/p&gt;\n&lt;p&gt;&lt;span s
 tyle=&quot;color: #000000\;&quot;&gt;&lt;strong&gt;We ask that standard social distancing pra
 ctices are employed by all attendees. This means staying more than &lt;span s
 tyle=&quot;text-decoration: underline\; color: #e03e2d\;&quot;&gt;6&lt;/span&gt; feet away fr
 om other attendees. Avoid shaking hands or other means of contact. &lt;span s
 tyle=&quot;text-decoration: underline\; color: #e03e2d\;&quot;&gt;The University of Uta
 h has a MASK guidlines in effect. &lt;/span&gt;&lt;span style=&quot;color: #000000\;&quot;&gt;Ma
 sks will be STRONGLY ENCOURAGED in order to attend the event and we ask th
 at you observe wearing them\, even if properly social distanced. You will 
 find more about COVID-19 and CDC guidelines at &lt;a href=&quot;https://www.cdc.go
 v/coronavirus/2019-ncov/your-health/about-covid-19.html&quot;&gt;https://www.cdc.g
 ov/coronavirus/2019-ncov/your-health/about-covid-19.html&lt;/a&gt; . You will fi
 nd the current university COVID-19 Guidelines at: &lt;a href=&quot;https://coronav
 irus.utah.edu/&quot;&gt;https://coronavirus.utah.edu/&lt;/a&gt;&lt;/span&gt; . The State of Ut
 ah also provides its own guidance at: &lt;a href=&quot;https://coronavirus.utah.go
 v/&quot;&gt;https://coronavirus.utah.gov/&lt;/a&gt; . Thank you for observing these guid
 ances! &lt;br /&gt;&lt;/strong&gt;&lt;/span&gt;&lt;/p&gt;&lt;br /&gt;&lt;br /&gt;Agenda: &lt;br /&gt;&lt;p&gt;Introduction
 s&lt;/p&gt;\n&lt;p&gt;Main Talk&lt;/p&gt;\n&lt;p&gt;Q&amp;amp\;A&lt;/p&gt;\n&lt;p&gt;Networking&lt;/p&gt;
END:VEVENT
END:VCALENDAR

