BEGIN:VCALENDAR
VERSION:2.0
PRODID:IEEE vTools.Events//EN
CALSCALE:GREGORIAN
BEGIN:VTIMEZONE
TZID:US/Eastern
BEGIN:DAYLIGHT
DTSTART:20220313T030000
TZOFFSETFROM:-0500
TZOFFSETTO:-0400
RRULE:FREQ=YEARLY;BYDAY=2SU;BYMONTH=3
TZNAME:EDT
END:DAYLIGHT
BEGIN:STANDARD
DTSTART:20211107T010000
TZOFFSETFROM:-0400
TZOFFSETTO:-0500
RRULE:FREQ=YEARLY;BYDAY=1SU;BYMONTH=11
TZNAME:EST
END:STANDARD
END:VTIMEZONE
BEGIN:VEVENT
DTSTAMP:20220106T212226Z
UID:847CA197-49C7-4674-8738-C6E5EFE77270
DTSTART;TZID=US/Eastern:20220103T193000
DTEND;TZID=US/Eastern:20220103T203000
DESCRIPTION:This is a planning meeting for the newly-formed Lehigh Valley W
 IE Affinity Group. Interested Lehigh Valley Section WIE members are welcom
 e to attend.\n\nSpeaker(s): Christine Gerveshi\, \n\nAgenda: \nOld Busines
 s\n\n-  Panel Discussion Event with Lehigh University SWE (Lead: Xiaochen 
 Guo):\n- Target date/time is February 22 at 7:30 PM. Virtual Event.\n- Que
 stions will be submitted ahead of time for the Panel Discussion.\n- Breako
 ut rooms will follow the Panel Discussion\; goal is to foster casual mento
 ring relationships between students and professionals.\n- Will advertise t
 he event to women members of the Lehigh Valley Section.\n\n-  Science Rese
 arch Institute at Albright College (Lead: Bonnie Rhode):\n\nBonnie could n
 ot attend due to covid. She reported:\n\n- The college has been closed for
  the holiday\, so she did not have any updates on when the Science Researc
 h Institute is available for a tour. She will work on some dates.\n\n-  Vi
 rtual Meet and Greet (Lead: Carole Baddour):\n- Target date March 21\, 22\
 , 24 or 25.\n- Bonnie reported that she has not yet secured a speaker for 
 the online networking portion of the meeting.\n- Carole will work on plann
 ing an agenda for the Meet and Greet to get feedback from the team.\n\n-  
 Administrative Tools (Lead: Christine Gerveshi):\n- Learned how to create 
 IEEE vTools “Events” for our WIE meetings and get Webex session links 
 for them.\n- Learned how to report the meeting minutes via IEEE vTools.\n-
  Completed the WIE Group Officer roster Reporting for 2022 in IEEE vTools.
 \n- Still working on getting web site set up for WIE group in IEEE vTools.
 \n\nNew Business\n\nNone\n\nNext Meeting: February 7\, 2022\, 7:30pm.\n\nV
 irtual: https://events.vtools.ieee.org/m/295784
LOCATION:Virtual: https://events.vtools.ieee.org/m/295784
ORGANIZER:christine.gerveshi@live.com
SEQUENCE:10
SUMMARY:Lehigh Valley WIE Affinity Group Planning Meeting
URL;VALUE=URI:https://events.vtools.ieee.org/m/295784
X-ALT-DESC:Description: &lt;br /&gt;&lt;p&gt;This is a planning meeting for the newly-f
 ormed Lehigh Valley WIE Affinity Group. Interested Lehigh Valley Section W
 IE members are welcome to attend.&lt;/p&gt;&lt;br /&gt;&lt;br /&gt;Agenda: &lt;br /&gt;&lt;p&gt;&lt;strong&gt;
 &lt;u&gt;Old Business&lt;/u&gt;&lt;/strong&gt;&lt;/p&gt;\n&lt;ul&gt;\n&lt;li&gt;&lt;strong&gt; &lt;/strong&gt;Panel Discus
 sion Event with Lehigh University SWE (Lead: Xiaochen Guo):&lt;/li&gt;\n&lt;li&gt;Targ
 et date/time is February 22 at 7:30 PM. Virtual Event.&lt;/li&gt;\n&lt;li&gt;Questions
  will be submitted ahead of time for the Panel Discussion.&lt;/li&gt;\n&lt;li&gt;Break
 out rooms will follow the Panel Discussion\; goal is to foster casual ment
 oring relationships between students and professionals.&lt;/li&gt;\n&lt;li&gt;Will adv
 ertise the event to women members of the Lehigh Valley Section.&lt;/li&gt;\n&lt;/ul
 &gt;\n&lt;p&gt;&amp;nbsp\;&lt;/p&gt;\n&lt;ul&gt;\n&lt;li&gt;&lt;strong&gt; &lt;/strong&gt;Science Research Institute 
 at Albright College (Lead: Bonnie Rhode):&lt;/li&gt;\n&lt;/ul&gt;\n&lt;p&gt;Bonnie could not
  attend due to covid. She reported:&lt;/p&gt;\n&lt;ul&gt;\n&lt;li&gt;The college has been cl
 osed for the holiday\, so she did not have any updates on when the Science
  Research Institute is available for a tour. She will work on some dates.&lt;
 /li&gt;\n&lt;/ul&gt;\n&lt;p&gt;&amp;nbsp\;&lt;/p&gt;\n&lt;ul&gt;\n&lt;li&gt;&lt;strong&gt; &lt;/strong&gt;Virtual Meet and 
 Greet (Lead: Carole Baddour):&lt;/li&gt;\n&lt;li&gt;Target date March 21\, 22\, 24 or 
 25.&lt;/li&gt;\n&lt;li&gt;Bonnie reported that she has not yet secured a speaker for t
 he online networking portion of the meeting.&lt;/li&gt;\n&lt;li&gt;Carole will work on
  planning an agenda for the Meet and Greet to get feedback from the team.&lt;
 /li&gt;\n&lt;/ul&gt;\n&lt;p&gt;&amp;nbsp\;&lt;/p&gt;\n&lt;ul&gt;\n&lt;li&gt;&lt;strong&gt; &lt;/strong&gt;Administrative To
 ols (Lead: Christine Gerveshi):&lt;/li&gt;\n&lt;li&gt;Learned how to create IEEE vTool
 s &amp;ldquo\;Events&amp;rdquo\; for our WIE meetings and get Webex session links 
 for them.&lt;/li&gt;\n&lt;li&gt;Learned how to report the meeting minutes via IEEE vTo
 ols.&lt;/li&gt;\n&lt;li&gt;Completed the WIE Group Officer roster Reporting for 2022 i
 n IEEE vTools.&lt;/li&gt;\n&lt;li&gt;Still working on getting web site set up for WIE 
 group in IEEE vTools.&lt;/li&gt;\n&lt;/ul&gt;\n&lt;p&gt;&amp;nbsp\;&lt;/p&gt;\n&lt;p&gt;&lt;strong&gt;&lt;u&gt;New Busin
 ess&lt;/u&gt;&lt;/strong&gt;&lt;/p&gt;\n&lt;p&gt;None&lt;/p&gt;\n&lt;p&gt;&amp;nbsp\;&lt;/p&gt;\n&lt;p&gt;&lt;strong&gt;Next Meeting
 : &lt;/strong&gt;February 7\, 2022\, 7:30pm.&lt;/p&gt;\n&lt;p&gt;&amp;nbsp\;&lt;/p&gt;\n&lt;p&gt;&lt;strong&gt;&amp;nb
 sp\;&lt;/strong&gt;&lt;/p&gt;\n&lt;p&gt;&lt;strong&gt;&amp;nbsp\;&lt;/strong&gt;&lt;/p&gt;\n&lt;p&gt;&amp;nbsp\;&lt;/p&gt;
END:VEVENT
END:VCALENDAR

