BEGIN:VCALENDAR
VERSION:2.0
PRODID:IEEE vTools.Events//EN
CALSCALE:GREGORIAN
BEGIN:VTIMEZONE
TZID:US/Eastern
BEGIN:DAYLIGHT
DTSTART:20220313T030000
TZOFFSETFROM:-0500
TZOFFSETTO:-0400
RRULE:FREQ=YEARLY;BYDAY=2SU;BYMONTH=3
TZNAME:EDT
END:DAYLIGHT
BEGIN:STANDARD
DTSTART:20221106T010000
TZOFFSETFROM:-0400
TZOFFSETTO:-0500
RRULE:FREQ=YEARLY;BYDAY=1SU;BYMONTH=11
TZNAME:EST
END:STANDARD
END:VTIMEZONE
BEGIN:VEVENT
DTSTAMP:20220319T203135Z
UID:0FB864FD-DFAC-4CD4-AB20-591514C4DCBC
DTSTART;TZID=US/Eastern:20220315T120000
DTEND;TZID=US/Eastern:20220315T130000
DESCRIPTION:Narrated by Academy Award® winner Jeff Bridges\, Bechtel spons
 ored Movie &quot;Dream Big: Engineering Our World&quot; is a film which transforms h
 ow we and our children think about engineering. From the Great Wall of Chi
 na and the world’s tallest buildings\, to underwater robots\, solar cars
  and smart\, sustainable cities\, Dream Big celebrates the human ingenuity
  behind engineering marvels big and small\, and reveals the heart that dri
 ves engineers to create better lives for people around the world. It is a 
 tale of human grit\, aspiration\, compassion and the triumph of human inge
 nuity over life’s greatest challenges.\n\nFreehold\, New Jersey\, United
  States\, 07760\, Virtual: https://events.vtools.ieee.org/m/299100
LOCATION:Freehold\, New Jersey\, United States\, 07760\, Virtual: https://e
 vents.vtools.ieee.org/m/299100
ORGANIZER:fatimah.shehadeh@gmail.com
SEQUENCE:6
SUMMARY:Movie @Lunch - &quot;Dream Big - Engineering Our World&quot;
URL;VALUE=URI:https://events.vtools.ieee.org/m/299100
X-ALT-DESC:Description: &lt;br /&gt;&lt;h2 id=&quot;fancy-title-30&quot; class=&quot;mk-fancy-title
   simple-style  color-single&quot;&gt;Narrated by Academy Award&amp;reg\; winner Jeff 
 Bridges\,&lt;em&gt; Bechtel sponsored Movie &quot;Dream Big: Engineering Our World&quot;&lt;/
 em&gt; is a film which transforms how we and our children think about enginee
 ring. From the Great Wall of China and the world&amp;rsquo\;s tallest building
 s\, to underwater robots\, solar cars and smart\, sustainable cities\, &lt;em
 &gt;Dream Big&lt;/em&gt; celebrates the human ingenuity behind engineering marvels 
 big and small\, and reveals the heart that drives engineers to create bett
 er lives for people around the world.&amp;nbsp\; &amp;nbsp\;It is a tale of human 
 grit\, aspiration\, compassion and the triumph of human ingenuity over lif
 e&amp;rsquo\;s greatest challenges.&lt;/h2&gt;\n&lt;div class=&quot;clearboth&quot;&gt;&amp;nbsp\;&lt;/div&gt;
END:VEVENT
END:VCALENDAR

