BEGIN:VCALENDAR
VERSION:2.0
PRODID:IEEE vTools.Events//EN
CALSCALE:GREGORIAN
BEGIN:VTIMEZONE
TZID:US/Eastern
BEGIN:DAYLIGHT
DTSTART:20220313T030000
TZOFFSETFROM:-0500
TZOFFSETTO:-0400
RRULE:FREQ=YEARLY;BYDAY=2SU;BYMONTH=3
TZNAME:EDT
END:DAYLIGHT
BEGIN:STANDARD
DTSTART:20211107T010000
TZOFFSETFROM:-0400
TZOFFSETTO:-0500
RRULE:FREQ=YEARLY;BYDAY=1SU;BYMONTH=11
TZNAME:EST
END:STANDARD
END:VTIMEZONE
BEGIN:VEVENT
DTSTAMP:20220219T151501Z
UID:D24A32C3-88F0-4F32-8E11-885EE799C810
DTSTART;TZID=US/Eastern:20220216T113000
DTEND;TZID=US/Eastern:20220216T140000
DESCRIPTION:15 Minute Movie @ 11:30 AM &quot;Space to Explore&quot; - Award Winning S
 hort Film about a Woman Who Wants to Be an Engineer - The Take Away is Nev
 er Give Up Your Dream -\n\n20 Minute Documentary @ 12:00 PM &quot;Trailblazers:
  The Untold Stories of Six Women Engineers&quot; This Film Short tells the stor
 ies of six trailblazing women engineers in their own words\, sharing their
  experiences overcoming obstacles and paving the way for the next generati
 on\n\nMovie &quot;Dream Big - Engineering Our World&quot; @ 12:30 PM NARRATED BY ACA
 DEMY AWARD® WINNER JEFF BRIDGES\,\nWhich seeks to transform how we think 
 about Engineering. From the Great Wall of China and the worlds tallest bui
 ldings to underwater robots\, solar cars and smart sustainable cities\; th
 is film celebrates the human ingenuity bhind engineering marvels big and s
 mall\, and reveals the heart that drives Engineers to create better lives 
 for people around the world. It is a tale of Human Grit\, Aspiration\, Com
 passion\, and the triumph of human creativity over life&#39;s greatest challen
 ges.\n\nAgenda: \n15 Minute Short Film @ 11:30 AM &quot;Space to Explore&quot;\n\n20
  Minute Documentary @ 12:00 PM &quot;Trailblazers: The Untold Stories of Six Wo
 men Engineers&quot;\n\nMovie &quot;Dream Big - Engineering Our World&quot; @ 12:30 PM\n\n
 Ocean Grove\, New Jersey\, United States\, 07756\, Virtual: https://events
 .vtools.ieee.org/m/299114
LOCATION:Ocean Grove\, New Jersey\, United States\, 07756\, Virtual: https:
 //events.vtools.ieee.org/m/299114
ORGANIZER:dru@drureynolds.com
SEQUENCE:4
SUMMARY:1 Day Movie Series for Students Sponsored by Women In Engineering
URL;VALUE=URI:https://events.vtools.ieee.org/m/299114
X-ALT-DESC:Description: &lt;br /&gt;&lt;p&gt;15 Minute Movie @ 11:30 AM &quot;Space to Explo
 re&quot; - Award Winning Short Film about a Woman Who Wants to Be an Engineer -
  The Take Away is Never Give Up Your Dream -&amp;nbsp\;&lt;/p&gt;\n&lt;p&gt;20 Minute Docu
 mentary @ 12:00 PM &quot;&lt;span dir=&quot;ltr&quot; role=&quot;presentation&quot;&gt;Trailblazers: The 
 Untold Stories of Six Women Engineers&quot;&amp;nbsp\; &amp;nbsp\;&lt;/span&gt;&lt;span dir=&quot;ltr
 &quot; role=&quot;presentation&quot;&gt;This Film Short tells the stories of six trailblazin
 g women engineers in their own words\, &lt;/span&gt;&lt;span dir=&quot;ltr&quot; role=&quot;presen
 tation&quot;&gt;sharing their experiences overcoming obstacles and paving the way 
 for the next generation&lt;/span&gt;&lt;/p&gt;\n&lt;p&gt;Movie &quot;Dream Big - Engineering Our 
 World&quot; @ 12:30 PM &amp;nbsp\;&lt;span dir=&quot;ltr&quot; role=&quot;presentation&quot;&gt;NARRATED BY A
 CADEMY AWARD&amp;reg\; WINNER JEFF BRIDGES\,&amp;nbsp\; &lt;/span&gt;&lt;br role=&quot;presentat
 ion&quot; /&gt;&lt;span dir=&quot;ltr&quot; role=&quot;presentation&quot;&gt;Which seeks to transform how we
  think about Engineering.&amp;nbsp\; From the Great Wall of China and the worl
 ds tallest buildings to underwater robots\, solar cars and smart sustainab
 le cities\; this film celebrates the human ingenuity bhind engineering mar
 vels big and small\, and reveals the heart that drives Engineers to create
  better lives for people around the world.&amp;nbsp\; It is a tale of Human Gr
 it\, Aspiration\, Compassion\, and the triumph of human creativity over li
 fe&#39;s greatest challenges.&amp;nbsp\;&amp;nbsp\;&lt;/span&gt;&lt;/p&gt;&lt;br /&gt;&lt;br /&gt;Agenda: &lt;br 
 /&gt;&lt;p&gt;15 Minute Short Film @ 11:30 AM &quot;Space to Explore&quot;&amp;nbsp\;&lt;/p&gt;\n&lt;p&gt;20 
 Minute Documentary @ 12:00 PM &quot;&lt;span dir=&quot;ltr&quot; role=&quot;presentation&quot;&gt;Trailbl
 azers: The Untold Stories of Six Women Engineers&quot;&amp;nbsp\; &amp;nbsp\;&lt;/span&gt;&lt;/p
 &gt;\n&lt;p&gt;Movie &quot;Dream Big - Engineering Our World&quot; @ 12:30 PM&lt;/p&gt;\n&lt;p&gt;&amp;nbsp\;
 &lt;/p&gt;
END:VEVENT
END:VCALENDAR

