BEGIN:VCALENDAR
VERSION:2.0
PRODID:IEEE vTools.Events//EN
CALSCALE:GREGORIAN
BEGIN:VTIMEZONE
TZID:EET
BEGIN:DAYLIGHT
DTSTART:20210328T040000
TZOFFSETFROM:+0200
TZOFFSETTO:+0300
RRULE:FREQ=YEARLY;BYDAY=-1SU;BYMONTH=3
TZNAME:EEST
END:DAYLIGHT
BEGIN:STANDARD
DTSTART:20211031T030000
TZOFFSETFROM:+0300
TZOFFSETTO:+0200
RRULE:FREQ=YEARLY;BYDAY=-1SU;BYMONTH=10
TZNAME:EET
END:STANDARD
END:VTIMEZONE
BEGIN:VEVENT
DTSTAMP:20220107T214721Z
UID:114CF9D9-9D5B-477C-87E6-9E7B77364307
DTSTART;TZID=EET:20211023T030000
DTEND;TZID=EET:20211024T030000
DESCRIPTION:The IEEEXtreme International Competition was held this year at 
 An-Najah National University\, specifically at the Korean Institute. It is
  a global challenge in which teams of students compete in a 24-hour period
  to solve a set of software problems.\n\n16 teams of An-Najah National Uni
 versity students that are members of the IEEE Association participated in 
 the competition.\n\nThe competition was sponsored by ASAL Technologies Com
 pany\, as the place\, food and all the necessary needs of the participatin
 g students were secured during this period of time\, as well as providing 
 training sessions for students to be fully prepared for the competition.\n
 \nNajah National University \, Nablus\, West Bank\, Palestine
LOCATION:Najah National University \, Nablus\, West Bank\, Palestine
ORGANIZER:nabeelkayed@ieee.org
SEQUENCE:1
SUMMARY:IEEE Xtreme
URL;VALUE=URI:https://events.vtools.ieee.org/m/299309
X-ALT-DESC:Description: &lt;br /&gt;&lt;p&gt;&lt;span style=&quot;font-weight: 400\;&quot;&gt;The IEEEX
 treme International Competition was held this year at An-Najah National Un
 iversity\, specifically at the Korean Institute. It is a global challenge 
 in which teams of students compete in a 24-hour period to solve a set of s
 oftware problems.&lt;/span&gt;&lt;/p&gt;\n&lt;p&gt;&lt;span style=&quot;font-weight: 400\;&quot;&gt;16 teams
  of An-Najah National University students that are members of the IEEE Ass
 ociation participated in the competition.&lt;/span&gt;&lt;/p&gt;\n&lt;p&gt;&lt;span style=&quot;font
 -weight: 400\;&quot;&gt;The competition was sponsored by ASAL Technologies Company
 \, as the place\, food and all the necessary needs of the participating st
 udents were secured during this period of time\, as well as providing trai
 ning sessions for students to be fully prepared for the competition.&lt;/span
 &gt;&lt;/p&gt;
END:VEVENT
END:VCALENDAR

