BEGIN:VCALENDAR
VERSION:2.0
PRODID:IEEE vTools.Events//EN
CALSCALE:GREGORIAN
BEGIN:VTIMEZONE
TZID:US/Eastern
BEGIN:DAYLIGHT
DTSTART:20210314T030000
TZOFFSETFROM:-0500
TZOFFSETTO:-0400
RRULE:FREQ=YEARLY;BYDAY=2SU;BYMONTH=3
TZNAME:EDT
END:DAYLIGHT
BEGIN:STANDARD
DTSTART:20211107T010000
TZOFFSETFROM:-0400
TZOFFSETTO:-0500
RRULE:FREQ=YEARLY;BYDAY=1SU;BYMONTH=11
TZNAME:EST
END:STANDARD
END:VTIMEZONE
BEGIN:VEVENT
DTSTAMP:20220110T043216Z
UID:4D323B1B-E11B-41E6-9E6D-D466339AB404
DTSTART;TZID=US/Eastern:20210717T190000
DTEND;TZID=US/Eastern:20210717T200000
DESCRIPTION:Met to discuss IEEE Richmond YP Plans\n\nVirtual: https://event
 s.vtools.ieee.org/m/299563
LOCATION:Virtual: https://events.vtools.ieee.org/m/299563
ORGANIZER:john.moody@ieee.org
SEQUENCE:0
SUMMARY:IEEE YP Richmond Excom Meeting
URL;VALUE=URI:https://events.vtools.ieee.org/m/299563
X-ALT-DESC:Description: &lt;br /&gt;&lt;p&gt;Met to discuss IEEE Richmond YP Plans&lt;/p&gt;
END:VEVENT
END:VCALENDAR

