BEGIN:VCALENDAR
VERSION:2.0
PRODID:IEEE vTools.Events//EN
CALSCALE:GREGORIAN
BEGIN:VTIMEZONE
TZID:America/Sao_Paulo
BEGIN:DAYLIGHT
DTSTART:20380119T001407
TZOFFSETFROM:-0300
TZOFFSETTO:-0300
RRULE:FREQ=YEARLY;BYDAY=3TU;BYMONTH=1
TZNAME:-03
END:DAYLIGHT
BEGIN:STANDARD
DTSTART:20190216T230000
TZOFFSETFROM:-0200
TZOFFSETTO:-0300
RRULE:FREQ=YEARLY;BYDAY=3SA;BYMONTH=2
TZNAME:-03
END:STANDARD
END:VTIMEZONE
BEGIN:VEVENT
DTSTAMP:20220323T184731Z
UID:95AEA109-580F-4DBB-8B2F-8BDB32144766
DTSTART;TZID=America/Sao_Paulo:20220209T190000
DTEND;TZID=America/Sao_Paulo:20220209T200000
DESCRIPTION:- Evaluation of the chapter&#39;s activities in 2021\;\n- Activity 
 planning for 2022\;\n- Other subjects\;\n\nCampinas\, Sao Paulo\, Brazil\,
  Virtual: https://events.vtools.ieee.org/m/299597
LOCATION:Campinas\, Sao Paulo\, Brazil\, Virtual: https://events.vtools.iee
 e.org/m/299597
ORGANIZER:euclides.chuma@ieee.org
SEQUENCE:3
SUMMARY:ADMINISTRATIVE MEETING - IEEE Sensors and Systems Joint Councils - 
 South Brazil Section
URL;VALUE=URI:https://events.vtools.ieee.org/m/299597
X-ALT-DESC:Description: &lt;br /&gt;&lt;p&gt;- Evaluation of the chapter&#39;s activities i
 n 2021\;&lt;br /&gt;- Activity planning for 2022\;&lt;br /&gt;- Other subjects\;&lt;/p&gt;
END:VEVENT
END:VCALENDAR

