BEGIN:VCALENDAR
VERSION:2.0
PRODID:IEEE vTools.Events//EN
CALSCALE:GREGORIAN
BEGIN:VTIMEZONE
TZID:US/Eastern
BEGIN:DAYLIGHT
DTSTART:20220313T030000
TZOFFSETFROM:-0500
TZOFFSETTO:-0400
RRULE:FREQ=YEARLY;BYDAY=2SU;BYMONTH=3
TZNAME:EDT
END:DAYLIGHT
BEGIN:STANDARD
DTSTART:20211107T010000
TZOFFSETFROM:-0400
TZOFFSETTO:-0500
RRULE:FREQ=YEARLY;BYDAY=1SU;BYMONTH=11
TZNAME:EST
END:STANDARD
END:VTIMEZONE
BEGIN:VEVENT
DTSTAMP:20220118T190340Z
UID:1F13E896-46D0-4956-A3FA-9A5EFF92D352
DTSTART;TZID=US/Eastern:20220118T120000
DTEND;TZID=US/Eastern:20220118T133000
DESCRIPTION:Winner of the IEEE Northern Virginia Chapter of the Year 2017\n
 Winner of the IEEE Northern Virginia Chapter of the Year 2018\n\nTHE REGUL
 ARLY SCHEDULED VTS MEETING WILL BE HELD ONLINE UNTIL FURTHER NOTICE\n\nYou
  will need a computer with speakers to watch the presentation. A microphon
 e and webcam are optional but encouraged.\n\nCost:  Free!\n\nPlease regist
 er by 5 pm Monday\, January 17\n\nWebinar login details will be provided b
 y 8:00pm on Monday\, January 17.\n\nCheck the Chapter website for updates:
 \nhttps://r2.ieee.org/dcnova-vts/\n\nSpeaker: Ken Briers\, Chair\, Board o
 f Directors\, Rail Passengers Association\n\nTopic: Crossing the County at
  Amtrak&#39;s Beginning\n\nNote: You only need to provide the required informa
 tion (noted with a red *) on the registration web link\, BUT please help u
 s out and let us know if you are an IEEE or VTS member. Everyone is always
  welcome at our meetings and membership is NOT required\, but when we send
  meeting reports to IEEE\, we need to list the number of IEEE/VTS members 
 who participate.\n\nSpeaker(s): Ken Briers\, \n\nAgenda: \n- 12:00 pm - In
 troductions/roll call and discussion of current rail industry news and hap
 penings\n- 12:25pm - Election of Chapter officers for 2022\n- 12:30 pm - T
 echnical presentation &amp; discussion\n- 01:30 pm - Adjourn\n\n--------------
 ---------------------------------\n\nAbout the Topic:\n\nKen will show us 
 photos from a trip he took across the country in August of 1971\, over 50 
 years ago. Amtrak was only four months old\, and the trains were a mix of 
 what had been and what Amtrak was considering.\n\nWe will travel from Chic
 ago to Los Angeles aboard the Super Chief\, still a Santa Fe train\, in bo
 th equipment and service. And what a wonderful train it was! Then we go up
  to San Francisco on the Coast Starlight\, still almost all Southern Pacif
 ic. After a visit to San Francisco\, we will travel east to Chicago on the
  San Francisco Zephyr\, in a rainbow of pre-Amtrak western train colors. T
 he Seaboard Coast Line will take us to St. Petersburg on The Floridian\, w
 ith help from the Louisville &amp; Nashville\, before we return us to DC.\n\nA
  lot has changed since then\, and it is interesting to see the differences
 .\n\n-----------------------------------------------\n\nIEEE VTS CHAPTER O
 FFICERS:\n\n- Chair: David (DJ) Johnson\n- Vice-Chair: Reg Mitchell\n- Sec
 retary: Karl Berger\, PE\n- Treasurer: Steve Bezner\, PE\n- Cashier: Ken B
 riers\n- Program Committee: Heather Roman\, Matt Nawn\n\nPlease help your 
 VTS Chapter: If you would like to speak or have contact information for a 
 speaker\, please contact Heather Roman &lt;hroman at [omni-strategy dot com](
 http://omni-strategy.com/)&gt; or Matt Nawn &lt;matthew.nawn at dot.gov&gt;\n\nWash
 ington\, District of Columbia\, United States\, Virtual: https://events.vt
 ools.ieee.org/m/299777
LOCATION:Washington\, District of Columbia\, United States\, Virtual: https
 ://events.vtools.ieee.org/m/299777
ORGANIZER:ieee.vts.dc@gmail.com
SEQUENCE:4
SUMMARY:VTS: Crossing the County at Amtrak&#39;s Beginning 
URL;VALUE=URI:https://events.vtools.ieee.org/m/299777
X-ALT-DESC:Description: &lt;br /&gt;&lt;div&gt;&amp;nbsp\;&lt;/div&gt;\n&lt;div&gt;&amp;nbsp\;&lt;/div&gt;\n&lt;div&gt;
 &amp;nbsp\;&lt;/div&gt;\n&lt;div&gt;&amp;nbsp\;&lt;/div&gt;\n&lt;div&gt;&amp;nbsp\;&lt;/div&gt;\n&lt;div&gt;&amp;nbsp\;&lt;/div&gt;\
 n&lt;div&gt;&amp;nbsp\;&lt;/div&gt;\n&lt;div&gt;&amp;nbsp\;&lt;/div&gt;\n&lt;div&gt;&amp;nbsp\;&lt;/div&gt;\n&lt;div&gt;&amp;nbsp\;&lt;
 /div&gt;\n&lt;div&gt;&amp;nbsp\;&lt;/div&gt;\n&lt;div&gt;&amp;nbsp\;&lt;/div&gt;\n&lt;div&gt;&amp;nbsp\;&lt;/div&gt;\n&lt;div&gt;&amp;n
 bsp\;&lt;/div&gt;\n&lt;div&gt;&amp;nbsp\;&lt;/div&gt;\n&lt;div&gt;&amp;nbsp\;&lt;/div&gt;\n&lt;div&gt;&amp;nbsp\;&lt;/div&gt;\n&lt;
 div&gt;&amp;nbsp\;&lt;/div&gt;\n&lt;div&gt;&lt;span style=&quot;color: #0000ff\; background-color: #f
 fff00\;&quot;&gt;&lt;strong&gt;Winner of the IEEE Northern Virginia Chapter of the Year 
 2017&lt;/strong&gt;&lt;/span&gt;&lt;/div&gt;\n&lt;div&gt;&lt;span style=&quot;color: #0000ff\; background-
 color: #ff9900\;&quot;&gt;&lt;strong&gt;Winner of the IEEE Northern Virginia Chapter of 
 the Year 2018&lt;/strong&gt;&lt;/span&gt;&lt;/div&gt;\n&lt;div&gt;&amp;nbsp\;&lt;/div&gt;\n&lt;div&gt;&lt;span style=
 &quot;text-decoration: underline\;&quot;&gt;&lt;strong&gt;&lt;span style=&quot;background-color: #fff
 fff\;&quot;&gt;THE REGULARLY SCHEDULED VTS MEETING WILL BE HELD ONLINE UNTIL FURTH
 ER NOTICE&lt;/span&gt;&lt;/strong&gt;&lt;/span&gt;&lt;/div&gt;\n&lt;div&gt;\n&lt;p&gt;You will need a computer
  with speakers to watch the presentation.&amp;nbsp\; A microphone and webcam a
 re optional but encouraged.&lt;/p&gt;\n&lt;/div&gt;\n&lt;div&gt;\n&lt;div&gt;&amp;nbsp\;&lt;/div&gt;\n&lt;div&gt;&lt;
 strong&gt;Cost:&amp;nbsp\;&lt;/strong&gt; Free!&lt;/div&gt;\n&lt;div&gt;&amp;nbsp\;&lt;/div&gt;\n&lt;div&gt;\n&lt;p&gt;&lt;s
 pan style=&quot;text-decoration: underline\;&quot;&gt;&lt;strong&gt;Please register by 5 pm M
 onday\, January 17&lt;/strong&gt;&lt;/span&gt;&lt;/p&gt;\n&lt;/div&gt;\n&lt;div&gt;Webinar login details
  will be provided by 8:00pm on Monday\, January 17.&lt;/div&gt;\n&lt;div&gt;&amp;nbsp\;&lt;/d
 iv&gt;\n&lt;div&gt;&lt;strong&gt;Check the Chapter website for updates:&lt;/strong&gt;&lt;/div&gt;\n&lt;
 div&gt;&lt;a href=&quot;https://r2.ieee.org/dcnova-vts/&quot; target=&quot;_blank&quot; rel=&quot;noopene
 r&quot;&gt;https://r2.ieee.org/dcnova-vts/&lt;/a&gt;&lt;/div&gt;\n&lt;/div&gt;\n&lt;div&gt;&amp;nbsp\;&lt;/div&gt;\n
 &lt;div&gt;\n&lt;p&gt;&lt;strong&gt;Speaker:&lt;/strong&gt; &amp;nbsp\;Ken Briers\, Chair\, Board of D
 irectors\, Rail Passengers Association&lt;/p&gt;\n&lt;p&gt;&lt;strong&gt;Topic:&lt;/strong&gt; &amp;nb
 sp\;Crossing the County at Amtrak&#39;s Beginning&lt;/p&gt;\n&lt;p&gt;&lt;strong&gt;Note:&lt;/stron
 g&gt; You only need to provide the required information (noted with a red *) 
 on&amp;nbsp\;the registration web link\, BUT please help us out and let us kno
 w if&amp;nbsp\;you are an IEEE or VTS member.&amp;nbsp\; Everyone is always welcom
 e at our&amp;nbsp\;meetings and membership is NOT required\, but when we send 
 meeting&amp;nbsp\;reports to IEEE\, we need to list the number of IEEE/VTS mem
 bers who&amp;nbsp\;participate.&amp;nbsp\;&amp;nbsp\;&lt;/p&gt;\n&lt;/div&gt;&lt;br /&gt;&lt;br /&gt;Agenda: &lt;
 br /&gt;&lt;ul&gt;\n&lt;li&gt;12:00 pm - Introductions/roll call and discussion of curren
 t rail industry news and happenings&lt;/li&gt;\n&lt;li&gt;12:25pm - Election of Chapte
 r officers for 2022&lt;/li&gt;\n&lt;li&gt;12:30 pm - Technical presentation &amp;amp\; dis
 cussion&lt;/li&gt;\n&lt;li&gt;01:30 pm - Adjourn&lt;/li&gt;\n&lt;/ul&gt;\n&lt;p&gt;---------------------
 --------------------------&lt;/p&gt;\n&lt;p&gt;About the Topic:&lt;/p&gt;\n&lt;p&gt;&lt;br /&gt;Ken will
  show us photos from a trip he took across the country in August of 1971\,
  over 50 years ago. Amtrak was only four months old\, and the trains were 
 a mix of what had been and what Amtrak was considering.&lt;/p&gt;\n&lt;p&gt;We will tr
 avel from Chicago to Los Angeles aboard the Super Chief\, still a Santa Fe
  train\, in both equipment and service. And what a wonderful train it was!
  Then we go up to San Francisco on the Coast Starlight\, still almost all 
 Southern Pacific. After a visit to San Francisco\, we will travel east to 
 Chicago on the San Francisco Zephyr\, in a rainbow of pre-Amtrak western t
 rain colors. The Seaboard Coast Line will take us to St. Petersburg on The
  Floridian\, with help from the Louisville &amp;amp\; Nashville\, before we re
 turn us to DC.&lt;/p&gt;\n&lt;p&gt;A lot has changed since then\, and it is interestin
 g to see the differences.&lt;/p&gt;\n&lt;p&gt;&lt;br /&gt;&lt;br /&gt;----------------------------
 -------------------&lt;/p&gt;\n&lt;p&gt;&lt;span style=&quot;color: #ff9900\;&quot;&gt;&lt;strong&gt;IEEE VT
 S CHAPTER OFFICERS:&lt;/strong&gt;&lt;br /&gt;&lt;br /&gt;&lt;/span&gt;&lt;/p&gt;\n&lt;ul&gt;\n&lt;li&gt;Chair: Davi
 d (DJ) Johnson&lt;/li&gt;\n&lt;li&gt;Vice-Chair: Reg Mitchell&lt;/li&gt;\n&lt;li&gt;Secretary: Kar
 l Berger\, PE&lt;/li&gt;\n&lt;li&gt;Treasurer: Steve Bezner\, PE&lt;/li&gt;\n&lt;li&gt;Cashier: Ke
 n Briers&lt;/li&gt;\n&lt;li&gt;Program Committee: Heather Roman\, Matt Nawn&lt;/li&gt;\n&lt;/ul
 &gt;\n&lt;p&gt;&lt;strong&gt;&lt;span style=&quot;color: #ff9900\;&quot;&gt;&lt;span style=&quot;color: #000000\;
 &quot;&gt;&lt;span style=&quot;text-decoration: underline\;&quot;&gt;Please help your VTS Chapter:
 &lt;/span&gt; If you would like to speak or have contact information for a speak
 er\,&amp;nbsp\;please contact&amp;nbsp\; Heather Roman&amp;nbsp\;&amp;lt\;hroman at&amp;nbsp\;
 &lt;a href=&quot;http://omni-strategy.com/&quot; target=&quot;_blank&quot; rel=&quot;noopener noreferr
 er&quot; data-saferedirecturl=&quot;https://www.google.com/url?q=http://omni-strateg
 y.com&amp;amp\;source=gmail&amp;amp\;ust=1586649713004000&amp;amp\;usg=AFQjCNEdJGLl4xf
 p1uW0i0c9GWSLNQ30Eg&quot;&gt;omni-strategy dot com&lt;/a&gt;&amp;gt\; or&lt;/span&gt;&lt;/span&gt;&amp;nbsp\
 ;Matt Nawn &amp;lt\;matthew.nawn at dot.gov&amp;gt\;&lt;/strong&gt;&lt;/p&gt;
END:VEVENT
END:VCALENDAR

