BEGIN:VCALENDAR
VERSION:2.0
PRODID:IEEE vTools.Events//EN
CALSCALE:GREGORIAN
BEGIN:VTIMEZONE
TZID:US/Eastern
BEGIN:DAYLIGHT
DTSTART:20220313T030000
TZOFFSETFROM:-0500
TZOFFSETTO:-0400
RRULE:FREQ=YEARLY;BYDAY=2SU;BYMONTH=3
TZNAME:EDT
END:DAYLIGHT
BEGIN:STANDARD
DTSTART:20211107T010000
TZOFFSETFROM:-0400
TZOFFSETTO:-0500
RRULE:FREQ=YEARLY;BYDAY=1SU;BYMONTH=11
TZNAME:EST
END:STANDARD
END:VTIMEZONE
BEGIN:VEVENT
DTSTAMP:20220607T014943Z
UID:636B2F1E-A238-41F6-B08F-0515D231DF88
DTSTART;TZID=US/Eastern:20220118T140000
DTEND;TZID=US/Eastern:20220118T150000
DESCRIPTION:-\nIn this webinar\, the talk will be focussed on high-speed di
 gital design\, test\, and HDMI 1.4b / 2.1 interfaces.\n\nFor login informa
 tion and password\, please register by clicking the online link: [Register
  Here](https://smc-link.s4hana.ondemand.com/eu/data-buffer/sap/public/cuan
 /link/100/C916A2C4DD9067117BFD8F9268413CF132F69565?_V_=2&amp;_K11_=30E42A90BEF
 54CF195A185CF0DCFCF8AC09ED4A2&amp;_L54AD1F204_=c2NlbmFyaW89TUxDUEcmdGVuYW50PW1
 5MzAyMDM5LnM0aGFuYS5vbmRlbWFuZC5jb20mdGFyZ2V0PWh0dHBzOi8vZXZlbnQub24yNC5jb
 20vd2NjL3IvMzUzNTYzOC9DMTlGMEY0MTg1RURERDE5ODE4NDRCMUQ0QUNCQjJDRi8zMTc2MjA
 5P3BhcnRuZXJyZWY9aHFfbTRj&amp;_K13_=356&amp;_K14_=2cb8aa2b4e5d4f4c69a7cb152c70f60a
 bdc091af721ba9584f3a1b8d9197ef63)\n\nCo-sponsored by: IEEE North Jersey Se
 ction\n\nSpeaker(s): Guido Schulze\, Johannes Ganzert\n\nAgenda: \nFor log
 in information and password\, please register by clicking the online link:
  [Register Here](https://smc-link.s4hana.ondemand.com/eu/data-buffer/sap/p
 ublic/cuan/link/100/C916A2C4DD9067117BFD8F9268413CF132F69565?_V_=2&amp;_K11_=3
 0E42A90BEF54CF195A185CF0DCFCF8AC09ED4A2&amp;_L54AD1F204_=c2NlbmFyaW89TUxDUEcmd
 GVuYW50PW15MzAyMDM5LnM0aGFuYS5vbmRlbWFuZC5jb20mdGFyZ2V0PWh0dHBzOi8vZXZlbnQ
 ub24yNC5jb20vd2NjL3IvMzUzNTYzOC9DMTlGMEY0MTg1RURERDE5ODE4NDRCMUQ0QUNCQjJDR
 i8zMTc2MjA5P3BhcnRuZXJyZWY9aHFfbTRj&amp;_K13_=356&amp;_K14_=2cb8aa2b4e5d4f4c69a7cb
 152c70f60abdc091af721ba9584f3a1b8d9197ef63)\n\nBldg: Virtual \, Virtual Te
 chnical Webinar Meeting\, Virtual\, New Jersey\, United States
LOCATION:Bldg: Virtual \, Virtual Technical Webinar Meeting\, Virtual\, New
  Jersey\, United States
ORGANIZER:akpoddar@ieee.org
SEQUENCE:1
SUMMARY:Testing HDMI 1.4b / 2.1 interfaces with oscilloscopes
URL;VALUE=URI:https://events.vtools.ieee.org/m/299784
X-ALT-DESC:Description: &lt;br /&gt;&lt;ul&gt;\n&lt;li&gt;\n&lt;p&gt;In this webinar\, the talk wil
 l be focussed on high-speed digital design\, test\,&amp;nbsp\; and HDMI 1.4b /
  2.1 interfaces.&amp;nbsp\;&lt;/p&gt;\n&lt;/li&gt;\n&lt;/ul&gt;\n&lt;p&gt;&lt;span style=&quot;font-size: 12pt
 \;&quot;&gt;For login information and password\, please register by clicking the o
 nline link: &lt;a title=&quot;Save your spot&quot; href=&quot;https://smc-link.s4hana.ondema
 nd.com/eu/data-buffer/sap/public/cuan/link/100/C916A2C4DD9067117BFD8F92684
 13CF132F69565?_V_=2&amp;amp\;_K11_=30E42A90BEF54CF195A185CF0DCFCF8AC09ED4A2&amp;am
 p\;_L54AD1F204_=c2NlbmFyaW89TUxDUEcmdGVuYW50PW15MzAyMDM5LnM0aGFuYS5vbmRlbW
 FuZC5jb20mdGFyZ2V0PWh0dHBzOi8vZXZlbnQub24yNC5jb20vd2NjL3IvMzUzNTYzOC9DMTlG
 MEY0MTg1RURERDE5ODE4NDRCMUQ0QUNCQjJDRi8zMTc2MjA5P3BhcnRuZXJyZWY9aHFfbTRj&amp;a
 mp\;_K13_=356&amp;amp\;_K14_=2cb8aa2b4e5d4f4c69a7cb152c70f60abdc091af721ba9584
 f3a1b8d9197ef63&quot; target=&quot;_blank&quot; rel=&quot;nofollow noopener noreferrer&quot;&gt;Regist
 er Here&lt;/a&gt;&lt;/span&gt;&lt;/p&gt;&lt;br /&gt;&lt;br /&gt;Agenda: &lt;br /&gt;&lt;p&gt;&lt;span style=&quot;font-size:
  12pt\;&quot;&gt;For login information and password\, please register by clicking 
 the online link: &lt;a title=&quot;Save your spot&quot; href=&quot;https://smc-link.s4hana.o
 ndemand.com/eu/data-buffer/sap/public/cuan/link/100/C916A2C4DD9067117BFD8F
 9268413CF132F69565?_V_=2&amp;amp\;_K11_=30E42A90BEF54CF195A185CF0DCFCF8AC09ED4
 A2&amp;amp\;_L54AD1F204_=c2NlbmFyaW89TUxDUEcmdGVuYW50PW15MzAyMDM5LnM0aGFuYS5vb
 mRlbWFuZC5jb20mdGFyZ2V0PWh0dHBzOi8vZXZlbnQub24yNC5jb20vd2NjL3IvMzUzNTYzOC9
 DMTlGMEY0MTg1RURERDE5ODE4NDRCMUQ0QUNCQjJDRi8zMTc2MjA5P3BhcnRuZXJyZWY9aHFfb
 TRj&amp;amp\;_K13_=356&amp;amp\;_K14_=2cb8aa2b4e5d4f4c69a7cb152c70f60abdc091af721b
 a9584f3a1b8d9197ef63&quot; target=&quot;_blank&quot; rel=&quot;nofollow noopener noreferrer&quot;&gt;R
 egister Here&lt;/a&gt;&lt;/span&gt;&lt;/p&gt;
END:VEVENT
END:VCALENDAR

