BEGIN:VCALENDAR
VERSION:2.0
PRODID:IEEE vTools.Events//EN
CALSCALE:GREGORIAN
BEGIN:VTIMEZONE
TZID:America/Chicago
BEGIN:DAYLIGHT
DTSTART:20220313T030000
TZOFFSETFROM:-0600
TZOFFSETTO:-0500
RRULE:FREQ=YEARLY;BYDAY=2SU;BYMONTH=3
TZNAME:CDT
END:DAYLIGHT
BEGIN:STANDARD
DTSTART:20211107T010000
TZOFFSETFROM:-0500
TZOFFSETTO:-0600
RRULE:FREQ=YEARLY;BYDAY=1SU;BYMONTH=11
TZNAME:CST
END:STANDARD
END:VTIMEZONE
BEGIN:VEVENT
DTSTAMP:20220228T210105Z
UID:EFFF0695-35FD-470A-9042-9BFB51C067CD
DTSTART;TZID=America/Chicago:20220221T170000
DTEND;TZID=America/Chicago:20220221T190000
DESCRIPTION:[IEEE vTools Event Information Link](https://events.vtools.ieee
 .org/m/218945)\n\nThe official start time and remote access via WebEx will
  begin at 5:00pm.\n\nAgenda: \nAGENDA\n\n* Regular Twin Cities Section Bus
 iness Meeting\n\nMinneapolis\, Minnesota\, United States\, 55413\, Virtual
 : https://events.vtools.ieee.org/m/299897
LOCATION:Minneapolis\, Minnesota\, United States\, 55413\, Virtual: https:/
 /events.vtools.ieee.org/m/299897
ORGANIZER:tc-sec@ieee.org
SEQUENCE:6
SUMMARY:Twin Cities Section Executive Committee Meeting
URL;VALUE=URI:https://events.vtools.ieee.org/m/299897
X-ALT-DESC:Description: &lt;br /&gt;&lt;p&gt;&lt;a href=&quot;https://events.vtools.ieee.org/m/
 218945&quot;&gt;IEEE vTools Event Information Link&lt;/a&gt;&lt;/p&gt;\n&lt;p&gt;The official start 
 time and remote access via WebEx will begin at 5:00pm.&amp;nbsp\;&amp;nbsp\;&lt;/p&gt;\n
 &lt;div class=&quot;kMp0We JPnLRc&quot; aria-label=&quot;Video conference&quot;&gt;\n&lt;div class=&quot;NI2
 kfb O7tFQc DX3x9d ECCms&quot;&gt;\n&lt;div class=&quot; Q3pZ0e&quot;&gt;&amp;nbsp\;&lt;/div&gt;\n&lt;/div&gt;\n&lt;/d
 iv&gt;\n&lt;p&gt;&amp;nbsp\;&lt;/p&gt;&lt;br /&gt;&lt;br /&gt;Agenda: &lt;br /&gt;&lt;p&gt;&lt;strong&gt;AGENDA&lt;/strong&gt;&lt;/p
 &gt;\n&lt;p&gt;* Regular Twin Cities Section Business Meeting&lt;/p&gt;\n&lt;p&gt;&amp;nbsp\;&lt;/p&gt;
END:VEVENT
END:VCALENDAR

