BEGIN:VCALENDAR
VERSION:2.0
PRODID:IEEE vTools.Events//EN
CALSCALE:GREGORIAN
BEGIN:VTIMEZONE
TZID:America/Toronto
BEGIN:DAYLIGHT
DTSTART:20220313T030000
TZOFFSETFROM:-0500
TZOFFSETTO:-0400
RRULE:FREQ=YEARLY;BYDAY=2SU;BYMONTH=3
TZNAME:EDT
END:DAYLIGHT
BEGIN:STANDARD
DTSTART:20211107T010000
TZOFFSETFROM:-0400
TZOFFSETTO:-0500
RRULE:FREQ=YEARLY;BYDAY=1SU;BYMONTH=11
TZNAME:EST
END:STANDARD
END:VTIMEZONE
BEGIN:VEVENT
DTSTAMP:20220114T012527Z
UID:B37A2C74-28E7-4464-AF06-F0977647F804
DTSTART;TZID=America/Toronto:20220113T190000
DTEND;TZID=America/Toronto:20220113T201400
DESCRIPTION:Hamilton Section Executive meeting\n\nHamilton\, Ontario\, Cana
 da\, Virtual: https://events.vtools.ieee.org/m/300126
LOCATION:Hamilton\, Ontario\, Canada\, Virtual: https://events.vtools.ieee.
 org/m/300126
ORGANIZER:eduardo.gomez.hennig@ieee.org
SEQUENCE:2
SUMMARY:Hamilton Section Executive meeting
URL;VALUE=URI:https://events.vtools.ieee.org/m/300126
X-ALT-DESC:Description: &lt;br /&gt;&lt;p&gt;Hamilton Section Executive meeting&lt;/p&gt;
END:VEVENT
END:VCALENDAR

