BEGIN:VCALENDAR
VERSION:2.0
PRODID:IEEE vTools.Events//EN
CALSCALE:GREGORIAN
BEGIN:VTIMEZONE
TZID:America/New_York
BEGIN:DAYLIGHT
DTSTART:20220313T030000
TZOFFSETFROM:-0500
TZOFFSETTO:-0400
RRULE:FREQ=YEARLY;BYDAY=2SU;BYMONTH=3
TZNAME:EDT
END:DAYLIGHT
BEGIN:STANDARD
DTSTART:20211107T010000
TZOFFSETFROM:-0400
TZOFFSETTO:-0500
RRULE:FREQ=YEARLY;BYDAY=1SU;BYMONTH=11
TZNAME:EST
END:STANDARD
END:VTIMEZONE
BEGIN:VEVENT
DTSTAMP:20220128T150014Z
UID:98100CA9-D53C-43DC-A09E-04DF32187299
DTSTART;TZID=America/New_York:20220120T174500
DTEND;TZID=America/New_York:20220120T191500
DESCRIPTION:Will a Robot Take My Job? Robots\, Artificial Intelligence\, Su
 pply Chain and You\nBob Collins\, CPIM-F\, CIRM\, CSCP\, CPTD\, CAE\, is t
 he owner of the Bob Collins Group\, specializing in Supply Chain education
 .\nThursday\, January 20\, 2022 - 5:45 PM - 7:15 PM EST\n\nAgenda:\n5:45pm
  - Virtual Networking\n6:00pm - Chapter Announcements\, introductions\n6:1
 0pm - Speaker\n7:10pm - Q&amp;A\, closing remarks\n\nRobots are moving materia
 ls in Amazon warehouses\, delivering medicine and performing intricate sur
 gery in hospitals\, serving as paralegals and document review attorneys\, 
 and even vacuuming our floors. Artificial Intelligence programs are beatin
 g chess masters\, Jeopardy! contestants\, and Texas hold&#39;em poker champion
 s. We talk to chatbots on our phones\, tablets and in our homes (e.g.\, Si
 ri and Alexa)\, and they respond to our requests.\n\nWe’ll look at where
  these technologies are going and how our jobs might change in this enviro
 nment of escalating automation. How will AI disrupt where and how work is 
 done\, and the decisions made in our supply chains? And will a robot take 
 your job? You&#39;ll gain an understanding of what robots and AI can — and c
 annot — do. You&#39;ll learn which jobs might be at the most risk to automat
 ion\, and what humans can do that a robot or machine can&#39;t. You&#39;ll leave w
 ith new insight into whether your job is safe\, or whether it&#39;s time for y
 ou to start brushing up on new skills.\n\nBOB COLLINS\, CPIM-F\, CIRM\, CS
 CP\, CPTD\, CAE\, is the owner of the Bob Collins Group\, specializing in 
 Supply Chain education.\n\nhttps://www.linkedin.com/in/bob-collins-cfpim-c
 irm-cscp-cptd-cae-b179a41/\n\nCollins is the former Senior Director of Lea
 rning and Development for the Association of Supply Chain Management (ASCM
 )\, the global leader in supply chain organizational transformation\, inno
 vation\, and leadership. ASCM is built on a foundation of APICS certificat
 ion and training spanning 60 years. For over a decade\, Collins was respon
 sible for certification and non-certification courseware and education pro
 ducts and the association’s Instructor Development Program (IDP) with ov
 er 800 instructors worldwide.\n\nPrior to joining ASCM\, Collins worked as
  both a practitioner and consultant in the operations management and suppl
 y chain field for many years. As a practitioner\, he worked in the fibergl
 ass composite\, sporting goods\, and housewares. As an ERP implementation 
 consultant\, Collins worked with such firms as Rockwell EC\, Recycled Gree
 ting Products\, Omniquip Textron\, ourhouse.com\, General Dynamics\, Gener
 al Electric\, and others.\n\nCollins is also an experienced APICS instruct
 or having taught many certification and supply chain education courses ove
 r the years. He is a frequent speaker at the ASCM International Conference
  and has presented at Supply Chain conferences in the United States\, Irel
 and\, South Africa\, Australia\, Brazil and Singapore\, focusing on supply
  chain topics and how we learn\, how the brain works and artificial intell
 igence.\n\nEndicott\, New York\, United States\, 13760\, Virtual: https://
 events.vtools.ieee.org/m/300753
LOCATION:Endicott\, New York\, United States\, 13760\, Virtual: https://eve
 nts.vtools.ieee.org/m/300753
ORGANIZER:socci@ieee.org
SEQUENCE:3
SUMMARY:WILL A ROBOT TAKE MY JOB? 
URL;VALUE=URI:https://events.vtools.ieee.org/m/300753
X-ALT-DESC:Description: &lt;br /&gt;&lt;p&gt;&lt;strong&gt;Will a Robot Take My Job? Robots\,
  Artificial Intelligence\, Supply Chain and You&lt;/strong&gt;&lt;br /&gt;&lt;strong&gt;Bob 
 Collins\,&amp;nbsp\;&lt;/strong&gt;&lt;strong&gt;CPIM-F\, CIRM\, CSCP\,&amp;nbsp\;&lt;/strong&gt;&lt;st
 rong&gt;CPTD\, CAE\,&lt;/strong&gt;&amp;nbsp\;is the owner of the Bob Collins Group\, s
 pecializing in Supply Chain education.&lt;br /&gt;&lt;strong&gt;Thursday\, January 20\
 , 2022 - 5:45 PM - 7:15 PM EST&lt;/strong&gt;&lt;br /&gt;&lt;br /&gt;&lt;strong&gt;Agenda:&lt;/strong
 &gt;&lt;br /&gt;5:45pm - Virtual Networking&lt;br /&gt;6:00pm - Chapter Announcements\, i
 ntroductions&lt;br /&gt;6:10pm - Speaker&lt;br /&gt;7:10pm - Q&amp;amp\;A\, closing remark
 s&lt;/p&gt;\n&lt;p&gt;Robots are moving materials in Amazon warehouses\, delivering me
 dicine and performing intricate surgery in hospitals\, serving as paralega
 ls and document review attorneys\, and even vacuuming our floors. Artifici
 al Intelligence programs are beating chess masters\, Jeopardy! contestants
 \, and Texas hold&#39;em poker champions. We talk to chatbots on our phones\, 
 tablets and in our homes (e.g.\, Siri and Alexa)\, and they respond to our
  requests.&lt;/p&gt;\n&lt;p&gt;We&amp;rsquo\;ll look at where these technologies are going
  and how our jobs might change in this environment of escalating automatio
 n. How will AI disrupt where and how work is done\, and the decisions made
  in our supply chains? And will a robot take your job? You&#39;ll gain an unde
 rstanding of what robots and AI can &amp;mdash\; and cannot &amp;mdash\; do. You&#39;l
 l learn which jobs might be at the most risk to automation\, and what huma
 ns can do that a robot or machine can&#39;t. You&#39;ll leave with new insight int
 o whether your job is safe\, or whether it&#39;s time for you to start brushin
 g up on new skills.&lt;/p&gt;\n&lt;p&gt;&lt;strong&gt;&lt;br /&gt;BOB COLLINS\, CPIM-F\, CIRM\, CS
 CP\,&amp;nbsp\;&lt;/strong&gt;&lt;strong&gt;CPTD\, CAE\,&lt;/strong&gt;&amp;nbsp\;is the owner of th
 e Bob Collins Group\, specializing in Supply Chain education.&lt;/p&gt;\n&lt;p&gt;&lt;a h
 ref=&quot;https://www.linkedin.com/in/bob-collins-cfpim-cirm-cscp-cptd-cae-b179
 a41/&quot;&gt;https://www.linkedin.com/in/bob-collins-cfpim-cirm-cscp-cptd-cae-b17
 9a41/&lt;/a&gt;&lt;/p&gt;\n&lt;p&gt;Collins is the former Senior Director of Learning and De
 velopment for the Association of Supply Chain Management (ASCM)\, the glob
 al leader in supply chain organizational transformation\, innovation\, and
  leadership. ASCM is built on a foundation of APICS certification and trai
 ning spanning 60 years. For over a decade\, Collins was responsible for ce
 rtification and non-certification courseware and education products and th
 e association&amp;rsquo\;s Instructor Development Program (IDP) with over 800 
 instructors worldwide.&lt;/p&gt;\n&lt;p&gt;Prior to joining ASCM\, Collins worked as b
 oth a practitioner and consultant in the operations management and supply 
 chain field for many years. As a practitioner\, he worked in the fiberglas
 s composite\, sporting goods\, and housewares. As an ERP implementation co
 nsultant\, Collins worked with such firms as Rockwell EC\, Recycled Greeti
 ng Products\, Omniquip Textron\, ourhouse.com\, General Dynamics\, General
  Electric\, and others.&lt;/p&gt;\n&lt;p&gt;Collins is also an experienced APICS instr
 uctor having taught many certification and supply chain education courses 
 over the years. He is a frequent speaker at the ASCM International Confere
 nce and has presented at Supply Chain conferences in the United States\, I
 reland\, South Africa\, Australia\, Brazil and Singapore\, focusing on sup
 ply chain topics and how we learn\, how the brain works and artificial int
 elligence.&lt;/p&gt;\n&lt;p&gt;&amp;nbsp\;&lt;/p&gt;
END:VEVENT
END:VCALENDAR

