BEGIN:VCALENDAR
VERSION:2.0
PRODID:IEEE vTools.Events//EN
CALSCALE:GREGORIAN
BEGIN:VTIMEZONE
TZID:US/Eastern
BEGIN:DAYLIGHT
DTSTART:20220313T030000
TZOFFSETFROM:-0500
TZOFFSETTO:-0400
RRULE:FREQ=YEARLY;BYDAY=2SU;BYMONTH=3
TZNAME:EDT
END:DAYLIGHT
BEGIN:STANDARD
DTSTART:20211107T010000
TZOFFSETFROM:-0400
TZOFFSETTO:-0500
RRULE:FREQ=YEARLY;BYDAY=1SU;BYMONTH=11
TZNAME:EST
END:STANDARD
END:VTIMEZONE
BEGIN:VEVENT
DTSTAMP:20220226T014755Z
UID:5B05CB37-3289-43D6-B1FE-F47E52A6865E
DTSTART;TZID=US/Eastern:20220222T193000
DTEND;TZID=US/Eastern:20220222T203000
DESCRIPTION:Mentoring and networking event jointly hosted by theLehigh Vall
 ey IEEE WIE group and the CS chapter. The event consists of a panel discus
 sion by professional women in technical fields\, followed by breakout room
 s for networking.\n\nVirtual: https://events.vtools.ieee.org/m/300930
LOCATION:Virtual: https://events.vtools.ieee.org/m/300930
ORGANIZER:christine.gerveshi@live.com
SEQUENCE:8
SUMMARY:Lehigh Valley IEEE WIE and CS Networking and Mentorship Event for S
 tudents
URL;VALUE=URI:https://events.vtools.ieee.org/m/300930
X-ALT-DESC:Description: &lt;br /&gt;&lt;p&gt;&lt;span style=&quot;color: #222222\; font-family:
  Arial\, Helvetica\, sans-serif\; font-size: small\; font-style: normal\; 
 font-variant-ligatures: normal\; font-variant-caps: normal\; font-weight: 
 400\; letter-spacing: normal\; orphans: 2\; text-align: start\; text-inden
 t: 0px\; text-transform: none\; white-space: normal\; widows: 2\; word-spa
 cing: 0px\; -webkit-text-stroke-width: 0px\; background-color: #ffffff\; t
 ext-decoration-thickness: initial\; text-decoration-style: initial\; text-
 decoration-color: initial\; display: inline !important\; float: none\;&quot;&gt;Me
 ntoring and networking event jointly hosted by theLehigh Valley IEEE WIE g
 roup and the CS chapter. The event consists of a panel discussion by profe
 ssional women in technical fields\, followed by breakout rooms for network
 ing. &lt;br /&gt;&lt;/span&gt;&lt;/p&gt;
END:VEVENT
END:VCALENDAR

