BEGIN:VCALENDAR
VERSION:2.0
PRODID:IEEE vTools.Events//EN
CALSCALE:GREGORIAN
BEGIN:VTIMEZONE
TZID:EET
BEGIN:DAYLIGHT
DTSTART:20220327T040000
TZOFFSETFROM:+0200
TZOFFSETTO:+0300
RRULE:FREQ=YEARLY;BYDAY=-1SU;BYMONTH=3
TZNAME:EEST
END:DAYLIGHT
BEGIN:STANDARD
DTSTART:20211031T030000
TZOFFSETFROM:+0300
TZOFFSETTO:+0200
RRULE:FREQ=YEARLY;BYDAY=-1SU;BYMONTH=10
TZNAME:EET
END:STANDARD
END:VTIMEZONE
BEGIN:VEVENT
DTSTAMP:20220128T144215Z
UID:AC5ADD37-8418-4129-A597-06C8282D6354
DTSTART;TZID=EET:20211210T090000
DTEND;TZID=EET:20211210T110000
DESCRIPTION:The IEEE branch participated in the activities of the Digital I
 nclusion Week in Palestine sponsored by the Ministry of Telecom &amp; IT Pales
 tine - Ministry of Communications and Information Technology. Where a sess
 ion of the basics of Arduino programming was presented to the students of 
 Tala&#39;a Al-Amal School.\n\nTala&#39;e AlAmal school\, Nablus\, West Bank\, Pale
 stine
LOCATION:Tala&#39;e AlAmal school\, Nablus\, West Bank\, Palestine
ORGANIZER:najah.ieee@gmail.com
SEQUENCE:0
SUMMARY:Basic Arduino school session
URL;VALUE=URI:https://events.vtools.ieee.org/m/302106
X-ALT-DESC:Description: &lt;br /&gt;&lt;p&gt;&lt;span style=&quot;font-weight: 400\;&quot;&gt;The IEEE 
 branch participated in the activities of the Digital Inclusion Week in Pal
 estine sponsored by the Ministry of Telecom &amp;amp\; IT Palestine - Ministry
  of Communications and Information Technology. Where a session of the basi
 cs of Arduino programming was presented to the students of Tala&#39;a Al-Amal 
 School.&lt;/span&gt;&lt;/p&gt;
END:VEVENT
END:VCALENDAR

