BEGIN:VCALENDAR
VERSION:2.0
PRODID:IEEE vTools.Events//EN
CALSCALE:GREGORIAN
BEGIN:VTIMEZONE
TZID:America/Fortaleza
BEGIN:DAYLIGHT
DTSTART:20380119T001407
TZOFFSETFROM:-0300
TZOFFSETTO:-0300
RRULE:FREQ=YEARLY;BYDAY=3TU;BYMONTH=1
TZNAME:-03
END:DAYLIGHT
BEGIN:STANDARD
DTSTART:20020216T230000
TZOFFSETFROM:-0200
TZOFFSETTO:-0300
RRULE:FREQ=YEARLY;BYDAY=3SA;BYMONTH=2
TZNAME:-03
END:STANDARD
END:VTIMEZONE
BEGIN:VEVENT
DTSTAMP:20220212T130424Z
UID:5C6F6BEE-4A59-4FB8-9A0D-477E91FD9D14
DTSTART;TZID=America/Fortaleza:20220129T090000
DTEND;TZID=America/Fortaleza:20220129T110000
DESCRIPTION:Encontro semanal para estudos relacionados à engenharia de mic
 ro-ondas e radiofrequência. Neste encontro será apresentado sobre introd
 ução à radiofrequência e circuitos de micro-ondas.\n\nMossoró\, Rio G
 rande do Norte\, Brazil\, Virtual: https://events.vtools.ieee.org/m/302247
LOCATION:Mossoró\, Rio Grande do Norte\, Brazil\, Virtual: https://events.
 vtools.ieee.org/m/302247
ORGANIZER:mttsufersamossoro@gmail.com
SEQUENCE:2
SUMMARY:Grupo de Estudos em Micro-ondas - Encontro 2022/01/29
URL;VALUE=URI:https://events.vtools.ieee.org/m/302247
X-ALT-DESC:Description: &lt;br /&gt;&lt;p&gt;&lt;span style=&quot;font-family: &#39;times new roman
 &#39;\, times\, serif\;&quot;&gt;Encontro semanal para estudos relacionados &amp;agrave\; 
 engenharia de micro-ondas e radiofrequ&amp;ecirc\;ncia. Neste encontro ser&amp;aac
 ute\; apresentado sobre introdu&amp;ccedil\;&amp;atilde\;o &amp;agrave\; radiofrequ&amp;ec
 irc\;ncia e circuitos de micro-ondas.&lt;/span&gt;&lt;/p&gt;
END:VEVENT
END:VCALENDAR

