BEGIN:VCALENDAR
VERSION:2.0
PRODID:IEEE vTools.Events//EN
CALSCALE:GREGORIAN
BEGIN:VTIMEZONE
TZID:US/Eastern
BEGIN:DAYLIGHT
DTSTART:20220313T030000
TZOFFSETFROM:-0500
TZOFFSETTO:-0400
RRULE:FREQ=YEARLY;BYDAY=2SU;BYMONTH=3
TZNAME:EDT
END:DAYLIGHT
BEGIN:STANDARD
DTSTART:20211107T010000
TZOFFSETFROM:-0400
TZOFFSETTO:-0500
RRULE:FREQ=YEARLY;BYDAY=1SU;BYMONTH=11
TZNAME:EST
END:STANDARD
END:VTIMEZONE
BEGIN:VEVENT
DTSTAMP:20230128T232544Z
UID:B7607226-CE42-48CB-88A1-CF1261F5BD32
DTSTART;TZID=US/Eastern:20220217T183000
DTEND;TZID=US/Eastern:20220217T203000
DESCRIPTION:BIOGRAPHY\n\nRaafat Mansour is a Professor of Electrical and Co
 mputer Engineering at the University of Waterloo and holds Tier 1- Canada 
 Research Chair (CRC) in Micro-Nano Integrated RF Systems. He held an NSERC
  Industrial Research Chair (IRC) for two terms (2001-2005) and (2006-2010)
 . Prior to joining the University of Waterloo in January 2000\, Dr. Mansou
 r was with COM DEV\, a global manufacturer of space hardware in Canada\, o
 ver the period 1986-1999\, where he held various technical and management 
 positions in COM DEV’s Corporate R&amp;D Department. Professor Mansour holds
  42 US and Canadian patents and more than 400 refereed publications to his
  credit. He is a co-author of the highly successful Wiley book “Microwav
 e Filters for Communication Systems\, Fundamentals\, Design and Applicatio
 ns\,” an in-depth look at the state-of-the-art in microwave filter desig
 n\, implementation\, and optimization. He has also contributed 6 chapters 
 to four other books. Professor Mansour founded the Centre for Integrated R
 F Engineering (CIRFE) at the University of Waterloo https://uwaterloo.ca/c
 entre-integrated-rf-engineering/. It houses a clean room and a highly adva
 nced RF test and characterization laboratory. He served as the Technical P
 rogram Committee (TPC) Chair of the 2012 IEEE International Microwave Symp
 osium (IMS). Professor Mansour is a Fellow of the IEEE\, a Fellow of the C
 anadian Academy of Engineering (CAE)\, a Fellow of the Engineering Institu
 te of Canada (EIC). He was the recipient of the 2014 Professional Engineer
 s Ontario (PEO) Engineering Medal for Research and Development and the 201
 9 IEEE Canada A.G.L. McNaughton Gold Medal Award.\n\nPRESENTATION\n\nMULTI
 -FUNCTION MULTI-BAND RECONFIGURABLE HIGH-Q FILTERS\n\nReconfigurable filte
 rs are key components in the development of agile multi-standard receivers
 . The advent of innovative switched capacitor arrays and switch technologi
 es based on Silicon on Sapphire\, Micro-Electro-Mechanical Systems (MEMS) 
 and Phase Change Material (PCM) technologies permits the development of a 
 new generation of high linearity\, low loss\, and low power consumption tu
 nable components. In this new generation of reconfigurable microwave front
 -ends\, microwave reconfigurable filters are among the most critical and c
 hallenging components to perform adaptive frequency-band selection. This D
 ML talk starts by addressing the needs for using multi-band and tunable fi
 lters in wireless communication systems and in flexible satellite payloads
 . It then addresses existing tuning technologies\, providing a comparison 
 between piezoelectric\, Semiconductor\, MEMS and PCM tuning elements in te
 rms of linearity\, insertion loss\, suitability for use at millimeter-wave
  frequencies and ease of integration with high-Q filters. It outlines majo
 r design considerations for tunable filters presenting techniques to reali
 ze tunable filters with an absolute constant absolute bandwidth and a cons
 tant frequency spacing between transmission zeros\, over a wide tuning ran
 ge. The talk also illustrates examples of tunable filters and diplexers tu
 ned only a by single tuning element\, while exhibiting a constant absolute
  bandwidth. It then addresses approaches for realizing multi-band filters 
 including dual-band and triple-band filters. Finally\, it presents techniq
 ues for realizing multi-band filters where the various bands are tunable i
 n both center frequency and bandwidth.\n\n[]\n\nVirtual: https://events.vt
 ools.ieee.org/m/302995
LOCATION:Virtual: https://events.vtools.ieee.org/m/302995
ORGANIZER:jmmoskal@ieee.org
SEQUENCE:6
SUMMARY:Multi-Function Multi-Band Reconfigurable High-Q Filters
URL;VALUE=URI:https://events.vtools.ieee.org/m/302995
X-ALT-DESC:Description: &lt;br /&gt;&lt;div&gt;\n&lt;p class=&quot;yiv1897867422MsoNormal&quot;&gt;&lt;str
 ong&gt;BIOGRAPHY&lt;/strong&gt;&lt;/p&gt;\n&lt;/div&gt;\n&lt;p class=&quot;yiv1897867422MsoNormal&quot;&gt;Raaf
 at Mansour is a Professor of Electrical and Computer Engineering at the Un
 iversity of Waterloo and holds Tier 1- Canada Research Chair (CRC) in Micr
 o-Nano Integrated RF Systems. He held an NSERC Industrial Research Chair (
 IRC) for two terms (2001-2005) and (2006-2010). Prior to joining the Unive
 rsity of Waterloo in January 2000\, Dr. Mansour was with COM DEV\, a globa
 l manufacturer of space hardware in Canada\, over the period 1986-1999\, w
 here he held various technical and management positions in COM DEV&amp;rsquo\;
 s Corporate R&amp;amp\;D Department. Professor Mansour holds 42 US and Canadia
 n patents and more than 400 refereed publications to his credit. He is a c
 o-author of the highly successful Wiley book &amp;ldquo\;Microwave Filters for
  Communication Systems\, Fundamentals\, Design and Applications\,&amp;rdquo\; 
 an in-depth look at the state-of-the-art in microwave filter design\, impl
 ementation\, and optimization. He has also contributed 6 chapters to four 
 other books. Professor Mansour founded the Centre for Integrated RF Engine
 ering (CIRFE) at the University of Waterloo&amp;nbsp\;&lt;a href=&quot;https://uwaterl
 oo.ca/centre-integrated-rf-engineering/&quot; target=&quot;_blank&quot; rel=&quot;nofollow noo
 pener noreferrer&quot; shape=&quot;rect&quot;&gt;https://uwaterloo.ca/centre-integrated-rf-e
 ngineering/&lt;/a&gt;. It houses a clean room and a highly advanced RF test and 
 characterization laboratory. He served as the Technical Program Committee 
 (TPC) Chair of the 2012 IEEE International Microwave Symposium (IMS). Prof
 essor Mansour is a Fellow of the IEEE\, a Fellow of the Canadian Academy o
 f Engineering (CAE)\, a Fellow of the Engineering Institute of Canada (EIC
 ). He was the recipient of the 2014 Professional Engineers Ontario (PEO) E
 ngineering Medal for Research and Development and the 2019 IEEE Canada A.G
 .L. McNaughton Gold Medal Award.&lt;/p&gt;\n&lt;div&gt;\n&lt;p class=&quot;yiv1897867422MsoNor
 mal&quot;&gt;&lt;strong&gt;PRESENTATION&lt;/strong&gt;&lt;/p&gt;\n&lt;/div&gt;\n&lt;p class=&quot;yiv1897867422Mso
 Normal&quot;&gt;&lt;strong&gt;&lt;em&gt;MULTI-FUNCTION MULTI-BAND RECONFIGURABLE HIGH-Q FILTER
 S&lt;/em&gt;&lt;/strong&gt;&lt;/p&gt;\n&lt;p class=&quot;yiv1897867422MsoNormal&quot;&gt;Reconfigurable filt
 ers are key components in the development of agile multi-standard receiver
 s. The advent of innovative switched capacitor arrays and switch technolog
 ies based on Silicon on Sapphire\, Micro-Electro-Mechanical Systems (MEMS)
  and Phase Change Material (PCM) technologies permits the development of a
  new generation of high linearity\, low loss\, and low power consumption t
 unable components. In this new generation of reconfigurable microwave fron
 t-ends\, microwave reconfigurable filters are among the most critical and 
 challenging components to perform adaptive frequency-band selection. This 
 DML talk starts by addressing the needs for using multi-band and tunable f
 ilters in wireless communication systems and in flexible satellite payload
 s. It then addresses existing tuning technologies\, providing a comparison
  between piezoelectric\, Semiconductor\, MEMS and PCM tuning elements in t
 erms of linearity\, insertion loss\, suitability for use at millimeter-wav
 e frequencies and ease of integration with high-Q filters. It outlines maj
 or design considerations for tunable filters presenting techniques to real
 ize tunable filters with an absolute constant absolute bandwidth and a con
 stant frequency spacing between transmission zeros\, over a wide tuning ra
 nge. The talk also illustrates examples of tunable filters and diplexers t
 uned only a by single tuning element\, while exhibiting a constant absolut
 e bandwidth. It then addresses approaches for realizing multi-band filters
  including dual-band and triple-band filters. Finally\, it presents techni
 ques for realizing multi-band filters where the various bands are tunable 
 in both center frequency and bandwidth.&lt;/p&gt;\n&lt;p class=&quot;yiv1897867422MsoNor
 mal&quot;&gt;&amp;nbsp\;&lt;/p&gt;\n&lt;p class=&quot;yiv1897867422MsoNormal&quot;&gt;&lt;a rel=&quot;nofollow noope
 ner noreferrer&quot; name=&quot;_MailEndCompose&quot; shape=&quot;rect&quot;&gt;&lt;/a&gt;&amp;nbsp\;&lt;/p&gt;
END:VEVENT
END:VCALENDAR

