BEGIN:VCALENDAR
VERSION:2.0
PRODID:IEEE vTools.Events//EN
CALSCALE:GREGORIAN
BEGIN:VTIMEZONE
TZID:US/Eastern
BEGIN:DAYLIGHT
DTSTART:20220313T030000
TZOFFSETFROM:-0500
TZOFFSETTO:-0400
RRULE:FREQ=YEARLY;BYDAY=2SU;BYMONTH=3
TZNAME:EDT
END:DAYLIGHT
BEGIN:STANDARD
DTSTART:20211107T010000
TZOFFSETFROM:-0400
TZOFFSETTO:-0500
RRULE:FREQ=YEARLY;BYDAY=1SU;BYMONTH=11
TZNAME:EST
END:STANDARD
END:VTIMEZONE
BEGIN:VEVENT
DTSTAMP:20220228T181541Z
UID:9246C36D-0AA8-4CA9-ADB8-380C296ED048
DTSTART;TZID=US/Eastern:20220224T120000
DTEND;TZID=US/Eastern:20220224T130000
DESCRIPTION:This month we will learn all about Linux has now become a funda
 mental part of our everyday global life. Maybe a few years ago – if you 
 query the average Joe on the street (assuming they were not a geek) about 
 Linux\, you may have gotten the following response: “Yeah\, like you kno
 w\, isn’t some sort of thingy like\, you know\, an operating system. I h
 eard of it\, but don’t know it personally myself - that it is very diffi
 cult to use.” You might be astonished to know just how often you use Lin
 ux in your daily life.\n\nThis talk is aimed at sharing with our members a
 nd guest audience\, numerous practical examples for each hour of the day\,
  how Linux is perhaps a regular part of your life\, maybe in the backgroun
 d\, maybe in the foreground and yet you do not realize it.\n\nNo prior kno
 wledge of computing or Linux is assumed or necessary. The talk will be fas
 t paced and full of details.\n\nCo-sponsored by: Peter Silverberg\n\nSpeak
 er(s): Sharan Kalwani\, \n\nAgenda: \nSee description. Bring your own sand
 wich.\n\nRiverside\, New Jersey\, United States\, 08075\, Virtual: https:/
 /events.vtools.ieee.org/m/303104
LOCATION:Riverside\, New Jersey\, United States\, 08075\, Virtual: https://
 events.vtools.ieee.org/m/303104
ORGANIZER:ieee@gpamg.org
SEQUENCE:3
SUMMARY:Linux in everyday life
URL;VALUE=URI:https://events.vtools.ieee.org/m/303104
X-ALT-DESC:Description: &lt;br /&gt;&lt;p&gt;This month we will learn all about Linux h
 as now become a fundamental part of our everyday global life. Maybe a few 
 years ago &amp;ndash\; if you query the average Joe on the street (assuming th
 ey were not a geek) about Linux\, you may have gotten the following respon
 se: &amp;nbsp\;&amp;ldquo\;&lt;em&gt;Yeah\, like you know\, isn&amp;rsquo\;t some sort of th
 ingy like\, you know\, an operating system. I heard of it\, but don&amp;rsquo\
 ;t know it personally myself - that it is very difficult to use.&amp;rdquo\;&lt;/
 em&gt; You might be astonished to know just how often you use Linux in your d
 aily life.&lt;/p&gt;\n&lt;p&gt;This talk is aimed at sharing with our members and gues
 t audience\, numerous practical examples for each hour of the day\, how Li
 nux is perhaps a regular part of your life\, maybe in the background\, may
 be in the foreground and yet you do not realize it.&lt;/p&gt;\n&lt;p&gt;No prior knowl
 edge of computing or Linux is assumed or necessary. The talk will be fast 
 paced and full of details.&lt;/p&gt;&lt;br /&gt;&lt;br /&gt;Agenda: &lt;br /&gt;&lt;p&gt;See description
 . &amp;nbsp\;Bring your own sandwich.&amp;nbsp\;&lt;/p&gt;
END:VEVENT
END:VCALENDAR

