BEGIN:VCALENDAR
VERSION:2.0
PRODID:IEEE vTools.Events//EN
CALSCALE:GREGORIAN
BEGIN:VTIMEZONE
TZID:Europe/Stockholm
BEGIN:DAYLIGHT
DTSTART:20220327T030000
TZOFFSETFROM:+0100
TZOFFSETTO:+0200
RRULE:FREQ=YEARLY;BYDAY=-1SU;BYMONTH=3
TZNAME:CEST
END:DAYLIGHT
BEGIN:STANDARD
DTSTART:20211031T020000
TZOFFSETFROM:+0200
TZOFFSETTO:+0100
RRULE:FREQ=YEARLY;BYDAY=-1SU;BYMONTH=10
TZNAME:CET
END:STANDARD
END:VTIMEZONE
BEGIN:VEVENT
DTSTAMP:20220218T110022Z
UID:70601439-D5E2-4A32-BFF9-DE030819F850
DTSTART;TZID=Europe/Stockholm:20220217T160000
DTEND;TZID=Europe/Stockholm:20220217T170000
DESCRIPTION:IEEE Photonics Society (PS) Sweden Chapter is proud to present 
 Prof. Salah Obayya\, Zewail City of Science and Technology\, Giza\, Egypt\
 , as a speaker at this webinar entitled “Computational Nanophotonics: Ba
 sics\, Challenges and Future Perspectives”. Prof. Obayya is one of six l
 ecturers in the [IEEE Photonics Society Distinguished Lecturer (DL) Progra
 m](https://www.photonicssociety.org/education-careers/distinguished-lectur
 er-program). The program was designed to honor excellent speakers who have
  made technical\, industrial\, or entrepreneurial contributions to the fie
 ld of photonics and to enhance the technical programs of the IEEE Photonic
 s Society Chapters. Due to the Covid pandemic it will be a webinar.\n\nNan
 ophotonics modelling for 21St century applications is becoming vital. The 
 computational modeling provides a fundamental understanding of the relying
  physics behind the operation of photonic devices. However\, computational
  modeling is still a challenge as some of the existing modeling techniques
  fail to capture the correct behavior of nano-photonic devices. In this re
 gard\, this talk will introduce an overview of the existing computational 
 modeling tools for analyzing photonic devices\, in general\, and highlight
 ing their salient features and shortcomings.\n\nSpeaker(s): Salah Obayya\,
  \n\nAgenda: \n16:00 Presentation of IEEE-PS Sweden Chapter\n16:10 Prof. S
 alah Obayya [Zewail City of S &amp; T]\, “Computational Nanophotonics: Basic
 s\, Challenges and Future Perspectives”\n16:50 Q&amp;A\n17:00 End of webinar
 \n\nVirtual: https://events.vtools.ieee.org/m/303365
LOCATION:Virtual: https://events.vtools.ieee.org/m/303365
ORGANIZER:arne.alping@ieee.org
SEQUENCE:6
SUMMARY:IEEE DL webinar – Computational Nanophotonics
URL;VALUE=URI:https://events.vtools.ieee.org/m/303365
X-ALT-DESC:Description: &lt;br /&gt;&lt;p&gt;&lt;strong&gt;IEEE Photonics Society (PS) Sweden
  Chapter&lt;/strong&gt; is proud to present &lt;strong&gt;Prof. Salah Obayya&lt;/strong&gt;\
 , Zewail City of Science and Technology\, Giza\, Egypt\, as a speaker at t
 his webinar entitled &amp;ldquo\;&lt;span style=&quot;color: #3598db\;&quot;&gt;&lt;strong&gt;Comput
 ational Nanophotonics: Basics\, Challenges and Future Perspectives&lt;/strong
 &gt;&lt;/span&gt;&amp;rdquo\;. Prof. Obayya is one of six lecturers in the &lt;span style=
 &quot;color: #2200ff\;&quot;&gt;&lt;a style=&quot;color: #2200ff\;&quot; href=&quot;https://www.photonics
 society.org/education-careers/distinguished-lecturer-program&quot; target=&quot;_bla
 nk&quot; rel=&quot;noopener&quot;&gt;IEEE Photonics Society Distinguished Lecturer (DL) Prog
 ram&lt;/a&gt;&lt;/span&gt;. The program was designed to honor excellent speakers who h
 ave made technical\, industrial\, or entrepreneurial contributions to the 
 field of photonics and to enhance the technical programs of the IEEE Photo
 nics Society Chapters. Due to the Covid pandemic it will be a webinar.&lt;/p&gt;
 \n&lt;p&gt;Nanophotonics modelling for 21St century applications is becoming vit
 al. The computational modeling provides a fundamental understanding of the
  relying physics behind the operation of photonic devices. However\, compu
 tational modeling is still a challenge as some of the existing modeling te
 chniques fail to capture the correct behavior of nano-photonic devices. In
  this regard\, this talk will introduce an overview of the existing comput
 ational modeling tools for analyzing photonic devices\, in general\, and h
 ighlighting their salient features and shortcomings.&lt;/p&gt;&lt;br /&gt;&lt;br /&gt;Agenda
 : &lt;br /&gt;&lt;p&gt;&lt;strong&gt;16:00&lt;/strong&gt;&amp;nbsp\; Presentation of IEEE-PS Sweden Ch
 apter&lt;br /&gt;&lt;strong&gt;16:10&lt;/strong&gt; &amp;nbsp\;Prof. Salah Obayya [Zewail City o
 f S &amp;amp\; T]\, &amp;ldquo\;&lt;strong&gt;&lt;em&gt;Computational Nanophotonics: Basics\, 
 Challenges and Future Perspectives&lt;/em&gt;&lt;/strong&gt;&amp;rdquo\;&lt;br /&gt;&lt;strong&gt;16:5
 0&lt;/strong&gt;&amp;nbsp\; Q&amp;amp\;A&lt;br /&gt;&lt;strong&gt;17:00&lt;/strong&gt;&amp;nbsp\; End of webin
 ar&lt;/p&gt;
END:VEVENT
END:VCALENDAR

