BEGIN:VCALENDAR
VERSION:2.0
PRODID:IEEE vTools.Events//EN
CALSCALE:GREGORIAN
BEGIN:VTIMEZONE
TZID:US/Eastern
BEGIN:DAYLIGHT
DTSTART:20220313T030000
TZOFFSETFROM:-0500
TZOFFSETTO:-0400
RRULE:FREQ=YEARLY;BYDAY=2SU;BYMONTH=3
TZNAME:EDT
END:DAYLIGHT
BEGIN:STANDARD
DTSTART:20211107T010000
TZOFFSETFROM:-0400
TZOFFSETTO:-0500
RRULE:FREQ=YEARLY;BYDAY=1SU;BYMONTH=11
TZNAME:EST
END:STANDARD
END:VTIMEZONE
BEGIN:VEVENT
DTSTAMP:20220913T235730Z
UID:73C2BDC7-DEA6-4F02-8ED0-5CEC4BB9C05D
DTSTART;TZID=US/Eastern:20220210T130000
DTEND;TZID=US/Eastern:20220210T140000
DESCRIPTION:In this webinar\, TALK will be focussed on:\n\n- How AI/ML is u
 sed in today’s 5G mobile networks\n- The current status of the fundament
 al research for an AI-native air interface in 6G\n- How AI/ML outperforms 
 the classical signal processing approach and the potential performance gai
 ns\n- What role do test &amp; measurement solutions play in this context\n\nCo
 -sponsored by: IEEE North Jersey Section\n\nSpeaker(s): Andreas Roessler\,
  \n\nAgenda: \nFor login information and password\, please register by cli
 cking the online link: [Register to join](https://smc-link.s4hana.ondemand
 .com/eu/data-buffer/sap/public/cuan/link/100/7F5832BA260241361F2CD521BE808
 09EE94F7F8B?_V_=2&amp;_K11_=B36D651B11CA6C5F6565495062BE87A062347B03&amp;_L54AD1F2
 04_=c2NlbmFyaW89TUxDUEcmdGVuYW50PW15MzAyMDM5LnM0aGFuYS5vbmRlbWFuZC5jb20mdG
 FyZ2V0PWh0dHBzOi8vZXZlbnQub24yNC5jb20vd2NjL3IvMzU3Njk3OC83RkU2MTE1MDBENDE3
 QTVFNTEzMkI0QzI1NTU0QTRGRi8zMjczMzE3P3BhcnRuZXJyZWY9bmFfbTRjX19uZXdzbGV0dG
 Vy&amp;_K13_=363&amp;_K14_=4ab42ae3c3353202e18f483559844a626185fc2cef92fbe334a8ce6
 7fb6e6a02)\n\nBldg: Virtual \, Virtual Technical Webinar Meeting\, Virtual
 \, New Jersey\, United States
LOCATION:Bldg: Virtual \, Virtual Technical Webinar Meeting\, Virtual\, New
  Jersey\, United States
ORGANIZER:akpoddar@ieee.org
SEQUENCE:3
SUMMARY: The role of AI/ML in future wireless communication – an early te
 st &amp; measurement perspective
URL;VALUE=URI:https://events.vtools.ieee.org/m/303477
X-ALT-DESC:Description: &lt;br /&gt;&lt;p&gt;In this webinar\, TALK will be focussed on
 :&lt;/p&gt;\n&lt;ul&gt;\n&lt;li&gt;&lt;span lang=&quot;EN-US&quot;&gt;How AI/ML is used in today&amp;rsquo\;s 5G
  mobile networks&lt;/span&gt;&lt;/li&gt;\n&lt;li&gt;&lt;span lang=&quot;EN-US&quot;&gt;The current status of
  the fundamental research for an AI-native air interface in 6G&lt;/span&gt;&lt;/li&gt;
 \n&lt;li&gt;&lt;span lang=&quot;EN-US&quot;&gt;How AI/ML outperforms the classical signal proces
 sing approach and the potential performance gains&lt;/span&gt;&lt;/li&gt;\n&lt;li&gt;&lt;span l
 ang=&quot;EN-US&quot;&gt;What role do test &amp;amp\; measurement solutions play in this co
 ntext&lt;/span&gt;&lt;/li&gt;\n&lt;/ul&gt;&lt;br /&gt;&lt;br /&gt;Agenda: &lt;br /&gt;&lt;p&gt;&lt;span style=&quot;font-siz
 e: 12pt\;&quot;&gt;For login information and password\, please register by clickin
 g the online link: &lt;a class=&quot;yiv1804370546link&quot; title=&quot;Webinar: The role o
 f AI/ML in future wireless communication&quot; href=&quot;https://smc-link.s4hana.on
 demand.com/eu/data-buffer/sap/public/cuan/link/100/7F5832BA260241361F2CD52
 1BE80809EE94F7F8B?_V_=2&amp;amp\;_K11_=B36D651B11CA6C5F6565495062BE87A062347B0
 3&amp;amp\;_L54AD1F204_=c2NlbmFyaW89TUxDUEcmdGVuYW50PW15MzAyMDM5LnM0aGFuYS5vbm
 RlbWFuZC5jb20mdGFyZ2V0PWh0dHBzOi8vZXZlbnQub24yNC5jb20vd2NjL3IvMzU3Njk3OC83
 RkU2MTE1MDBENDE3QTVFNTEzMkI0QzI1NTU0QTRGRi8zMjczMzE3P3BhcnRuZXJyZWY9bmFfbT
 RjX19uZXdzbGV0dGVy&amp;amp\;_K13_=363&amp;amp\;_K14_=4ab42ae3c3353202e18f483559844
 a626185fc2cef92fbe334a8ce67fb6e6a02&quot; target=&quot;_blank&quot; rel=&quot;noopener norefer
 rer&quot;&gt;&lt;strong&gt;Register to join&lt;/strong&gt;&lt;/a&gt;&lt;/span&gt;&lt;/p&gt;
END:VEVENT
END:VCALENDAR

