BEGIN:VCALENDAR
VERSION:2.0
PRODID:IEEE vTools.Events//EN
CALSCALE:GREGORIAN
BEGIN:VTIMEZONE
TZID:America/Guayaquil
BEGIN:DAYLIGHT
DTSTART:20380118T221407
TZOFFSETFROM:-0500
TZOFFSETTO:-0500
RRULE:FREQ=YEARLY;BYDAY=3MO;BYMONTH=1
TZNAME:-05
END:DAYLIGHT
BEGIN:STANDARD
DTSTART:19930204T230000
TZOFFSETFROM:-0400
TZOFFSETTO:-0500
RRULE:FREQ=YEARLY;BYDAY=1TH;BYMONTH=2
TZNAME:-05
END:STANDARD
END:VTIMEZONE
BEGIN:VEVENT
DTSTAMP:20220221T191547Z
UID:FB562386-52FC-4A10-83E0-7FF019421238
DTSTART;TZID=America/Guayaquil:20220211T180000
DTEND;TZID=America/Guayaquil:20220211T190000
DESCRIPTION:La Rama Estudiantil IEEE ESPE Latacunga\, tiene el gusto de inv
 itar al evento organizado por el grupo de afinidad Women in Engineering Wi
 e\, que se a denominado: &quot;El Mundo necesita ciencia y la ciencia necesita 
 mujeres &quot; .\n\n¡Te esperamos!\n\nQuijano Ordonez y Hermanas Paez\, Latacu
 nga\, Cotopaxi\, Ecuador\, Virtual: https://events.vtools.ieee.org/m/30390
 9
LOCATION:Quijano Ordonez y Hermanas Paez\, Latacunga\, Cotopaxi\, Ecuador\,
  Virtual: https://events.vtools.ieee.org/m/303909
ORGANIZER:sb.espel@ieee.org
SEQUENCE:3
SUMMARY:El Mundo necesita ciencia y la ciencia necesita mujeres
URL;VALUE=URI:https://events.vtools.ieee.org/m/303909
X-ALT-DESC:Description: &lt;br /&gt;&lt;p&gt;La Rama Estudiantil IEEE ESPE Latacunga\, 
 tiene el gusto de invitar al evento organizado por el grupo de afinidad Wo
 men in Engineering Wie\, que se a denominado: &quot;El Mundo necesita ciencia y
  la ciencia necesita mujeres &quot; .&lt;br /&gt;&lt;br /&gt;&amp;iexcl\;Te esperamos!&amp;nbsp\;&lt;/
 p&gt;
END:VEVENT
END:VCALENDAR

