BEGIN:VCALENDAR
VERSION:2.0
PRODID:IEEE vTools.Events//EN
CALSCALE:GREGORIAN
BEGIN:VTIMEZONE
TZID:US/Eastern
BEGIN:DAYLIGHT
DTSTART:20220313T030000
TZOFFSETFROM:-0500
TZOFFSETTO:-0400
RRULE:FREQ=YEARLY;BYDAY=2SU;BYMONTH=3
TZNAME:EDT
END:DAYLIGHT
BEGIN:STANDARD
DTSTART:20211107T010000
TZOFFSETFROM:-0400
TZOFFSETTO:-0500
RRULE:FREQ=YEARLY;BYDAY=1SU;BYMONTH=11
TZNAME:EST
END:STANDARD
END:VTIMEZONE
BEGIN:VEVENT
DTSTAMP:20220218T192848Z
UID:127A74C1-D1B3-45D4-8E52-128E07E0A1F5
DTSTART;TZID=US/Eastern:20220215T120000
DTEND;TZID=US/Eastern:20220215T133000
DESCRIPTION:Winner of the IEEE Northern Virginia Chapter of the Year 2017\n
 Winner of the IEEE Northern Virginia Chapter of the Year 2018\n\nTHE REGUL
 ARLY SCHEDULED VTS MEETING WILL BE HELD ONLINE UNTIL FURTHER NOTICE\n\nYou
  will need a computer with speakers to watch the presentation. A microphon
 e and webcam are optional but encouraged.\n\nCost:  Free!\n\nPlease regist
 er by 5 pm Monday\, February 14\n\nWebinar login details will be provided 
 by 8:00pm on Monday\, February 14.\n\nCheck the Chapter website for update
 s:\nhttps://r2.ieee.org/dcnova-vts/\n\nSpeaker: John Ayers\, Vice Presiden
 t\, Operation\, Ayers Electronic Systems\n\nTopic: Rail Crossing Safety Mo
 nitoring\n\nNote: You only need to provide the required information (noted
  with a red *) on the registration web link\, BUT please help us out and l
 et us know if you are an IEEE or VTS member. Everyone is always welcome at
  our meetings and membership is NOT required\, but when we send meeting re
 ports to IEEE\, we need to list the number of IEEE/VTS members who partici
 pate.\n\nSpeaker(s): John Ayers\, \n\nAgenda: \n- 12:00 pm - Introductions
 /roll call and discussion of current rail industry news and happenings\n- 
 12:25pm - Election of Chapter officers for 2022\n- 12:30 pm - Technical pr
 esentation &amp; discussion\n- 01:30 pm - Adjourn\n\n-------------------------
 ----------------------\n\n-----------------------------------------------\
 n\nIEEE VTS CHAPTER OFFICERS:\n\n- Chair: David (DJ) Johnson\n- Vice-Chair
 : Reg Mitchell\n- Secretary: Karl Berger\, PE\n- Treasurer: Steve Bezner\,
  PE\n- Cashier: Ken Briers\n- Program Committee: Heather Roman\, Matt Nawn
 \n\nPlease help your VTS Chapter: If you would like to speak or have conta
 ct information for a speaker\, please contact Heather Roman &lt;hroman at [om
 ni-strategy dot com](http://omni-strategy.com/)&gt; or Matt Nawn &lt;matthew.naw
 n at dot.gov&gt;\n\nWashington\, District of Columbia\, United States\, Virtu
 al: https://events.vtools.ieee.org/m/304093
LOCATION:Washington\, District of Columbia\, United States\, Virtual: https
 ://events.vtools.ieee.org/m/304093
ORGANIZER:ieee.vts.dc@gmail.com
SEQUENCE:9
SUMMARY:VTS: Rail Crossing Safety Monitoring
URL;VALUE=URI:https://events.vtools.ieee.org/m/304093
X-ALT-DESC:Description: &lt;br /&gt;&lt;div&gt;&lt;span style=&quot;color: #0000ff\; background
 -color: #ffff00\;&quot;&gt;&lt;strong&gt;Winner of the IEEE Northern Virginia Chapter of
  the Year 2017&lt;/strong&gt;&lt;/span&gt;&lt;/div&gt;\n&lt;div&gt;&lt;span style=&quot;color: #0000ff\; b
 ackground-color: #ff9900\;&quot;&gt;&lt;strong&gt;Winner of the IEEE Northern Virginia C
 hapter of the Year 2018&lt;/strong&gt;&lt;/span&gt;&lt;/div&gt;\n&lt;div&gt;&amp;nbsp\;&lt;/div&gt;\n&lt;div&gt;&lt;s
 pan style=&quot;text-decoration: underline\;&quot;&gt;&lt;strong&gt;&lt;span style=&quot;background-c
 olor: #ffffff\;&quot;&gt;THE REGULARLY SCHEDULED VTS MEETING WILL BE HELD ONLINE U
 NTIL FURTHER NOTICE&lt;/span&gt;&lt;/strong&gt;&lt;/span&gt;&lt;/div&gt;\n&lt;div&gt;\n&lt;p&gt;You will need 
 a computer with speakers to watch the presentation.&amp;nbsp\; A microphone an
 d webcam are optional but encouraged.&lt;/p&gt;\n&lt;/div&gt;\n&lt;div&gt;\n&lt;div&gt;&amp;nbsp\;&lt;/di
 v&gt;\n&lt;div&gt;&lt;strong&gt;Cost:&amp;nbsp\;&lt;/strong&gt; Free!&lt;/div&gt;\n&lt;div&gt;&amp;nbsp\;&lt;/div&gt;\n&lt;d
 iv&gt;\n&lt;p&gt;&lt;span style=&quot;text-decoration: underline\;&quot;&gt;&lt;strong&gt;Please register
  by 5 pm Monday\, February 14&lt;/strong&gt;&lt;/span&gt;&lt;/p&gt;\n&lt;/div&gt;\n&lt;div&gt;Webinar lo
 gin details will be provided by 8:00pm on Monday\, February 14.&lt;/div&gt;\n&lt;di
 v&gt;&amp;nbsp\;&lt;/div&gt;\n&lt;div&gt;&lt;strong&gt;Check the Chapter website for updates:&lt;/stro
 ng&gt;&lt;/div&gt;\n&lt;div&gt;&lt;a href=&quot;https://r2.ieee.org/dcnova-vts/&quot; target=&quot;_blank&quot; 
 rel=&quot;noopener&quot;&gt;https://r2.ieee.org/dcnova-vts/&lt;/a&gt;&lt;/div&gt;\n&lt;/div&gt;\n&lt;div&gt;&amp;nb
 sp\;&lt;/div&gt;\n&lt;div&gt;\n&lt;p&gt;&lt;strong&gt;Speaker:&lt;/strong&gt;&amp;nbsp\; John Ayers\, Vice P
 resident\, Operation\, Ayers Electronic Systems&lt;/p&gt;\n&lt;p&gt;&lt;strong&gt;Topic:&lt;/st
 rong&gt; &amp;nbsp\;Rail Crossing Safety Monitoring&lt;/p&gt;\n&lt;p&gt;&lt;strong&gt;Note:&lt;/strong
 &gt; You only need to provide the required information (noted with a red *) o
 n&amp;nbsp\;the registration web link\, BUT please help us out and let us know
  if&amp;nbsp\;you are an IEEE or VTS member.&amp;nbsp\; Everyone is always welcome
  at our&amp;nbsp\;meetings and membership is NOT required\, but when we send m
 eeting&amp;nbsp\;reports to IEEE\, we need to list the number of IEEE/VTS memb
 ers who&amp;nbsp\;participate.&amp;nbsp\;&amp;nbsp\;&lt;/p&gt;\n&lt;/div&gt;&lt;br /&gt;&lt;br /&gt;Agenda: &lt;b
 r /&gt;&lt;ul&gt;\n&lt;li&gt;12:00 pm - Introductions/roll call and discussion of current
  rail industry news and happenings&lt;/li&gt;\n&lt;li&gt;12:25pm - Election of Chapter
  officers for 2022&lt;/li&gt;\n&lt;li&gt;12:30 pm - Technical presentation &amp;amp\; disc
 ussion&lt;/li&gt;\n&lt;li&gt;01:30 pm - Adjourn&lt;/li&gt;\n&lt;/ul&gt;\n&lt;p&gt;----------------------
 -------------------------&lt;/p&gt;\n&lt;p&gt;----------------------------------------
 -------&lt;/p&gt;\n&lt;p&gt;&lt;span style=&quot;color: #ff9900\;&quot;&gt;&lt;strong&gt;IEEE VTS CHAPTER OF
 FICERS:&lt;/strong&gt;&lt;br /&gt;&lt;br /&gt;&lt;/span&gt;&lt;/p&gt;\n&lt;ul&gt;\n&lt;li&gt;Chair: David (DJ) Johns
 on&lt;/li&gt;\n&lt;li&gt;Vice-Chair: Reg Mitchell&lt;/li&gt;\n&lt;li&gt;Secretary: Karl Berger\, P
 E&lt;/li&gt;\n&lt;li&gt;Treasurer: Steve Bezner\, PE&lt;/li&gt;\n&lt;li&gt;Cashier: Ken Briers&lt;/li
 &gt;\n&lt;li&gt;Program Committee: Heather Roman\, Matt Nawn&lt;/li&gt;\n&lt;/ul&gt;\n&lt;p&gt;&lt;stron
 g&gt;&lt;span style=&quot;color: #ff9900\;&quot;&gt;&lt;span style=&quot;color: #000000\;&quot;&gt;&lt;span styl
 e=&quot;text-decoration: underline\;&quot;&gt;Please help your VTS Chapter:&lt;/span&gt; If y
 ou would like to speak or have contact information for a speaker\,&amp;nbsp\;p
 lease contact&amp;nbsp\; Heather Roman&amp;nbsp\;&amp;lt\;hroman at&amp;nbsp\;&lt;a href=&quot;htt
 p://omni-strategy.com/&quot; target=&quot;_blank&quot; rel=&quot;noopener noreferrer&quot; data-saf
 eredirecturl=&quot;https://www.google.com/url?q=http://omni-strategy.com&amp;amp\;s
 ource=gmail&amp;amp\;ust=1586649713004000&amp;amp\;usg=AFQjCNEdJGLl4xfp1uW0i0c9GWS
 LNQ30Eg&quot;&gt;omni-strategy dot com&lt;/a&gt;&amp;gt\; or&lt;/span&gt;&lt;/span&gt;&amp;nbsp\;Matt Nawn &amp;
 lt\;matthew.nawn at dot.gov&amp;gt\;&lt;/strong&gt;&lt;/p&gt;
END:VEVENT
END:VCALENDAR

