BEGIN:VCALENDAR
VERSION:2.0
PRODID:IEEE vTools.Events//EN
CALSCALE:GREGORIAN
BEGIN:VTIMEZONE
TZID:America/Regina
BEGIN:STANDARD
DTSTART:19600424T030000
TZOFFSETFROM:-0700
TZOFFSETTO:-0600
TZNAME:CST
END:STANDARD
END:VTIMEZONE
BEGIN:VEVENT
DTSTAMP:20220331T142247Z
UID:345EA532-EF7D-4BB7-9AAA-E305E2A81D8C
DTSTART;TZID=America/Regina:20220215T170000
DTEND;TZID=America/Regina:20220215T183000
DESCRIPTION:IEEE South Saskatchewan Young Professionals is sharing the foll
 owing event on behalf of IEEE Dalhousie Student Branch and IEEE CAS YP:\n\
 nProfessional recruiters from Fortune 500\, and companies from across Cana
 da will be there to offer their expertise on how to write the perfect resu
 me. Take your career across the country or keep it local. With companies i
 n multiple industries including consulting\, shipbuilding\, manufacturing\
 , and energy\, you are sure to get the information you need to be a succes
 sful applicant in your field of interest. You do not want to miss this eve
 nt!\n\nSubmit your resume for the chance for your resume to be critiqued L
 IVE by professional recruiters.\n**Note: all personal information (name\, 
 phone number\, address &amp; email) will be hidden.\n\nCo-sponsored by: IEEE D
 alhousie Student Branch and IEEE CAS YP\n\nVirtual\, Nova Scotia\, Canada\
 , Virtual: https://events.vtools.ieee.org/m/304100
LOCATION:Virtual\, Nova Scotia\, Canada\, Virtual: https://events.vtools.ie
 ee.org/m/304100
ORGANIZER:jwhitelaw@saskpower.com
SEQUENCE:4
SUMMARY:Resume Roast
URL;VALUE=URI:https://events.vtools.ieee.org/m/304100
X-ALT-DESC:Description: &lt;br /&gt;&lt;p&gt;IEEE South Saskatchewan Young Professional
 s is sharing the following event on behalf of IEEE Dalhousie Student Branc
 h and IEEE CAS YP:&amp;nbsp\;&lt;/p&gt;\n&lt;div class=&quot;kvgmc6g5 cxmmr5t8 oygrvhab hcuk
 yx3x c1et5uql ii04i59q&quot;&gt;\n&lt;div dir=&quot;auto&quot;&gt;Professional recruiters from For
 tune 500\, and companies from across Canada will be there to offer their e
 xpertise on how to write the perfect resume. Take your career across the c
 ountry or keep it local. With companies in multiple industries including c
 onsulting\, shipbuilding\, manufacturing\, and energy\, you are sure to ge
 t the information you need to be a successful applicant in your field of i
 nterest. You do not want to miss this event!&lt;/div&gt;\n&lt;/div&gt;\n&lt;div class=&quot;cx
 mmr5t8 oygrvhab hcukyx3x c1et5uql o9v6fnle ii04i59q&quot;&gt;\n&lt;div dir=&quot;auto&quot;&gt;Sub
 mit your resume for the chance for your resume to be critiqued LIVE by pro
 fessional recruiters.&lt;/div&gt;\n&lt;div dir=&quot;auto&quot;&gt;**Note: all personal informat
 ion (name\, phone number\, address &amp;amp\; email) will be hidden.&lt;/div&gt;\n&lt;/
 div&gt;
END:VEVENT
END:VCALENDAR

