BEGIN:VCALENDAR
VERSION:2.0
PRODID:IEEE vTools.Events//EN
CALSCALE:GREGORIAN
BEGIN:VTIMEZONE
TZID:Canada/Mountain
BEGIN:DAYLIGHT
DTSTART:20220313T030000
TZOFFSETFROM:-0700
TZOFFSETTO:-0600
RRULE:FREQ=YEARLY;BYDAY=2SU;BYMONTH=3
TZNAME:MDT
END:DAYLIGHT
BEGIN:STANDARD
DTSTART:20211107T010000
TZOFFSETFROM:-0600
TZOFFSETTO:-0700
RRULE:FREQ=YEARLY;BYDAY=1SU;BYMONTH=11
TZNAME:MST
END:STANDARD
END:VTIMEZONE
BEGIN:VEVENT
DTSTAMP:20220314T145919Z
UID:1C0F329F-9923-4EFD-9FA4-6FD0D8B5A1BA
DTSTART;TZID=Canada/Mountain:20220310T180000
DTEND;TZID=Canada/Mountain:20220310T193000
DESCRIPTION:Program for Thursday\, March 10th\, 2022:\n\n• Team Introduct
 ions (5min)\n• Presentation (70min)\n• Q&amp;A (15min)\n\nAbstract\n\nGrou
 nding and bonding techniques are of the upmost importance in electrical sy
 stem performance and overall cost. But above all\, it plays an essential r
 ole in personnel safety and equipment protection. In this regard\, enginee
 rs should have a good understanding of grounding and bonding issues and pr
 actical solutions to the most common problems. Participants will gain a ge
 neral understanding of grounding and bonding methods\, common issues and p
 ractical solutions:\n\n- Understand the basic principles of grounding and 
 bonding of electrical systems and equipment\n- Know the applicable standar
 ds and design methods\n- Know how to measure and improve an existing groun
 ding and bonding system\n- Apply sound grounding and bonding techniques in
  designing new installations\n\n&quot;Fine Print&quot;\n\n- The webinar is free for 
 active IEEE members.\n- There is a $5 registration fee for people who are 
 not active IEEE members.\n\n- The fee must be paid in advance through the 
 registration process below (credit card through PayPal) in order to receiv
 e the link to the webinar.\n- Upon successful payment of the fee\, you wil
 l receive 2 emails: one from noreply_vtools@ieee.org with title &quot;IEEE vToo
 ls Reservation Confirmation\,&quot; and a second from service@intl.paypal.com w
 ith title &quot;Your payment to The Institute of Electrical and Electronics Eng
 ineers\, Inc.&quot; Both emails are required to ensure your payment was success
 fully processed.\n- Incomplete non-member registrations (payment not recei
 ved) will be deleted.\n- A link to the WebEx registration will be sent to 
 the email address you provided during this vTools registration one day bef
 ore the event (on March 09)\, by &quot;IEEE Northern Alberta&quot;. Please double ch
 eck the spelling of your email address when registering.\n- The mechanism 
 used to email the WebEx link requires you to accept the IEEE Privacy Polic
 y and consent to receiving emails from IEEE. If you have not opted-in to r
 eceive email communications from IEEE\, or have opted-out of email communi
 cations from IEEE in the past\, you might not receive the email containing
  the WebEx link.  IEEE members can go to https://www.ieee.org/ieee-privacy
 portal/app/ibp and ensure that &quot;Local IEEE Communications&quot; is checked unde
 r the category Communication Preferences &gt; Member Benefits. Former members
  and non members who opted-out of email communications in the past can con
 tact the [IEEE Support Center](https://supportcenter.ieee.org/) to find ou
 t how to adjust their email communication preferences.\n\nCo-sponsored by:
  BBA\n\nSpeaker(s): Dr. Ali Moshref\, Lead Power Systems Engineer\, \n\nVi
 rtual: https://events.vtools.ieee.org/m/304106
LOCATION:Virtual: https://events.vtools.ieee.org/m/304106
ORGANIZER:ayres@ieee.org
SEQUENCE:10
SUMMARY:IEEE NCS PES/IAS Webinar on Power System Grounding and Bonding
URL;VALUE=URI:https://events.vtools.ieee.org/m/304106
X-ALT-DESC:Description: &lt;br /&gt;&lt;p&gt;&lt;span style=&quot;font-size: 12pt\;&quot;&gt;&lt;strong&gt;&amp;n
 bsp\;Program for Thursday\, March 10th\, 2022:&lt;/strong&gt;&lt;/span&gt;&lt;/p&gt;\n&lt;p&gt;&amp;bu
 ll\; Team Introductions (5min)&lt;br /&gt;&amp;bull\; Presentation (70min)&lt;br /&gt;&amp;bul
 l\; Q&amp;amp\;A (15min)&amp;nbsp\;&lt;/p&gt;\n&lt;p&gt;&amp;nbsp\;&lt;/p&gt;\n&lt;p&gt;&lt;span style=&quot;font-size
 : 14pt\;&quot;&gt;&lt;strong&gt;Abstract&lt;/strong&gt;&lt;/span&gt;&lt;/p&gt;\n&lt;p&gt;Grounding and bonding t
 echniques are of the upmost importance in electrical system performance an
 d overall cost. But above all\, it plays an essential role in personnel sa
 fety and equipment protection. In this regard\, engineers should have a go
 od understanding of grounding and bonding issues and practical solutions t
 o the most common problems. Participants will gain a general understanding
  of grounding and bonding methods\, common issues and practical solutions:
 &lt;/p&gt;\n&lt;ul&gt;\n&lt;li&gt;Understand the basic principles of grounding and bonding o
 f electrical systems and equipment&lt;/li&gt;\n&lt;li&gt;Know the applicable standards
  and design methods&lt;/li&gt;\n&lt;li&gt;Know how to measure and improve an existing 
 grounding and bonding system&lt;/li&gt;\n&lt;li&gt;Apply sound grounding and bonding t
 echniques in designing new installations&lt;/li&gt;\n&lt;/ul&gt;\n&lt;p&gt;&amp;nbsp\;&lt;/p&gt;\n&lt;p&gt;&lt;
 span style=&quot;font-size: 12pt\;&quot;&gt;&amp;nbsp\;&lt;strong&gt;&quot;Fine Print&quot;&lt;/strong&gt;&lt;/span&gt;
 &lt;/p&gt;\n&lt;ul&gt;\n&lt;li&gt;The webinar is free for active IEEE members.&amp;nbsp\;&lt;/li&gt;\n
 &lt;li&gt;There is a $5 registration fee for people who are not active IEEE memb
 ers.&lt;/li&gt;\n&lt;ul&gt;\n&lt;li&gt;The fee must be paid in advance through the registrat
 ion process below (credit card through PayPal) in order to receive the lin
 k to the webinar.&lt;/li&gt;\n&lt;li&gt;Upon successful payment of the fee\, you will 
 receive 2 emails: one from&amp;nbsp\;&lt;em&gt;noreply_vtools@ieee.org&lt;/em&gt;&amp;nbsp\;wi
 th title &quot;IEEE vTools Reservation Confirmation\,&quot; and a second from&amp;nbsp\;
 &lt;em&gt;service@intl.paypal.com&lt;/em&gt;&amp;nbsp\;with title &quot;Your payment to The Ins
 titute of Electrical and Electronics Engineers\, Inc.&quot; Both emails are req
 uired to ensure your payment was successfully processed.&lt;/li&gt;\n&lt;li&gt;Incompl
 ete non-member registrations (payment not received) will be deleted.&lt;/li&gt;\
 n&lt;/ul&gt;\n&lt;li&gt;A link to the WebEx registration will be sent to the email add
 ress you provided during this vTools registration one day before the event
  (on &lt;span style=&quot;color: #e03e2d\;&quot;&gt;&lt;strong&gt;March 09&lt;/strong&gt;&lt;/span&gt;)\, by
  &quot;IEEE Northern Alberta&quot;.&amp;nbsp\; &lt;strong&gt;Please double check the spelling 
 of your email address when registering.&lt;/strong&gt;&lt;/li&gt;\n&lt;li&gt;&lt;strong&gt;The mec
 hanism used to email the WebEx link requires you to accept the IEEE Privac
 y Policy and consent to receiving emails from IEEE.&amp;nbsp\; If you have not
  opted-in to receive email communications from IEEE\, or have opted-out of
  email communications from IEEE in the past\, you might not receive the em
 ail containing the WebEx link.&amp;nbsp\;&lt;/strong&gt;&amp;nbsp\;IEEE members can&amp;nbsp
 \;go to&amp;nbsp\;&lt;a href=&quot;https://www.ieee.org/ieee-privacyportal/app/ibp&quot;&gt;ht
 tps://www.ieee.org/ieee-privacyportal/app/ibp&lt;/a&gt;&amp;nbsp\;and ensure that &quot;L
 ocal IEEE Communications&quot; is checked under the category Communication Pref
 erences &amp;gt\; Member Benefits.&amp;nbsp\; Former members and non members who o
 pted-out of email communications in the past can contact the&amp;nbsp\;&lt;a href
 =&quot;https://supportcenter.ieee.org/&quot;&gt;IEEE Support Center&lt;/a&gt;&amp;nbsp\;to find o
 ut how to adjust their email communication preferences.&lt;/li&gt;\n&lt;/ul&gt;
END:VEVENT
END:VCALENDAR

