BEGIN:VCALENDAR
VERSION:2.0
PRODID:IEEE vTools.Events//EN
CALSCALE:GREGORIAN
BEGIN:VTIMEZONE
TZID:America/Montreal
BEGIN:DAYLIGHT
DTSTART:20220313T030000
TZOFFSETFROM:-0500
TZOFFSETTO:-0400
RRULE:FREQ=YEARLY;BYDAY=2SU;BYMONTH=3
TZNAME:EDT
END:DAYLIGHT
BEGIN:STANDARD
DTSTART:20221106T010000
TZOFFSETFROM:-0400
TZOFFSETTO:-0500
RRULE:FREQ=YEARLY;BYDAY=1SU;BYMONTH=11
TZNAME:EST
END:STANDARD
END:VTIMEZONE
BEGIN:VEVENT
DTSTAMP:20220319T154944Z
UID:1E983408-71D5-48D2-B9B6-CD2CBFF59E56
DTSTART;TZID=America/Montreal:20220316T123000
DTEND;TZID=America/Montreal:20220316T140000
DESCRIPTION:Conformal Integration of antennas with solar panels has wide ap
 plications\, from small spacecraft\, Mars rovers\, to self-powered wireles
 s sensors. It is particularly beneficial when the surface real estate is a
  major challenge\, such as a CubeSat. A strategic integration not only red
 uces the development cost\, promotes a robust communication link\, but als
 o increases the mission capacity by allowing more science instruments to b
 e mounted on the CubeSat.\n\nThis lecture covers different conformal anten
 na designs for solar panel integration\, from UHF to Ka band. It includes 
 antennas integrated under solar cells\, around solar cells\, and optically
  transparent antennas integrated on top of solar cells. It also covers low
  gain and high gain design. The high gain design mainly focuses on reflect
 array antenna\, which may be beneficial to those who wishes to study the s
 ubject.\n\nAs these antennas are integrated with solar panel\, a unique an
 d complex subsystem\, effects of solar cells on the antenna and vice versa
  need to be analyzed and quantified. The lecture presents analysis of a ty
 pical space-certified solar cell\, extracted model\, experimental set-up t
 o quantify the interaction between solar cells and the integrated antennas
 .\n\nCo-sponsored by: Staracomm Montréal\, IEEE Young Professionals\, IEE
 E Montréal\n\nSpeaker(s): Prof. Reyhan Baktur\, \n\n2500 chemin de polyte
 chnique\, Polytechnique Montreal\, Montréal\, Quebec\, Canada\, H3T1j4\, 
 Virtual: https://events.vtools.ieee.org/m/304250
LOCATION:2500 chemin de polytechnique\, Polytechnique Montreal\, Montréal\
 , Quebec\, Canada\, H3T1j4\, Virtual: https://events.vtools.ieee.org/m/304
 250
ORGANIZER:mohammad.sharawi@polymtl.ca
SEQUENCE:6
SUMMARY:Integrated Solar-Pannel Antennas (APS Montréal)
URL;VALUE=URI:https://events.vtools.ieee.org/m/304250
X-ALT-DESC:Description: &lt;br /&gt;&lt;p&gt;Conformal Integration of antennas with sol
 ar panels has wide applications\, from small spacecraft\, Mars rovers\, to
  self-powered wireless sensors. It is particularly beneficial when the sur
 face real estate is a major challenge\, such as a CubeSat. A strategic int
 egration not only reduces the development cost\, promotes a robust communi
 cation link\, but also increases the mission capacity by allowing more sci
 ence instruments to be mounted on the CubeSat.&lt;/p&gt;\n&lt;p&gt;This lecture covers
  different conformal antenna designs for solar panel integration\, from UH
 F to Ka band. It includes antennas integrated under solar cells\, around s
 olar cells\, and optically transparent antennas integrated on top of solar
  cells. It also covers low gain and high gain design. The high gain design
  mainly focuses on reflectarray antenna\, which may be beneficial to those
  who wishes to study the subject.&lt;/p&gt;\n&lt;p&gt;As these antennas are integrated
  with solar panel\, a unique and complex subsystem\, effects of solar cell
 s on the antenna and vice versa need to be analyzed and quantified. The le
 cture presents analysis of a typical space-certified solar cell\, extracte
 d model\, experimental set-up to quantify the interaction between solar ce
 lls and the integrated antennas.&lt;/p&gt;
END:VEVENT
END:VCALENDAR

