BEGIN:VCALENDAR
VERSION:2.0
PRODID:IEEE vTools.Events//EN
CALSCALE:GREGORIAN
BEGIN:VTIMEZONE
TZID:America/Chicago
BEGIN:DAYLIGHT
DTSTART:20220313T030000
TZOFFSETFROM:-0600
TZOFFSETTO:-0500
RRULE:FREQ=YEARLY;BYDAY=2SU;BYMONTH=3
TZNAME:CDT
END:DAYLIGHT
BEGIN:STANDARD
DTSTART:20211107T010000
TZOFFSETFROM:-0500
TZOFFSETTO:-0600
RRULE:FREQ=YEARLY;BYDAY=1SU;BYMONTH=11
TZNAME:CST
END:STANDARD
END:VTIMEZONE
BEGIN:VEVENT
DTSTAMP:20220227T202026Z
UID:B1497C5B-7257-48AF-A5B8-870DD0F56D48
DTSTART;TZID=America/Chicago:20220219T111500
DTEND;TZID=America/Chicago:20220219T130000
DESCRIPTION:TOPIC: QC Elite Robotics Team Demonstration &amp; Pizza Lunch\n\nQC
  Elite Team 648 Robotics ( www.qcelite.com ) competes annually to inspire 
 its Quad Cities high school participants to be future engineers and scient
 ists. Each January\, teams across the country receive a robot kit\, and mu
 st design and build a robot over the next two months to compete against ro
 bots from other teams in the region\, leading to the international competi
 tion. Each year’s contest is new\, requiring distinctive robot behaviors
 . (2012’s robot shot baskets with a regulation basketball.)\n\nQC Elite 
 is nearing completion of its 2022 robot design and build. The team will be
  working all day Saturday\, Feb 19\, as the deadline approaches to seal th
 e robot from further development prior to competition. This year’s team 
 includes about 15 students and engineer advisors. This meeting will be inf
 ormal\, watching students put the finishing touches on the robot. The IEEE
  St. Ambrose University Student Branch is treating the team to pizza for l
 unch. Feel welcome to bring along family members or a young aspiring scien
 tist or engineer.\n\nThe team will display and explain the mechanical\, el
 ectrical\, and programming features of this year’s robot that distinguis
 h it from past competitions.\n\nLOCATION: Arconic Learning Center\, Manor 
 Drive\, Riverdale\, IA\n\nDIRECTIONS: The Arconic Learning center is locat
 ed on Manor Drive\, Riverdale\, Iowa\, just off US\n\n67 directly across f
 rom Alcoa. Driving northward from Bettendorf on US 67\, pass the stoplight
  entrance to the Arconic plant\, pass the stoplight at the fire station\, 
 and then turn left onto Manor drive. The parking lot entrance is the first
  right on Manor drive. Another approach is to exit Interstate 80 southward
  onto U.S. 67\, in which case one turns right onto Manor drive just before
  the stop light at the fire station.\n\nAGENDA: 11:15-Noon Arrival and inf
 ormal observation of team building activity\n\nNoon-12:30 Lunch - Assorted
  Pizza\, Chips\, Cookies\, Soft Drinks/Lemonade/Water\n\n12:30-1:00 Brief 
 presentation on this year’s design and build\n\nCOST: No Charge\n\nRESER
 VATIONS: Contact Gary Monnard\, the St. Ambrose IEEE Student Branch Counse
 lor at\n\nMonnardGary@sau.edu or (563) 333-6181.  Please indicate if you a
 re an IEEE member. (Reservations are not required\, but it helps to know a
 bout how many plan to attend.)\n\n(Donations to IEEE Student Branch are we
 lcome but not required)\n\nBldg: Arconic Learning Center (Formerly Alocoa 
 Learning Center)\, 4900 State St\, Riverdale\, Iowa\, United States\, 5272
 2
LOCATION:Bldg: Arconic Learning Center (Formerly Alocoa Learning Center)\, 
 4900 State St\, Riverdale\, Iowa\, United States\, 52722
ORGANIZER:MonnardGary@sau.edu
SEQUENCE:10
SUMMARY:IEEE Iowa-Illinois Section &amp; Computer Society Meeting – Saturday\
 , Feb 19\, 2022
URL;VALUE=URI:https://events.vtools.ieee.org/m/304438
X-ALT-DESC:Description: &lt;br /&gt;&lt;p&gt;&amp;nbsp\;&lt;/p&gt;\n&lt;p&gt;&lt;strong&gt;TOPIC:&lt;/strong&gt; &amp;n
 bsp\;&amp;nbsp\;&amp;nbsp\;&amp;nbsp\;&amp;nbsp\;&amp;nbsp\; &amp;nbsp\;&amp;nbsp\;&amp;nbsp\;&amp;nbsp\;&amp;nbsp
 \;&amp;nbsp\;&amp;nbsp\;&amp;nbsp\;&amp;nbsp\; &lt;strong&gt;QC Elite Robotics Team Demonstratio
 n &amp;amp\; Pizza Lunch&lt;/strong&gt;&lt;/p&gt;\n&lt;p&gt;&lt;strong&gt;&amp;nbsp\;&lt;/strong&gt;&lt;/p&gt;\n&lt;p&gt;QC 
 Elite Team 648 Robotics ( &lt;a href=&quot;http://www.qcelite.com&quot;&gt;www.qcelite.com
 &lt;/a&gt; ) competes annually to inspire its Quad Cities high school participan
 ts to be future engineers and scientists.&amp;nbsp\; Each January\, teams acro
 ss the country receive a robot kit\, and must design and build a robot ove
 r the next two months to compete against robots from other teams in the re
 gion\, leading to the international competition.&amp;nbsp\; Each year&amp;rsquo\;s
  contest is new\, requiring distinctive robot behaviors.&amp;nbsp\; (2012&amp;rsqu
 o\;s robot shot baskets with a regulation basketball.)&lt;/p&gt;\n&lt;p&gt;&amp;nbsp\;&lt;/p&gt;
 \n&lt;p&gt;QC Elite is nearing completion of its 2022 robot design and build.&amp;nb
 sp\; The team will be working all day Saturday\, Feb 19\, as the deadline 
 approaches to seal the robot from further development prior to competition
 . This year&amp;rsquo\;s team includes about 15 students and engineer advisors
 .&amp;nbsp\; This meeting will be informal\, watching students put the finishi
 ng touches on the robot.&amp;nbsp\; The IEEE St. Ambrose University Student Br
 anch is treating the team to pizza for lunch.&amp;nbsp\;&amp;nbsp\; Feel welcome t
 o bring along family members or a young aspiring scientist or engineer.&lt;/p
 &gt;\n&lt;p&gt;&amp;nbsp\;&lt;/p&gt;\n&lt;p&gt;The team will display and explain the mechanical\, e
 lectrical\, and programming features of this year&amp;rsquo\;s robot that dist
 inguish it from past competitions.&lt;/p&gt;\n&lt;p&gt;&lt;strong&gt;&amp;nbsp\;&lt;/strong&gt;&lt;/p&gt;\n&lt;
 p&gt;&lt;strong&gt;LOCATION:&lt;/strong&gt; &amp;nbsp\;&amp;nbsp\;&amp;nbsp\;&amp;nbsp\;&amp;nbsp\;&amp;nbsp\;&amp;nb
 sp\;&amp;nbsp\;&amp;nbsp\;&amp;nbsp\;&amp;nbsp\; &lt;strong&gt;Arconic Learning Center\, Manor D
 rive\, Riverdale\, IA&lt;/strong&gt;&lt;/p&gt;\n&lt;p&gt;&lt;strong&gt;&amp;nbsp\;&lt;/strong&gt;&lt;/p&gt;\n&lt;p&gt;&lt;s
 trong&gt;DIRECTIONS:&lt;/strong&gt;&amp;nbsp\;&amp;nbsp\;&amp;nbsp\;&amp;nbsp\;&amp;nbsp\;&amp;nbsp\;&amp;nbsp\
 ;&amp;nbsp\; The Arconic Learning center is located on Manor Drive\, Riverdale
 \, Iowa\, just off US&lt;/p&gt;\n&lt;p&gt;67 directly across from Alcoa.&amp;nbsp\; Drivin
 g northward from Bettendorf on US 67\, pass the stoplight entrance to the 
 Arconic plant\, pass the stoplight at the fire station\, and then turn lef
 t onto Manor drive. The parking lot entrance is the first right on Manor d
 rive.&amp;nbsp\; Another approach is to exit Interstate 80 southward onto U.S.
  67\, in which case one turns right onto Manor drive just before the stop 
 light at the fire station.&amp;nbsp\;&lt;/p&gt;\n&lt;p&gt;&amp;nbsp\;&amp;nbsp\;&amp;nbsp\;&amp;nbsp\;&amp;nbs
 p\;&amp;nbsp\;&amp;nbsp\;&amp;nbsp\;&amp;nbsp\;&amp;nbsp\;&amp;nbsp\;&amp;nbsp\;&amp;nbsp\;&amp;nbsp\;&amp;nbsp\;&amp;
 nbsp\;&amp;nbsp\;&amp;nbsp\;&amp;nbsp\;&amp;nbsp\;&amp;nbsp\;&amp;nbsp\;&amp;nbsp\;&amp;nbsp\;&amp;nbsp\;&amp;nbsp
 \;&amp;nbsp\;&amp;nbsp\;&amp;nbsp\;&amp;nbsp\;&amp;nbsp\;&amp;nbsp\;&amp;nbsp\;&amp;nbsp\;&amp;nbsp\;&lt;/p&gt;\n&lt;p&gt;
 &lt;strong&gt;AGENDA:&lt;/strong&gt;&amp;nbsp\;&amp;nbsp\;&amp;nbsp\;&amp;nbsp\;&amp;nbsp\;&amp;nbsp\;&amp;nbsp\;&amp;
 nbsp\;&amp;nbsp\;&amp;nbsp\;&amp;nbsp\;&amp;nbsp\;&amp;nbsp\;&amp;nbsp\;&amp;nbsp\;&amp;nbsp\; 11:15-Noon&amp;
 nbsp\;&amp;nbsp\;&amp;nbsp\;&amp;nbsp\; Arrival and informal observation of team build
 ing activity&amp;nbsp\;&amp;nbsp\;&lt;/p&gt;\n&lt;p&gt;Noon-12:30&amp;nbsp\;&amp;nbsp\; &amp;nbsp\; Lunch 
 - Assorted Pizza\, Chips\, Cookies\, Soft Drinks/Lemonade/Water&lt;/p&gt;\n&lt;p&gt;12
 :30-1:00&amp;nbsp\;&amp;nbsp\;&amp;nbsp\;&amp;nbsp\;&amp;nbsp\;&amp;nbsp\; Brief presentation on t
 his year&amp;rsquo\;s design and build&lt;br /&gt;&lt;br /&gt;&lt;/p&gt;\n&lt;p&gt;&lt;strong&gt;COST:&lt;/stro
 ng&gt;&amp;nbsp\;&amp;nbsp\;&amp;nbsp\;&amp;nbsp\; &amp;nbsp\;&amp;nbsp\;&amp;nbsp\;&amp;nbsp\;&amp;nbsp\;&amp;nbsp\;
 &amp;nbsp\;&amp;nbsp\;&amp;nbsp\;&amp;nbsp\;&amp;nbsp\;&amp;nbsp\;&amp;nbsp\;&amp;nbsp\;&amp;nbsp\;&amp;nbsp\;&amp;nbs
 p\;&amp;nbsp\; No Charge&lt;/p&gt;\n&lt;p&gt;&amp;nbsp\;&lt;/p&gt;\n&lt;p&gt;&lt;strong&gt;RESERVATIONS:&amp;nbsp\;&amp;
 nbsp\; &lt;/strong&gt;Contact Gary Monnard\, the St. Ambrose IEEE Student Branch
  Counselor at&lt;/p&gt;\n&lt;p&gt;&lt;a href=&quot;mailto:MonnardGary@sau.edu&quot;&gt;MonnardGary@sau
 .edu&lt;/a&gt; or (563) 333-6181. &lt;strong&gt;&amp;nbsp\;&lt;/strong&gt;Please indicate if you
  are an IEEE member.&amp;nbsp\; (Reservations are &lt;u&gt;not&lt;/u&gt; required\, but it
  helps to know about how many plan to attend.)&lt;/p&gt;\n&lt;p&gt;&amp;nbsp\;&lt;/p&gt;\n&lt;p&gt;&amp;nb
 sp\; &amp;nbsp\; &amp;nbsp\; &amp;nbsp\; &amp;nbsp\; &amp;nbsp\; &amp;nbsp\; &amp;nbsp\; &amp;nbsp\; &amp;nbsp
 \; &amp;nbsp\; &amp;nbsp\; &amp;nbsp\; &amp;nbsp\; &amp;nbsp\; &amp;nbsp\; &amp;nbsp\; &amp;nbsp\; &amp;nbsp\;
  &amp;nbsp\; &amp;nbsp\; &amp;nbsp\; &amp;nbsp\; &amp;nbsp\; &amp;nbsp\; &amp;nbsp\; &amp;nbsp\;(Donations
  to IEEE Student Branch are welcome but not required)&lt;/p&gt;
END:VEVENT
END:VCALENDAR

