BEGIN:VCALENDAR
VERSION:2.0
PRODID:IEEE vTools.Events//EN
CALSCALE:GREGORIAN
BEGIN:VTIMEZONE
TZID:Africa/Cairo
BEGIN:DAYLIGHT
DTSTART:20230428T010000
TZOFFSETFROM:+0200
TZOFFSETTO:+0300
RRULE:FREQ=YEARLY;BYDAY=-1FR;BYMONTH=4
TZNAME:EEST
END:DAYLIGHT
BEGIN:STANDARD
DTSTART:20140925T230000
TZOFFSETFROM:+0300
TZOFFSETTO:+0200
RRULE:FREQ=YEARLY;BYDAY=-1TH;BYMONTH=9
TZNAME:EET
END:STANDARD
END:VTIMEZONE
BEGIN:VEVENT
DTSTAMP:20220227T220410Z
UID:AF9BFE56-88FD-4E23-84D9-A22D47F22DD5
DTSTART;TZID=Africa/Cairo:20220214T110000
DTEND;TZID=Africa/Cairo:20220215T130000
DESCRIPTION:A two day hands-on snap circuit electronics workshop for 8-12 y
 ear pre-u students. The students will be introduced to the importance of e
 lectronics and electronic components in various modern technologies with e
 xamples. They will have various hands-on projects to work on using snap ci
 rcuits.\n\n[Volunteer STEM Portal logo]\n[View Program on the Volunteer ST
 EM Portal](https://stemportal-tryengineering.ieee.org/programs/detail/26b5
 65b7-0d95-4d26-be87-82b2e105485f)\n\nVirtual: https://events.vtools.ieee.o
 rg/m/304585
LOCATION:Virtual: https://events.vtools.ieee.org/m/304585
ORGANIZER:hshaban@vt.edu
SEQUENCE:3
SUMMARY:Hands-on Discover Snap Circuit Electronics Workshop
URL;VALUE=URI:https://events.vtools.ieee.org/m/304585
X-ALT-DESC:Description: &lt;br /&gt;&lt;p&gt;A two day hands-on snap circuit electronic
 s workshop for 8-12 year pre-u students. The students will be introduced t
 o the importance of electronics and electronic components in various moder
 n technologies with examples. They will have various hands-on projects to 
 work on using snap circuits.&lt;br /&gt;&lt;br /&gt;&lt;/p&gt;\n&lt;div style=&quot;margin: 15px\; p
 adding: 0 0 0 0\; vertical-align: middle\; font-family: &#39;Open Sans&#39;\,Arial
 \,Calibri\,Helvetica\,sans-serif\; font-style: normal\; font-weight: norma
 l\; font-size: 16px\; line-height: 26px\; color: #57565b\;&quot;&gt;\n&lt;div style=&quot;
 margin: 15px\; padding: 40px 25px 25px 25px\; border: 0px solid #4d4d4d\; 
 border-radius: 5px\; float: left\;&quot;&gt;\n&lt;div style=&quot;text-align: center\;&quot;&gt;&lt;i
 mg style=&quot;display: block\; width: 150px\; margin: 0 auto\;&quot; src=&quot;https://s
 temportal-tryengineering.ieee.org/assets/images/email/volstem-sm-logo.png&quot;
  alt=&quot;Volunteer STEM Portal logo&quot; /&gt;&lt;/div&gt;\n&lt;div&gt;&lt;a style=&quot;text-decoration
 : none\; display: block\; margin: 5px 0 0 0\; line-height: 18px\; padding:
  10px\; border-radius: 5px\; width: 170px\; font-size: 16px\;&quot; href=&quot;https
 ://stemportal-tryengineering.ieee.org/programs/detail/26b565b7-0d95-4d26-b
 e87-82b2e105485f&quot; target=&quot;_blank&quot; rel=&quot;noopener&quot; data-saferedirecturl=&quot;htt
 ps://stemportal-tryengineering.ieee.org/programs/detail/26b565b7-0d95-4d26
 -be87-82b2e105485f&quot;&gt;View Program on the Volunteer STEM Portal&lt;/a&gt;&lt;/div&gt;\n&lt;
 /div&gt;\n&lt;/div&gt;
END:VEVENT
END:VCALENDAR

