BEGIN:VCALENDAR
VERSION:2.0
PRODID:IEEE vTools.Events//EN
CALSCALE:GREGORIAN
BEGIN:VEVENT
DTSTAMP:20220405T032715Z
UID:F80F8952-671A-4C0D-81D9-5E241BF9892D
DTSTART;TZID=Etc/GMT-5:20220222T190000
DTEND;TZID=Etc/GMT-5:20220222T200000
DESCRIPTION:Webinar\n\nSpeaker(s): Renzo Hurtado\, \n\nLima\, Lima\, Peru\,
  Virtual: https://events.vtools.ieee.org/m/304631
LOCATION:Lima\, Lima\, Peru\, Virtual: https://events.vtools.ieee.org/m/304
 631
ORGANIZER:esmeralda.asurza@ieee.org
SEQUENCE:5
SUMMARY:5G Standardization\, New Radio and Next-Generation Core
URL;VALUE=URI:https://events.vtools.ieee.org/m/304631
X-ALT-DESC:Description: &lt;br /&gt;&lt;p&gt;Webinar&lt;/p&gt;
END:VEVENT
END:VCALENDAR

