BEGIN:VCALENDAR
VERSION:2.0
PRODID:IEEE vTools.Events//EN
CALSCALE:GREGORIAN
BEGIN:VTIMEZONE
TZID:Europe/Zurich
BEGIN:DAYLIGHT
DTSTART:20220327T030000
TZOFFSETFROM:+0100
TZOFFSETTO:+0200
RRULE:FREQ=YEARLY;BYDAY=-1SU;BYMONTH=3
TZNAME:CEST
END:DAYLIGHT
BEGIN:STANDARD
DTSTART:20211031T020000
TZOFFSETFROM:+0200
TZOFFSETTO:+0100
RRULE:FREQ=YEARLY;BYDAY=-1SU;BYMONTH=10
TZNAME:CET
END:STANDARD
END:VTIMEZONE
BEGIN:VEVENT
DTSTAMP:20230123T071356Z
UID:272664C2-4E47-4876-9564-D09DC8439B6C
DTSTART;TZID=Europe/Zurich:20220303T160000
DTEND;TZID=Europe/Zurich:20220303T180000
DESCRIPTION:ExCom Meeting\n\nAgenda: \n1.Acceptance of the Agenda of the cu
 rrent meeting (All)\n\n2.Acceptance of the Minutes of the last ExCom meeti
 ng (All)\n\n3.Date\, time and location of the next ExCom meeting (All)\n\n
 4.SIGHT Workshop (Ning Wang\, all)\n\na)Funding request for workshop over 
 500CHF.\n\n5.General Assembly: Proposals Wanted for June 2022 (All)\n\n6.U
 pdate ENTER Museum Project (Hugo Wyss\, all)\n\n7.Request FabLab Winti for
  Sponsorship (Thomas Hanselmann\, all)\n\n8.Reports from Chapters\n\n9.Rep
 orts from Affinity Groups (YP\, WiE\, Life Members) and Working Groups (SI
 GHT/blockchain)\n\n10.Reports from officers &amp; Student Branches (topics not
  listed above)\n\na)Treasurer: Financial Requirements (Mathieu Coustans)\n
 \n11.Any other business (all)\n\nVirtual: https://events.vtools.ieee.org/m
 /304982
LOCATION:Virtual: https://events.vtools.ieee.org/m/304982
ORGANIZER:thomas.hanselmann.ieee@outlook.com
SEQUENCE:5
SUMMARY:ExCom Meeting
URL;VALUE=URI:https://events.vtools.ieee.org/m/304982
X-ALT-DESC:Description: &lt;br /&gt;&lt;p&gt;ExCom Meeting&lt;/p&gt;&lt;br /&gt;&lt;br /&gt;Agenda: &lt;br /
 &gt;&lt;p&gt;1.&lt;strong&gt;Acceptance of the Agenda of the current meeting &lt;/strong&gt;(Al
 l)&lt;/p&gt;\n&lt;p&gt;2.&lt;strong&gt;Acceptance of the Minutes of the last ExCom meeting &lt;
 /strong&gt;(All)&lt;/p&gt;\n&lt;p&gt;3.&lt;strong&gt;Date\, time and location of the next ExCom
  meeting &lt;/strong&gt;(All)&lt;/p&gt;\n&lt;p&gt;4.&lt;strong&gt;SIGHT Workshop &lt;/strong&gt;(Ning Wa
 ng\, all)&lt;/p&gt;\n&lt;p&gt;&amp;nbsp\; &amp;nbsp\; a)&lt;strong&gt;Funding request for workshop o
 ver 500CHF.&lt;/strong&gt;&lt;/p&gt;\n&lt;p&gt;5.&lt;strong&gt;General Assembly: Proposals Wanted 
 for June 2022 &lt;/strong&gt;(All)&lt;/p&gt;\n&lt;p&gt;6.&lt;strong&gt;Update ENTER Museum Project
  &lt;/strong&gt;(Hugo Wyss\, all)&lt;/p&gt;\n&lt;p&gt;7.&lt;strong&gt;Request FabLab &lt;/strong&gt;&lt;str
 ong&gt;Winti&lt;/strong&gt;&lt;strong&gt; for Sponsorship &lt;/strong&gt;(Thomas Hanselmann\, a
 ll)&lt;/p&gt;\n&lt;p&gt;8.&lt;strong&gt;Reports from Chapters &lt;/strong&gt;&lt;/p&gt;\n&lt;p&gt;9.&lt;strong&gt;Re
 ports from Affinity Groups &lt;/strong&gt;(YP\, WiE\, Life Members) and &lt;strong&gt;
 Working Groups &lt;/strong&gt;(SIGHT/blockchain)&lt;/p&gt;\n&lt;p&gt;10.&lt;strong&gt;Reports from
  officers &lt;/strong&gt;&lt;strong&gt;&amp;amp\; Student Branches &lt;/strong&gt;(topics not li
 sted above)&lt;/p&gt;\n&lt;p&gt;&amp;nbsp\; &amp;nbsp\; &amp;nbsp\;a)&lt;strong&gt;Treasurer: Financial 
 Requirements &lt;/strong&gt;(Mathieu Coustans)&lt;/p&gt;\n&lt;p&gt;11.&lt;strong&gt;Any other busi
 ness&lt;/strong&gt; (all)&lt;/p&gt;
END:VEVENT
END:VCALENDAR

