BEGIN:VCALENDAR
VERSION:2.0
PRODID:IEEE vTools.Events//EN
CALSCALE:GREGORIAN
BEGIN:VTIMEZONE
TZID:America/Buenos_Aires
BEGIN:DAYLIGHT
DTSTART:20380119T001407
TZOFFSETFROM:-0300
TZOFFSETTO:-0300
RRULE:FREQ=YEARLY;BYDAY=3TU;BYMONTH=1
TZNAME:-03
END:DAYLIGHT
BEGIN:STANDARD
DTSTART:20090314T230000
TZOFFSETFROM:-0200
TZOFFSETTO:-0300
RRULE:FREQ=YEARLY;BYDAY=2SA;BYMONTH=3
TZNAME:-03
END:STANDARD
END:VTIMEZONE
BEGIN:VEVENT
DTSTAMP:20230417T215452Z
UID:0DB099A8-EE24-427A-9C12-D62A3447EC9C
DTSTART;TZID=America/Buenos_Aires:20220401T211300
DTEND;TZID=America/Buenos_Aires:20220403T201300
DESCRIPTION:HackIT-BA es una hackathon anual que se realiza en el ITBA y ta
 mbién online\, en el que 15-25 equipos de 3 personas viven 36 horas de pu
 ra intensidad\, programando un proyecto práctico que pueda mejorar la cal
 idad de vida de sus pares en la Argentina y en el mundo\, con ideas innova
 doras y únicas. Aprender\, crear y programar es uno de los mantras de la 
 competencia.\n\nINSCRIBITE HASTA EL 01/03 EN https://hackitba.vercel.app\n
 \nVirtual: https://events.vtools.ieee.org/m/305047
LOCATION:Virtual: https://events.vtools.ieee.org/m/305047
ORGANIZER:computersociety@itba.edu.ar
SEQUENCE:3
SUMMARY:HackIT-BA
URL;VALUE=URI:https://events.vtools.ieee.org/m/305047
X-ALT-DESC:Description: &lt;br /&gt;&lt;p&gt;&lt;span class=&quot;chakra-text css-c6d797&quot;&gt;HackI
 T-BA&lt;/span&gt;&amp;nbsp\;es una hackathon anual que se realiza en el ITBA y tambi
 &amp;eacute\;n online\, en el que 15-25 equipos de 3 personas viven&amp;nbsp\;&lt;spa
 n class=&quot;chakra-text css-c6d797&quot;&gt;36 horas&lt;/span&gt;&amp;nbsp\;de pura intensidad\
 , programando un proyecto pr&amp;aacute\;ctico que pueda mejorar la calidad de
  vida de sus pares en la Argentina y en el mundo\, con ideas innovadoras y
  &amp;uacute\;nicas. Aprender\, crear y programar es uno de los mantras de la 
 competencia.&lt;/p&gt;\n&lt;p&gt;INSCRIBITE HASTA EL 01/03 EN &lt;a title=&quot;INSCRIPCI&amp;Oacu
 te\;N&quot; href=&quot;https://hackitba.vercel.app&quot;&gt;https://hackitba.vercel.app&lt;/a&gt;&lt;
 /p&gt;
END:VEVENT
END:VCALENDAR

